Workbook

Sheet College
B1: College All-Time
B2: (last edited 11/2/2026)
B4: Name | C4: Correct | D4: Total | E4: % | F4: S# | G4: ATC | H4: AT% | J4: 2026 Correct | K4: 2026 Total | L4: 2025 Correct | M4: 2025 Total | N4: 2024 Correct | O4: 2024 Total | P4: 2023 Correct | Q4: 2023 Total | R4: 2022 Correct | S4: 2022 Total | T4: 2021 Correct | U4: 2021 Total | V4: 2020 Correct | W4: 2020 Total | X4: 2019 Correct | Y4: 2019 Total | Z4: 2018 Correct | AA4: 2018 Total | AB4: 2017 Correct | AC4: 2017 Total | AD4: 2016 Correct | AE4: 2016 Total | AF4: 2015 Correct | AG4: 2015 Total
A5: 1 | B5: Alsobrook, Luke | C5: =J5+L5+N5+P5+R5+T5+V5+X5+Z5+AB5+AD5+AF5 -> 1118.5 | D5: =K5+M5+O5+Q5+S5+U5+W5+Y5+AA5+AC5+AE5+AG5 -> 2283 | E5: =C5/D5 -> 0.48992554 | F5: =COUNT(J5:AAM5)/2 -> 8 | G5: =INDEX(Records!$B$4:$D$102,MATCH(B5,Records!$C$4:$C$102,0),1) -> 21st | H5: =INDEX(Records!$F$4:$H$102,MATCH(B5,Records!$G$4:$G$102,0),1) -> 27th | J5: =VLOOKUP(B5,'2026'!$B$3:$F$92,2, FALSE) -> 83 | K5: =VLOOKUP(B5,'2026'!$B$3:$F$92,3, FALSE) -> 180 | L5: =VLOOKUP(B5,'2025'!$B$3:$F$100,2, FALSE) -> 133 | M5: =VLOOKUP(B5,'2025'!$B$3:$F$100,3, FALSE) -> 285 | N5: =VLOOKUP(B5,'2024'!$B$3:$F$100,2, FALSE) -> 151 | O5: =VLOOKUP(B5,'2024'!$B$3:$F$100,3, FALSE) -> 310 | P5: =VLOOKUP(B5,'2023'!$B$3:$F$100,2, FALSE) -> 150.5 | Q5: =VLOOKUP(B5,'2023'!$B$3:$F$100,3, FALSE) -> 290 | R5: =VLOOKUP(B5,'2022'!$B$3:$F$100,2, FALSE) -> 133.5 | S5: =VLOOKUP(B5,'2022'!$B$3:$F$100,3, FALSE) -> 290 | T5: =VLOOKUP(B5,'2021'!$B$3:$F$100,2, FALSE) -> 150.5 | U5: =VLOOKUP(B5,'2021'!$B$3:$F$100,3, FALSE) -> 288 | AB5: =VLOOKUP(B5,'2017'!$B$3:$F$100,2, FALSE) -> 141.5 | AC5: =VLOOKUP(B5,'2017'!$B$3:$F$100,3, FALSE) -> 290 | AF5: =VLOOKUP(B5,'2015'!$B$3:$F$100,2, FALSE) -> 175.5 | AG5: =VLOOKUP(B5,'2015'!$B$3:$F$100,3, FALSE) -> 350
A6: 2 | B6: Alvarez, Justin | C6: =J6+L6+N6+P6+R6+T6+V6+X6+Z6+AB6+AD6+AF6 -> 487 | D6: =K6+M6+O6+Q6+S6+U6+W6+Y6+AA6+AC6+AE6+AG6 -> 1082 | E6: =C6/D6 -> 0.45009242 | F6: =COUNT(J6:AAM6)/2 -> 4 | G6: =INDEX(Records!$B$4:$D$102,MATCH(B6,Records!$C$4:$C$102,0),1) -> 35th-T | H6: =INDEX(Records!$F$4:$H$102,MATCH(B6,Records!$G$4:$G$102,0),1) -> 60th | V6: =VLOOKUP(B6,'2020'!$B$3:$F$100,2, FALSE) -> 126 | W6: =VLOOKUP(B6,'2020'!$B$3:$F$100,3, FALSE) -> 292 | X6: =VLOOKUP(B6,'2019'!$B$3:$F$100,2, FALSE) -> 146.5 | Y6: =VLOOKUP(B6,'2019'!$B$3:$F$100,3, FALSE) -> 300 | Z6: =VLOOKUP(B6,'2018'!$B$3:$F$100,2, FALSE) -> 76 | AA6: =VLOOKUP(B6,'2018'!$B$3:$F$100,3, FALSE) -> 200 | AB6: =VLOOKUP(B6,'2017'!$B$3:$F$100,2, FALSE) -> 138.5 | AC6: =VLOOKUP(B6,'2017'!$B$3:$F$100,3, FALSE) -> 290
A7: 3 | B7: Anthis, Michael | C7: =J7+L7+N7+P7+R7+T7+V7+X7+Z7+AB7+AD7+AF7 -> 137 | D7: =K7+M7+O7+Q7+S7+U7+W7+Y7+AA7+AC7+AE7+AG7 -> 310 | E7: =C7/D7 -> 0.44193548 | F7: =COUNT(J7:AAM7)/2 -> 1 | G7: =INDEX(Records!$B$4:$D$102,MATCH(B7,Records!$C$4:$C$102,0),1) -> 64th | H7: =INDEX(Records!$F$4:$H$102,MATCH(B7,Records!$G$4:$G$102,0),1) -> 62nd | N7: =VLOOKUP(B7,'2024'!$B$3:$F$100,2, FALSE) -> 137 | O7: =VLOOKUP(B7,'2024'!$B$3:$F$100,3, FALSE) -> 310
A8: 4 | B8: Baze, Drew | C8: =J8+L8+N8+P8+R8+T8+V8+X8+Z8+AB8+AD8+AF8 -> 1525 | D8: =K8+M8+O8+Q8+S8+U8+W8+Y8+AA8+AC8+AE8+AG8 -> 3105 | E8: =C8/D8 -> 0.49114332 | F8: =COUNT(J8:AAM8)/2 -> 11 | G8: =INDEX(Records!$B$4:$D$102,MATCH(B8,Records!$C$4:$C$102,0),1) -> 9th | H8: =INDEX(Records!$F$4:$H$102,MATCH(B8,Records!$G$4:$G$102,0),1) -> 23rd | J8: =VLOOKUP(B8,'2026'!$B$3:$F$92,2, FALSE) -> 86 | K8: =VLOOKUP(B8,'2026'!$B$3:$F$92,3, FALSE) -> 180 | L8: =VLOOKUP(B8,'2025'!$B$3:$F$100,2, FALSE) -> 132 | M8: =VLOOKUP(B8,'2025'!$B$3:$F$100,3, FALSE) -> 285 | N8: =VLOOKUP(B8,'2024'!$B$3:$F$100,2, FALSE) -> 152 | O8: =VLOOKUP(B8,'2024'!$B$3:$F$100,3, FALSE) -> 310 | P8: =VLOOKUP(B8,'2023'!$B$3:$F$100,2, FALSE) -> 156.5 | Q8: =VLOOKUP(B8,'2023'!$B$3:$F$100,3, FALSE) -> 290 | R8: =VLOOKUP(B8,'2022'!$B$3:$F$100,2, FALSE) -> 138.5 | S8: =VLOOKUP(B8,'2022'!$B$3:$F$100,3, FALSE) -> 290 | T8: =VLOOKUP(B8,'2021'!$B$3:$F$100,2, FALSE) -> 142.5 | U8: =VLOOKUP(B8,'2021'!$B$3:$F$100,3, FALSE) -> 288 | V8: =VLOOKUP(B8,'2020'!$B$3:$F$100,2, FALSE) -> 141 | W8: =VLOOKUP(B8,'2020'!$B$3:$F$100,3, FALSE) -> 292 | X8: =VLOOKUP(B8,'2019'!$B$3:$F$100,2, FALSE) -> 160.5 | Y8: =VLOOKUP(B8,'2019'!$B$3:$F$100,3, FALSE) -> 300 | Z8: =VLOOKUP(B8,'2018'!$B$3:$F$100,2, FALSE) -> 134.5 | AA8: =VLOOKUP(B8,'2018'!$B$3:$F$100,3, FALSE) -> 290 | AB8: =VLOOKUP(B8,'2017'!$B$3:$F$100,2, FALSE) -> 145.5 | AC8: =VLOOKUP(B8,'2017'!$B$3:$F$100,3, FALSE) -> 290 | AD8: =VLOOKUP(B8,'2016'!$B$3:$F$100,2, FALSE) -> 136 | AE8: =VLOOKUP(B8,'2016'!$B$3:$F$100,3, FALSE) -> 290
A9: 5 | B9: Beene, Jordan | C9: =J9+L9+N9+P9+R9+T9+V9+X9+Z9+AB9+AD9+AF9 -> 165.5 | D9: =K9+M9+O9+Q9+S9+U9+W9+Y9+AA9+AC9+AE9+AG9 -> 350 | E9: =C9/D9 -> 0.47285714 | F9: =COUNT(J9:AAM9)/2 -> 1 | G9: =INDEX(Records!$B$4:$D$102,MATCH(B9,Records!$C$4:$C$102,0),1) -> 54th | H9: =INDEX(Records!$F$4:$H$102,MATCH(B9,Records!$G$4:$G$102,0),1) -> 47th | AF9: =VLOOKUP(B9,'2015'!$B$3:$F$100,2, FALSE) -> 165.5 | AG9: =VLOOKUP(B9,'2015'!$B$3:$F$100,3, FALSE) -> 350
A10: 6 | B10: Beene, Virgil | C10: =J10+L10+N10+P10+R10+T10+V10+X10+Z10+AB10+AD10+AF10 -> 361 | D10: =K10+M10+O10+Q10+S10+U10+W10+Y10+AA10+AC10+AE10+AG10 -> 779 | E10: =C10/D10 -> 0.46341463 | F10: =COUNT(J10:AAM10)/2 -> 3 | G10: =INDEX(Records!$B$4:$D$102,MATCH(B10,Records!$C$4:$C$102,0),1) -> 40th | H10: =INDEX(Records!$F$4:$H$102,MATCH(B10,Records!$G$4:$G$102,0),1) -> 52nd | Z10: =VLOOKUP(B10,'2018'!$B$3:$F$100,2, FALSE) -> 131.5 | AA10: =VLOOKUP(B10,'2018'!$B$3:$F$100,3, FALSE) -> 290 | AD10: =VLOOKUP(B10,'2016'!$B$3:$F$100,2, FALSE) -> 49 | AE10: =VLOOKUP(B10,'2016'!$B$3:$F$100,3, FALSE) -> 139 | AF10: =VLOOKUP(B10,'2015'!$B$3:$F$100,2, FALSE) -> 180.5 | AG10: =VLOOKUP(B10,'2015'!$B$3:$F$100,3, FALSE) -> 350
A11: 7 | B11: Bradley, Eden | C11: =J11+L11+N11+P11+R11+T11+V11+X11+Z11+AB11+AD11+AF11 -> 125.5 | D11: =K11+M11+O11+Q11+S11+U11+W11+Y11+AA11+AC11+AE11+AG11 -> 290 | E11: =C11/D11 -> 0.43275862 | F11: =COUNT(J11:AAM11)/2 -> 1 | G11: =INDEX(Records!$B$4:$D$102,MATCH(B11,Records!$C$4:$C$102,0),1) -> 66th | H11: =INDEX(Records!$F$4:$H$102,MATCH(B11,Records!$G$4:$G$102,0),1) -> 65th | Z11: =VLOOKUP(B11,'2018'!$B$3:$F$100,2, FALSE) -> 125.5 | AA11: =VLOOKUP(B11,'2018'!$B$3:$F$100,3, FALSE) -> 290
A12: 8 | B12: Bradley, Ken | C12: =J12+L12+N12+P12+R12+T12+V12+X12+Z12+AB12+AD12+AF12 -> 1714.5 | D12: =K12+M12+O12+Q12+S12+U12+W12+Y12+AA12+AC12+AE12+AG12 -> 3455 | E12: =C12/D12 -> 0.49623734 | F12: =COUNT(J12:AAM12)/2 -> 12 | G12: =INDEX(Records!$B$4:$D$102,MATCH(B12,Records!$C$4:$C$102,0),1) -> 2nd | H12: =INDEX(Records!$F$4:$H$102,MATCH(B12,Records!$G$4:$G$102,0),1) -> 14th | J12: =VLOOKUP(B12,'2026'!$B$3:$F$92,2, FALSE) -> 87 | K12: =VLOOKUP(B12,'2026'!$B$3:$F$92,3, FALSE) -> 180 | L12: =VLOOKUP(B12,'2025'!$B$3:$F$100,2, FALSE) -> 129 | M12: =VLOOKUP(B12,'2025'!$B$3:$F$100,3, FALSE) -> 285 | N12: =VLOOKUP(B12,'2024'!$B$3:$F$100,2, FALSE) -> 158 | O12: =VLOOKUP(B12,'2024'!$B$3:$F$100,3, FALSE) -> 310 | P12: =VLOOKUP(B12,'2023'!$B$3:$F$100,2, FALSE) -> 153.5 | Q12: =VLOOKUP(B12,'2023'!$B$3:$F$100,3, FALSE) -> 290 | R12: =VLOOKUP(B12,'2022'!$B$3:$F$100,2, FALSE) -> 139.5 | S12: =VLOOKUP(B12,'2022'!$B$3:$F$100,3, FALSE) -> 290 | T12: =VLOOKUP(B12,'2021'!$B$3:$F$100,2, FALSE) -> 138.5 | U12: =VLOOKUP(B12,'2021'!$B$3:$F$100,3, FALSE) -> 288 | V12: =VLOOKUP(B12,'2020'!$B$3:$F$100,2, FALSE) -> 144 | W12: =VLOOKUP(B12,'2020'!$B$3:$F$100,3, FALSE) -> 292 | X12: =VLOOKUP(B12,'2019'!$B$3:$F$100,2, FALSE) -> 156.5 | Y12: =VLOOKUP(B12,'2019'!$B$3:$F$100,3, FALSE) -> 300 | Z12: =VLOOKUP(B12,'2018'!$B$3:$F$100,2, FALSE) -> 137.5 | AA12: =VLOOKUP(B12,'2018'!$B$3:$F$100,3, FALSE) -> 290 | AB12: =VLOOKUP(B12,'2017'!$B$3:$F$100,2, FALSE) -> 149.5 | AC12: =VLOOKUP(B12,'2017'!$B$3:$F$100,3, FALSE) -> 290 | AD12: =VLOOKUP(B12,'2016'!$B$3:$F$100,2, FALSE) -> 135 | AE12: =VLOOKUP(B12,'2016'!$B$3:$F$100,3, FALSE) -> 290 | AF12: =VLOOKUP(B12,'2015'!$B$3:$F$100,2, FALSE) -> 186.5 | AG12: =VLOOKUP(B12,'2015'!$B$3:$F$100,3, FALSE) -> 350
A13: 9 | B13: Bradley, Mason | C13: =J13+L13+N13+P13+R13+T13+V13+X13+Z13+AB13+AD13+AF13 -> 278 | D13: =K13+M13+O13+Q13+S13+U13+W13+Y13+AA13+AC13+AE13+AG13 -> 580 | E13: =C13/D13 -> 0.47931034 | F13: =COUNT(J13:AAM13)/2 -> 2 | G13: =INDEX(Records!$B$4:$D$102,MATCH(B13,Records!$C$4:$C$102,0),1) -> 44th | H13: =INDEX(Records!$F$4:$H$102,MATCH(B13,Records!$G$4:$G$102,0),1) -> 42nd | Z13: =VLOOKUP(B13,'2018'!$B$3:$F$100,2, FALSE) -> 130.5 | AA13: =VLOOKUP(B13,'2018'!$B$3:$F$100,3, FALSE) -> 290 | AB13: =VLOOKUP(B13,'2017'!$B$3:$F$100,2, FALSE) -> 147.5 | AC13: =VLOOKUP(B13,'2017'!$B$3:$F$100,3, FALSE) -> 290
A14: 10 | B14: Brown, Brandel | C14: =J14+L14+N14+P14+R14+T14+V14+X14+Z14+AB14+AD14+AF14 -> 140.5 | D14: =K14+M14+O14+Q14+S14+U14+W14+Y14+AA14+AC14+AE14+AG14 -> 290 | E14: =C14/D14 -> 0.48448276 | F14: =COUNT(J14:AAM14)/2 -> 1 | G14: =INDEX(Records!$B$4:$D$102,MATCH(B14,Records!$C$4:$C$102,0),1) -> 60th-T | H14: =INDEX(Records!$F$4:$H$102,MATCH(B14,Records!$G$4:$G$102,0),1) -> 34th | AB14: =VLOOKUP(B14,'2017'!$B$3:$F$100,2, FALSE) -> 140.5 | AC14: =VLOOKUP(B14,'2017'!$B$3:$F$100,3, FALSE) -> 290
A15: 11 | B15: Clarke, Benjamin | C15: =J15+L15+N15+P15+R15+T15+V15+X15+Z15+AB15+AD15+AF15 -> 1249.5 | D15: =K15+M15+O15+Q15+S15+U15+W15+Y15+AA15+AC15+AE15+AG15 -> 2525 | E15: =C15/D15 -> 0.49485149 | F15: =COUNT(J15:AAM15)/2 -> 9 | G15: =INDEX(Records!$B$4:$D$102,MATCH(B15,Records!$C$4:$C$102,0),1) -> 18th | H15: =INDEX(Records!$F$4:$H$102,MATCH(B15,Records!$G$4:$G$102,0),1) -> 17th | J15: =VLOOKUP(B15,'2026'!$B$3:$F$92,2, FALSE) -> 81 | K15: =VLOOKUP(B15,'2026'!$B$3:$F$92,3, FALSE) -> 180 | L15: =VLOOKUP(B15,'2025'!$B$3:$F$100,2, FALSE) -> 144 | M15: =VLOOKUP(B15,'2025'!$B$3:$F$100,3, FALSE) -> 285 | N15: =VLOOKUP(B15,'2024'!$B$3:$F$100,2, FALSE) -> 141 | O15: =VLOOKUP(B15,'2024'!$B$3:$F$100,3, FALSE) -> 310 | P15: =VLOOKUP(B15,'2023'!$B$3:$F$100,2, FALSE) -> 159.5 | Q15: =VLOOKUP(B15,'2023'!$B$3:$F$100,3, FALSE) -> 290 | R15: =VLOOKUP(B15,'2022'!$B$3:$F$100,2, FALSE) -> 156.5 | S15: =VLOOKUP(B15,'2022'!$B$3:$F$100,3, FALSE) -> 290 | T15: =VLOOKUP(B15,'2021'!$B$3:$F$100,2, FALSE) -> 149.5 | U15: =VLOOKUP(B15,'2021'!$B$3:$F$100,3, FALSE) -> 288 | V15: =VLOOKUP(B15,'2020'!$B$3:$F$100,2, FALSE) -> 132 | W15: =VLOOKUP(B15,'2020'!$B$3:$F$100,3, FALSE) -> 292 | X15: =VLOOKUP(B15,'2019'!$B$3:$F$100,2, FALSE) -> 144.5 | Y15: =VLOOKUP(B15,'2019'!$B$3:$F$100,3, FALSE) -> 300 | Z15: =VLOOKUP(B15,'2018'!$B$3:$F$100,2, FALSE) -> 141.5 | AA15: =VLOOKUP(B15,'2018'!$B$3:$F$100,3, FALSE) -> 290
A16: 12 | B16: Conklin, Don | C16: =J16+L16+N16+P16+R16+T16+V16+X16+Z16+AB16+AD16+AF16 -> 757 | D16: =K16+M16+O16+Q16+S16+U16+W16+Y16+AA16+AC16+AE16+AG16 -> 1529 | E16: =C16/D16 -> 0.49509483 | F16: =COUNT(J16:AAM16)/2 -> 6 | G16: =INDEX(Records!$B$4:$D$102,MATCH(B16,Records!$C$4:$C$102,0),1) -> 23rd | H16: =INDEX(Records!$F$4:$H$102,MATCH(B16,Records!$G$4:$G$102,0),1) -> 16th | J16: =VLOOKUP(B16,'2026'!$B$3:$F$92,2, FALSE) -> 85 | K16: =VLOOKUP(B16,'2026'!$B$3:$F$92,3, FALSE) -> 180 | L16: =VLOOKUP(B16,'2025'!$B$3:$F$100,2, FALSE) -> 123 | M16: =VLOOKUP(B16,'2025'!$B$3:$F$100,3, FALSE) -> 285 | N16: =VLOOKUP(B16,'2024'!$B$3:$F$100,2, FALSE) -> 145 | O16: =VLOOKUP(B16,'2024'!$B$3:$F$100,3, FALSE) -> 310 | P16: =VLOOKUP(B16,'2023'!$B$3:$F$100,2, FALSE) -> 148.5 | Q16: =VLOOKUP(B16,'2023'!$B$3:$F$100,3, FALSE) -> 290 | R16: =VLOOKUP(B16,'2022'!$B$3:$F$100,2, FALSE) -> 134 | S16: =VLOOKUP(B16,'2022'!$B$3:$F$100,3, FALSE) -> 256 | T16: =VLOOKUP(B16,'2021'!$B$3:$F$100,2, FALSE) -> 121.5 | U16: =VLOOKUP(B16,'2021'!$B$3:$F$100,3, FALSE) -> 208
A17: 13 | B17: Curran, Haley | C17: =J17+L17+N17+P17+R17+T17+V17+X17+Z17+AB17+AD17+AF17 -> 531 | D17: =K17+M17+O17+Q17+S17+U17+W17+Y17+AA17+AC17+AE17+AG17 -> 1170 | E17: =C17/D17 -> 0.45384615 | F17: =COUNT(J17:AAM17)/2 -> 4 | G17: =INDEX(Records!$B$4:$D$102,MATCH(B17,Records!$C$4:$C$102,0),1) -> 32nd | H17: =INDEX(Records!$F$4:$H$102,MATCH(B17,Records!$G$4:$G$102,0),1) -> 58th | Z17: =VLOOKUP(B17,'2018'!$B$3:$F$100,2, FALSE) -> 92 | AA17: =VLOOKUP(B17,'2018'!$B$3:$F$100,3, FALSE) -> 240 | AB17: =VLOOKUP(B17,'2017'!$B$3:$F$100,2, FALSE) -> 129.5 | AC17: =VLOOKUP(B17,'2017'!$B$3:$F$100,3, FALSE) -> 290 | AD17: =VLOOKUP(B17,'2016'!$B$3:$F$100,2, FALSE) -> 136 | AE17: =VLOOKUP(B17,'2016'!$B$3:$F$100,3, FALSE) -> 290 | AF17: =VLOOKUP(B17,'2015'!$B$3:$F$100,2, FALSE) -> 173.5 | AG17: =VLOOKUP(B17,'2015'!$B$3:$F$100,3, FALSE) -> 350
A18: 14 | B18: Curran, Kevin | C18: =J18+L18+N18+P18+R18+T18+V18+X18+Z18+AB18+AD18+AF18 -> 1711.5 | D18: =K18+M18+O18+Q18+S18+U18+W18+Y18+AA18+AC18+AE18+AG18 -> 3455 | E18: =C18/D18 -> 0.49536903 | F18: =COUNT(J18:AAM18)/2 -> 12 | G18: =INDEX(Records!$B$4:$D$102,MATCH(B18,Records!$C$4:$C$102,0),1) -> 3rd | H18: =INDEX(Records!$F$4:$H$102,MATCH(B18,Records!$G$4:$G$102,0),1) -> 15th | J18: =VLOOKUP(B18,'2026'!$B$3:$F$92,2, FALSE) -> 97 | K18: =VLOOKUP(B18,'2026'!$B$3:$F$92,3, FALSE) -> 180 | L18: =VLOOKUP(B18,'2025'!$B$3:$F$100,2, FALSE) -> 141 | M18: =VLOOKUP(B18,'2025'!$B$3:$F$100,3, FALSE) -> 285 | N18: =VLOOKUP(B18,'2024'!$B$3:$F$100,2, FALSE) -> 148 | O18: =VLOOKUP(B18,'2024'!$B$3:$F$100,3, FALSE) -> 310 | P18: =VLOOKUP(B18,'2023'!$B$3:$F$100,2, FALSE) -> 161.5 | Q18: =VLOOKUP(B18,'2023'!$B$3:$F$100,3, FALSE) -> 290 | R18: =VLOOKUP(B18,'2022'!$B$3:$F$100,2, FALSE) -> 141.5 | S18: =VLOOKUP(B18,'2022'!$B$3:$F$100,3, FALSE) -> 290 | T18: =VLOOKUP(B18,'2021'!$B$3:$F$100,2, FALSE) -> 141.5 | U18: =VLOOKUP(B18,'2021'!$B$3:$F$100,3, FALSE) -> 288 | V18: =VLOOKUP(B18,'2020'!$B$3:$F$100,2, FALSE) -> 145 | W18: =VLOOKUP(B18,'2020'!$B$3:$F$100,3, FALSE) -> 292 | X18: =VLOOKUP(B18,'2019'!$B$3:$F$100,2, FALSE) -> 138.5 | Y18: =VLOOKUP(B18,'2019'!$B$3:$F$100,3, FALSE) -> 300 | Z18: =VLOOKUP(B18,'2018'!$B$3:$F$100,2, FALSE) -> 138.5 | AA18: =VLOOKUP(B18,'2018'!$B$3:$F$100,3, FALSE) -> 290 | AB18: =VLOOKUP(B18,'2017'!$B$3:$F$100,2, FALSE) -> 144.5 | AC18: =VLOOKUP(B18,'2017'!$B$3:$F$100,3, FALSE) -> 290 | AD18: =VLOOKUP(B18,'2016'!$B$3:$F$100,2, FALSE) -> 137 | AE18: =VLOOKUP(B18,'2016'!$B$3:$F$100,3, FALSE) -> 290 | AF18: =VLOOKUP(B18,'2015'!$B$3:$F$100,2, FALSE) -> 177.5 | AG18: =VLOOKUP(B18,'2015'!$B$3:$F$100,3, FALSE) -> 350
A19: 15 | B19: Curran, Taylor | C19: =J19+L19+N19+P19+R19+T19+V19+X19+Z19+AB19+AD19+AF19 -> 1410.5 | D19: =K19+M19+O19+Q19+S19+U19+W19+Y19+AA19+AC19+AE19+AG19 -> 2815 | E19: =C19/D19 -> 0.50106572 | F19: =COUNT(J19:AAM19)/2 -> 10 | G19: =INDEX(Records!$B$4:$D$102,MATCH(B19,Records!$C$4:$C$102,0),1) -> 11th | H19: =INDEX(Records!$F$4:$H$102,MATCH(B19,Records!$G$4:$G$102,0),1) -> 9th | J19: =VLOOKUP(B19,'2026'!$B$3:$F$92,2, FALSE) -> 87 | K19: =VLOOKUP(B19,'2026'!$B$3:$F$92,3, FALSE) -> 180 | L19: =VLOOKUP(B19,'2025'!$B$3:$F$100,2, FALSE) -> 132 | M19: =VLOOKUP(B19,'2025'!$B$3:$F$100,3, FALSE) -> 285 | N19: =VLOOKUP(B19,'2024'!$B$3:$F$100,2, FALSE) -> 149 | O19: =VLOOKUP(B19,'2024'!$B$3:$F$100,3, FALSE) -> 310 | P19: =VLOOKUP(B19,'2023'!$B$3:$F$100,2, FALSE) -> 154.5 | Q19: =VLOOKUP(B19,'2023'!$B$3:$F$100,3, FALSE) -> 290 | R19: =VLOOKUP(B19,'2022'!$B$3:$F$100,2, FALSE) -> 146.5 | S19: =VLOOKUP(B19,'2022'!$B$3:$F$100,3, FALSE) -> 290 | T19: =VLOOKUP(B19,'2021'!$B$3:$F$100,2, FALSE) -> 152.5 | U19: =VLOOKUP(B19,'2021'!$B$3:$F$100,3, FALSE) -> 288 | V19: =VLOOKUP(B19,'2020'!$B$3:$F$100,2, FALSE) -> 143 | W19: =VLOOKUP(B19,'2020'!$B$3:$F$100,3, FALSE) -> 292 | X19: =VLOOKUP(B19,'2019'!$B$3:$F$100,2, FALSE) -> 154.5 | Y19: =VLOOKUP(B19,'2019'!$B$3:$F$100,3, FALSE) -> 300 | AB19: =VLOOKUP(B19,'2017'!$B$3:$F$100,2, FALSE) -> 146.5 | AC19: =VLOOKUP(B19,'2017'!$B$3:$F$100,3, FALSE) -> 290 | AD19: =VLOOKUP(B19,'2016'!$B$3:$F$100,2, FALSE) -> 145 | AE19: =VLOOKUP(B19,'2016'!$B$3:$F$100,3, FALSE) -> 290
A20: 16 | B20: Easley, Jordan | C20: =J20+L20+N20+P20+R20+T20+V20+X20+Z20+AB20+AD20+AF20 -> 1185.5 | D20: =K20+M20+O20+Q20+S20+U20+W20+Y20+AA20+AC20+AE20+AG20 -> 2419 | E20: =C20/D20 -> 0.49007854 | F20: =COUNT(J20:AAM20)/2 -> 9 | G20: =INDEX(Records!$B$4:$D$102,MATCH(B20,Records!$C$4:$C$102,0),1) -> 20th | H20: =INDEX(Records!$F$4:$H$102,MATCH(B20,Records!$G$4:$G$102,0),1) -> 25th | J20: =VLOOKUP(B20,'2026'!$B$3:$F$92,2, FALSE) -> 91 | K20: =VLOOKUP(B20,'2026'!$B$3:$F$92,3, FALSE) -> 180 | L20: =VLOOKUP(B20,'2025'!$B$3:$F$100,2, FALSE) -> 65.5 | M20: =VLOOKUP(B20,'2025'!$B$3:$F$100,3, FALSE) -> 139 | P20: =VLOOKUP(B20,'2023'!$B$3:$F$100,2, FALSE) -> 152.5 | Q20: =VLOOKUP(B20,'2023'!$B$3:$F$100,3, FALSE) -> 290 | R20: =VLOOKUP(B20,'2022'!$B$3:$F$100,2, FALSE) -> 144.5 | S20: =VLOOKUP(B20,'2022'!$B$3:$F$100,3, FALSE) -> 290 | T20: =VLOOKUP(B20,'2021'!$B$3:$F$100,2, FALSE) -> 152.5 | U20: =VLOOKUP(B20,'2021'!$B$3:$F$100,3, FALSE) -> 288 | V20: =VLOOKUP(B20,'2020'!$B$3:$F$100,2, FALSE) -> 142 | W20: =VLOOKUP(B20,'2020'!$B$3:$F$100,3, FALSE) -> 292 | X20: =VLOOKUP(B20,'2019'!$B$3:$F$100,2, FALSE) -> 125.5 | Y20: =VLOOKUP(B20,'2019'!$B$3:$F$100,3, FALSE) -> 300 | AB20: =VLOOKUP(B20,'2017'!$B$3:$F$100,2, FALSE) -> 134.5 | AC20: =VLOOKUP(B20,'2017'!$B$3:$F$100,3, FALSE) -> 290 | AF20: =VLOOKUP(B20,'2015'!$B$3:$F$100,2, FALSE) -> 177.5 | AG20: =VLOOKUP(B20,'2015'!$B$3:$F$100,3, FALSE) -> 350
A21: 17 | B21: Folmar, James | C21: =J21+L21+N21+P21+R21+T21+V21+X21+Z21+AB21+AD21+AF21 -> 1314 | D21: =K21+M21+O21+Q21+S21+U21+W21+Y21+AA21+AC21+AE21+AG21 -> 2735 | E21: =C21/D21 -> 0.48043876 | F21: =COUNT(J21:AAM21)/2 -> 10 | G21: =INDEX(Records!$B$4:$D$102,MATCH(B21,Records!$C$4:$C$102,0),1) -> 14th | H21: =INDEX(Records!$F$4:$H$102,MATCH(B21,Records!$G$4:$G$102,0),1) -> 40th | J21: =VLOOKUP(B21,'2026'!$B$3:$F$92,2, FALSE) -> 80 | K21: =VLOOKUP(B21,'2026'!$B$3:$F$92,3, FALSE) -> 180 | L21: =VLOOKUP(B21,'2025'!$B$3:$F$100,2, FALSE) -> 128 | M21: =VLOOKUP(B21,'2025'!$B$3:$F$100,3, FALSE) -> 285 | N21: =VLOOKUP(B21,'2024'!$B$3:$F$100,2, FALSE) -> 153 | O21: =VLOOKUP(B21,'2024'!$B$3:$F$100,3, FALSE) -> 310 | P21: =VLOOKUP(B21,'2023'!$B$3:$F$100,2, FALSE) -> 136.5 | Q21: =VLOOKUP(B21,'2023'!$B$3:$F$100,3, FALSE) -> 290 | R21: =VLOOKUP(B21,'2022'!$B$3:$F$100,2, FALSE) -> 134.5 | S21: =VLOOKUP(B21,'2022'!$B$3:$F$100,3, FALSE) -> 290 | T21: =VLOOKUP(B21,'2021'!$B$3:$F$100,2, FALSE) -> 134.5 | U21: =VLOOKUP(B21,'2021'!$B$3:$F$100,3, FALSE) -> 288 | V21: =VLOOKUP(B21,'2020'!$B$3:$F$100,2, FALSE) -> 149 | W21: =VLOOKUP(B21,'2020'!$B$3:$F$100,3, FALSE) -> 292 | X21: =VLOOKUP(B21,'2019'!$B$3:$F$100,2, FALSE) -> 166.5 | Y21: =VLOOKUP(B21,'2019'!$B$3:$F$100,3, FALSE) -> 300 | Z21: =VLOOKUP(B21,'2018'!$B$3:$F$100,2, FALSE) -> 129.5 | AA21: =VLOOKUP(B21,'2018'!$B$3:$F$100,3, FALSE) -> 290 | AB21: =VLOOKUP(B21,'2017'!$B$3:$F$100,2, FALSE) -> 102.5 | AC21: =VLOOKUP(B21,'2017'!$B$3:$F$100,3, FALSE) -> 210
A22: 18 | B22: Fortner, Eric | C22: =J22+L22+N22+P22+R22+T22+V22+X22+Z22+AB22+AD22+AF22 -> 487 | D22: =K22+M22+O22+Q22+S22+U22+W22+Y22+AA22+AC22+AE22+AG22 -> 1019 | E22: =C22/D22 -> 0.47791953 | F22: =COUNT(J22:AAM22)/2 -> 4 | G22: =INDEX(Records!$B$4:$D$102,MATCH(B22,Records!$C$4:$C$102,0),1) -> 35th-T | H22: =INDEX(Records!$F$4:$H$102,MATCH(B22,Records!$G$4:$G$102,0),1) -> 44th | J22: =VLOOKUP(B22,'2026'!$B$3:$F$92,2, FALSE) -> 98 | K22: =VLOOKUP(B22,'2026'!$B$3:$F$92,3, FALSE) -> 180 | AB22: =VLOOKUP(B22,'2017'!$B$3:$F$100,2, FALSE) -> 134.5 | AC22: =VLOOKUP(B22,'2017'!$B$3:$F$100,3, FALSE) -> 290 | AD22: =VLOOKUP(B22,'2016'!$B$3:$F$100,2, FALSE) -> 77 | AE22: =VLOOKUP(B22,'2016'!$B$3:$F$100,3, FALSE) -> 199 | AF22: =VLOOKUP(B22,'2015'!$B$3:$F$100,2, FALSE) -> 177.5 | AG22: =VLOOKUP(B22,'2015'!$B$3:$F$100,3, FALSE) -> 350
A23: 19 | B23: Fortner, Glenn | C23: =J23+L23+N23+P23+R23+T23+V23+X23+Z23+AB23+AD23+AF23 -> 1303 | D23: =K23+M23+O23+Q23+S23+U23+W23+Y23+AA23+AC23+AE23+AG23 -> 2640 | E23: =C23/D23 -> 0.49356061 | F23: =COUNT(J23:AAM23)/2 -> 9 | G23: =INDEX(Records!$B$4:$D$102,MATCH(B23,Records!$C$4:$C$102,0),1) -> 15th | H23: =INDEX(Records!$F$4:$H$102,MATCH(B23,Records!$G$4:$G$102,0),1) -> 19th | N23: =VLOOKUP(B23,'2024'!$B$3:$F$100,2, FALSE) -> 157 | O23: =VLOOKUP(B23,'2024'!$B$3:$F$100,3, FALSE) -> 310 | P23: =VLOOKUP(B23,'2023'!$B$3:$F$100,2, FALSE) -> 147.5 | Q23: =VLOOKUP(B23,'2023'!$B$3:$F$100,3, FALSE) -> 290 | R23: =VLOOKUP(B23,'2022'!$B$3:$F$100,2, FALSE) -> 137.5 | S23: =VLOOKUP(B23,'2022'!$B$3:$F$100,3, FALSE) -> 290 | T23: =VLOOKUP(B23,'2021'!$B$3:$F$100,2, FALSE) -> 144.5 | U23: =VLOOKUP(B23,'2021'!$B$3:$F$100,3, FALSE) -> 288 | V23: =VLOOKUP(B23,'2020'!$B$3:$F$100,2, FALSE) -> 136 | W23: =VLOOKUP(B23,'2020'!$B$3:$F$100,3, FALSE) -> 292 | X23: =VLOOKUP(B23,'2019'!$B$3:$F$100,2, FALSE) -> 147.5 | Y23: =VLOOKUP(B23,'2019'!$B$3:$F$100,3, FALSE) -> 300 | Z23: =VLOOKUP(B23,'2018'!$B$3:$F$100,2, FALSE) -> 142.5 | AA23: =VLOOKUP(B23,'2018'!$B$3:$F$100,3, FALSE) -> 290 | AB23: =VLOOKUP(B23,'2017'!$B$3:$F$100,2, FALSE) -> 149.5 | AC23: =VLOOKUP(B23,'2017'!$B$3:$F$100,3, FALSE) -> 290 | AD23: =VLOOKUP(B23,'2016'!$B$3:$F$100,2, FALSE) -> 141 | AE23: =VLOOKUP(B23,'2016'!$B$3:$F$100,3, FALSE) -> 290
A24: 20 | B24: Fortner, Jason | C24: =J24+L24+N24+P24+R24+T24+V24+X24+Z24+AB24+AD24+AF24 -> 1505 | D24: =K24+M24+O24+Q24+S24+U24+W24+Y24+AA24+AC24+AE24+AG24 -> 3105 | E24: =C24/D24 -> 0.48470209 | F24: =COUNT(J24:AAM24)/2 -> 11 | G24: =INDEX(Records!$B$4:$D$102,MATCH(B24,Records!$C$4:$C$102,0),1) -> 10th | H24: =INDEX(Records!$F$4:$H$102,MATCH(B24,Records!$G$4:$G$102,0),1) -> 33rd | J24: =VLOOKUP(B24,'2026'!$B$3:$F$92,2, FALSE) -> 81 | K24: =VLOOKUP(B24,'2026'!$B$3:$F$92,3, FALSE) -> 180 | L24: =VLOOKUP(B24,'2025'!$B$3:$F$100,2, FALSE) -> 133 | M24: =VLOOKUP(B24,'2025'!$B$3:$F$100,3, FALSE) -> 285 | N24: =VLOOKUP(B24,'2024'!$B$3:$F$100,2, FALSE) -> 145 | O24: =VLOOKUP(B24,'2024'!$B$3:$F$100,3, FALSE) -> 310 | P24: =VLOOKUP(B24,'2023'!$B$3:$F$100,2, FALSE) -> 151.5 | Q24: =VLOOKUP(B24,'2023'!$B$3:$F$100,3, FALSE) -> 290 | R24: =VLOOKUP(B24,'2022'!$B$3:$F$100,2, FALSE) -> 141.5 | S24: =VLOOKUP(B24,'2022'!$B$3:$F$100,3, FALSE) -> 290 | T24: =VLOOKUP(B24,'2021'!$B$3:$F$100,2, FALSE) -> 144.5 | U24: =VLOOKUP(B24,'2021'!$B$3:$F$100,3, FALSE) -> 288 | V24: =VLOOKUP(B24,'2020'!$B$3:$F$100,2, FALSE) -> 145 | W24: =VLOOKUP(B24,'2020'!$B$3:$F$100,3, FALSE) -> 292 | X24: =VLOOKUP(B24,'2019'!$B$3:$F$100,2, FALSE) -> 154.5 | Y24: =VLOOKUP(B24,'2019'!$B$3:$F$100,3, FALSE) -> 300 | Z24: =VLOOKUP(B24,'2018'!$B$3:$F$100,2, FALSE) -> 131.5 | AA24: =VLOOKUP(B24,'2018'!$B$3:$F$100,3, FALSE) -> 290 | AB24: =VLOOKUP(B24,'2017'!$B$3:$F$100,2, FALSE) -> 147.5 | AC24: =VLOOKUP(B24,'2017'!$B$3:$F$100,3, FALSE) -> 290 | AD24: =VLOOKUP(B24,'2016'!$B$3:$F$100,2, FALSE) -> 130 | AE24: =VLOOKUP(B24,'2016'!$B$3:$F$100,3, FALSE) -> 290
A25: 21 | B25: Fortner, Mara | C25: =J25+L25+N25+P25+R25+T25+V25+X25+Z25+AB25+AD25+AF25 -> 1688.5 | D25: =K25+M25+O25+Q25+S25+U25+W25+Y25+AA25+AC25+AE25+AG25 -> 3455 | E25: =C25/D25 -> 0.48871201 | F25: =COUNT(J25:AAM25)/2 -> 12 | G25: =INDEX(Records!$B$4:$D$102,MATCH(B25,Records!$C$4:$C$102,0),1) -> 5th | H25: =INDEX(Records!$F$4:$H$102,MATCH(B25,Records!$G$4:$G$102,0),1) -> 28th | J25: =VLOOKUP(B25,'2026'!$B$3:$F$92,2, FALSE) -> 82 | K25: =VLOOKUP(B25,'2026'!$B$3:$F$92,3, FALSE) -> 180 | L25: =VLOOKUP(B25,'2025'!$B$3:$F$100,2, FALSE) -> 153 | M25: =VLOOKUP(B25,'2025'!$B$3:$F$100,3, FALSE) -> 285 | N25: =VLOOKUP(B25,'2024'!$B$3:$F$100,2, FALSE) -> 129 | O25: =VLOOKUP(B25,'2024'!$B$3:$F$100,3, FALSE) -> 310 | P25: =VLOOKUP(B25,'2023'!$B$3:$F$100,2, FALSE) -> 144.5 | Q25: =VLOOKUP(B25,'2023'!$B$3:$F$100,3, FALSE) -> 290 | R25: =VLOOKUP(B25,'2022'!$B$3:$F$100,2, FALSE) -> 145.5 | S25: =VLOOKUP(B25,'2022'!$B$3:$F$100,3, FALSE) -> 290 | T25: =VLOOKUP(B25,'2021'!$B$3:$F$100,2, FALSE) -> 130.5 | U25: =VLOOKUP(B25,'2021'!$B$3:$F$100,3, FALSE) -> 288 | V25: =VLOOKUP(B25,'2020'!$B$3:$F$100,2, FALSE) -> 161 | W25: =VLOOKUP(B25,'2020'!$B$3:$F$100,3, FALSE) -> 292 | X25: =VLOOKUP(B25,'2019'!$B$3:$F$100,2, FALSE) -> 140.5 | Y25: =VLOOKUP(B25,'2019'!$B$3:$F$100,3, FALSE) -> 300 | Z25: =VLOOKUP(B25,'2018'!$B$3:$F$100,2, FALSE) -> 124.5 | AA25: =VLOOKUP(B25,'2018'!$B$3:$F$100,3, FALSE) -> 290 | AB25: =VLOOKUP(B25,'2017'!$B$3:$F$100,2, FALSE) -> 144.5 | AC25: =VLOOKUP(B25,'2017'!$B$3:$F$100,3, FALSE) -> 290 | AD25: =VLOOKUP(B25,'2016'!$B$3:$F$100,2, FALSE) -> 150 | AE25: =VLOOKUP(B25,'2016'!$B$3:$F$100,3, FALSE) -> 290 | AF25: =VLOOKUP(B25,'2015'!$B$3:$F$100,2, FALSE) -> 183.5 | AG25: =VLOOKUP(B25,'2015'!$B$3:$F$100,3, FALSE) -> 350
A26: 22 | B26: Greenwood, Douglas | C26: =J26+L26+N26+P26+R26+T26+V26+X26+Z26+AB26+AD26+AF26 -> 1225.5 | D26: =K26+M26+O26+Q26+S26+U26+W26+Y26+AA26+AC26+AE26+AG26 -> 2525 | E26: =C26/D26 -> 0.48534653 | F26: =COUNT(J26:AAM26)/2 -> 9 | G26: =INDEX(Records!$B$4:$D$102,MATCH(B26,Records!$C$4:$C$102,0),1) -> 19th | H26: =INDEX(Records!$F$4:$H$102,MATCH(B26,Records!$G$4:$G$102,0),1) -> 32nd | J26: =VLOOKUP(B26,'2026'!$B$3:$F$92,2, FALSE) -> 86 | K26: =VLOOKUP(B26,'2026'!$B$3:$F$92,3, FALSE) -> 180 | L26: =VLOOKUP(B26,'2025'!$B$3:$F$100,2, FALSE) -> 125 | M26: =VLOOKUP(B26,'2025'!$B$3:$F$100,3, FALSE) -> 285 | N26: =VLOOKUP(B26,'2024'!$B$3:$F$100,2, FALSE) -> 141 | O26: =VLOOKUP(B26,'2024'!$B$3:$F$100,3, FALSE) -> 310 | P26: =VLOOKUP(B26,'2023'!$B$3:$F$100,2, FALSE) -> 155.5 | Q26: =VLOOKUP(B26,'2023'!$B$3:$F$100,3, FALSE) -> 290 | R26: =VLOOKUP(B26,'2022'!$B$3:$F$100,2, FALSE) -> 146.5 | S26: =VLOOKUP(B26,'2022'!$B$3:$F$100,3, FALSE) -> 290 | T26: =VLOOKUP(B26,'2021'!$B$3:$F$100,2, FALSE) -> 158.5 | U26: =VLOOKUP(B26,'2021'!$B$3:$F$100,3, FALSE) -> 288 | V26: =VLOOKUP(B26,'2020'!$B$3:$F$100,2, FALSE) -> 135 | W26: =VLOOKUP(B26,'2020'!$B$3:$F$100,3, FALSE) -> 292 | X26: =VLOOKUP(B26,'2019'!$B$3:$F$100,2, FALSE) -> 143.5 | Y26: =VLOOKUP(B26,'2019'!$B$3:$F$100,3, FALSE) -> 300 | Z26: =VLOOKUP(B26,'2018'!$B$3:$F$100,2, FALSE) -> 134.5 | AA26: =VLOOKUP(B26,'2018'!$B$3:$F$100,3, FALSE) -> 290
A27: 23 | B27: Greenwood, Nathan | C27: =J27+L27+N27+P27+R27+T27+V27+X27+Z27+AB27+AD27+AF27 -> 691 | D27: =K27+M27+O27+Q27+S27+U27+W27+Y27+AA27+AC27+AE27+AG27 -> 1355 | E27: =C27/D27 -> 0.5099631 | F27: =COUNT(J27:AAM27)/2 -> 5 | G27: =INDEX(Records!$B$4:$D$102,MATCH(B27,Records!$C$4:$C$102,0),1) -> 26th | H27: =INDEX(Records!$F$4:$H$102,MATCH(B27,Records!$G$4:$G$102,0),1) -> 3rd | J27: =VLOOKUP(B27,'2026'!$B$3:$F$92,2, FALSE) -> 91 | K27: =VLOOKUP(B27,'2026'!$B$3:$F$92,3, FALSE) -> 180 | L27: =VLOOKUP(B27,'2025'!$B$3:$F$100,2, FALSE) -> 145 | M27: =VLOOKUP(B27,'2025'!$B$3:$F$100,3, FALSE) -> 285 | N27: =VLOOKUP(B27,'2024'!$B$3:$F$100,2, FALSE) -> 153 | O27: =VLOOKUP(B27,'2024'!$B$3:$F$100,3, FALSE) -> 310 | P27: =VLOOKUP(B27,'2023'!$B$3:$F$100,2, FALSE) -> 151.5 | Q27: =VLOOKUP(B27,'2023'!$B$3:$F$100,3, FALSE) -> 290 | R27: =VLOOKUP(B27,'2022'!$B$3:$F$100,2, FALSE) -> 150.5 | S27: =VLOOKUP(B27,'2022'!$B$3:$F$100,3, FALSE) -> 290
A28: 24 | B28: Hamilton, Hunter | C28: =J28+L28+N28+P28+R28+T28+V28+X28+Z28+AB28+AD28+AF28 -> 550.5 | D28: =K28+M28+O28+Q28+S28+U28+W28+Y28+AA28+AC28+AE28+AG28 -> 1065 | E28: =C28/D28 -> 0.51690141 | F28: =COUNT(J28:AAM28)/2 -> 4 | G28: =INDEX(Records!$B$4:$D$102,MATCH(B28,Records!$C$4:$C$102,0),1) -> 31st | H28: =INDEX(Records!$F$4:$H$102,MATCH(B28,Records!$G$4:$G$102,0),1) -> 2nd | J28: =VLOOKUP(B28,'2026'!$B$3:$F$92,2, FALSE) -> 87 | K28: =VLOOKUP(B28,'2026'!$B$3:$F$92,3, FALSE) -> 180 | L28: =VLOOKUP(B28,'2025'!$B$3:$F$100,2, FALSE) -> 145 | M28: =VLOOKUP(B28,'2025'!$B$3:$F$100,3, FALSE) -> 285 | N28: =VLOOKUP(B28,'2024'!$B$3:$F$100,2, FALSE) -> 154 | O28: =VLOOKUP(B28,'2024'!$B$3:$F$100,3, FALSE) -> 310 | P28: =VLOOKUP(B28,'2023'!$B$3:$F$100,2, FALSE) -> 164.5 | Q28: =VLOOKUP(B28,'2023'!$B$3:$F$100,3, FALSE) -> 290
A29: 25 | B29: Harper, Kenneth | C29: =J29+L29+N29+P29+R29+T29+V29+X29+Z29+AB29+AD29+AF29 -> 627 | D29: =K29+M29+O29+Q29+S29+U29+W29+Y29+AA29+AC29+AE29+AG29 -> 1315 | E29: =C29/D29 -> 0.47680608 | F29: =COUNT(J29:AAM29)/2 -> 5 | G29: =INDEX(Records!$B$4:$D$102,MATCH(B29,Records!$C$4:$C$102,0),1) -> 30th | H29: =INDEX(Records!$F$4:$H$102,MATCH(B29,Records!$G$4:$G$102,0),1) -> 46th | J29: =VLOOKUP(B29,'2026'!$B$3:$F$92,2, FALSE) -> 85 | K29: =VLOOKUP(B29,'2026'!$B$3:$F$92,3, FALSE) -> 180 | L29: =VLOOKUP(B29,'2025'!$B$3:$F$100,2, FALSE) -> 122 | M29: =VLOOKUP(B29,'2025'!$B$3:$F$100,3, FALSE) -> 285 | N29: =VLOOKUP(B29,'2024'!$B$3:$F$100,2, FALSE) -> 136 | O29: =VLOOKUP(B29,'2024'!$B$3:$F$100,3, FALSE) -> 270 | P29: =VLOOKUP(B29,'2023'!$B$3:$F$100,2, FALSE) -> 155.5 | Q29: =VLOOKUP(B29,'2023'!$B$3:$F$100,3, FALSE) -> 290 | R29: =VLOOKUP(B29,'2022'!$B$3:$F$100,2, FALSE) -> 128.5 | S29: =VLOOKUP(B29,'2022'!$B$3:$F$100,3, FALSE) -> 290
A30: 26 | B30: Honeycutt, Terry | C30: =J30+L30+N30+P30+R30+T30+V30+X30+Z30+AB30+AD30+AF30 -> 668.5 | D30: =K30+M30+O30+Q30+S30+U30+W30+Y30+AA30+AC30+AE30+AG30 -> 1333 | E30: =C30/D30 -> 0.50150038 | F30: =COUNT(J30:AAM30)/2 -> 5 | G30: =INDEX(Records!$B$4:$D$102,MATCH(B30,Records!$C$4:$C$102,0),1) -> 27th | H30: =INDEX(Records!$F$4:$H$102,MATCH(B30,Records!$G$4:$G$102,0),1) -> 8th | J30: =VLOOKUP(B30,'2026'!$B$3:$F$92,2, FALSE) -> 87 | K30: =VLOOKUP(B30,'2026'!$B$3:$F$92,3, FALSE) -> 180 | L30: =VLOOKUP(B30,'2025'!$B$3:$F$100,2, FALSE) -> 140 | M30: =VLOOKUP(B30,'2025'!$B$3:$F$100,3, FALSE) -> 285 | P30: =VLOOKUP(B30,'2023'!$B$3:$F$100,2, FALSE) -> 144.5 | Q30: =VLOOKUP(B30,'2023'!$B$3:$F$100,3, FALSE) -> 290 | R30: =VLOOKUP(B30,'2022'!$B$3:$F$100,2, FALSE) -> 146.5 | S30: =VLOOKUP(B30,'2022'!$B$3:$F$100,3, FALSE) -> 290 | T30: =VLOOKUP(B30,'2021'!$B$3:$F$100,2, FALSE) -> 150.5 | U30: =VLOOKUP(B30,'2021'!$B$3:$F$100,3, FALSE) -> 288
A31: 27 | B31: Howard, Bill | C31: =J31+L31+N31+P31+R31+T31+V31+X31+Z31+AB31+AD31+AF31 -> 712 | D31: =K31+M31+O31+Q31+S31+U31+W31+Y31+AA31+AC31+AE31+AG31 -> 1520 | E31: =C31/D31 -> 0.46842105 | F31: =COUNT(J31:AAM31)/2 -> 5 | G31: =INDEX(Records!$B$4:$D$102,MATCH(B31,Records!$C$4:$C$102,0),1) -> 25th | H31: =INDEX(Records!$F$4:$H$102,MATCH(B31,Records!$G$4:$G$102,0),1) -> 49th | X31: =VLOOKUP(B31,'2019'!$B$3:$F$100,2, FALSE) -> 157.5 | Y31: =VLOOKUP(B31,'2019'!$B$3:$F$100,3, FALSE) -> 300 | Z31: =VLOOKUP(B31,'2018'!$B$3:$F$100,2, FALSE) -> 131.5 | AA31: =VLOOKUP(B31,'2018'!$B$3:$F$100,3, FALSE) -> 290 | AB31: =VLOOKUP(B31,'2017'!$B$3:$F$100,2, FALSE) -> 111.5 | AC31: =VLOOKUP(B31,'2017'!$B$3:$F$100,3, FALSE) -> 290 | AD31: =VLOOKUP(B31,'2016'!$B$3:$F$100,2, FALSE) -> 130 | AE31: =VLOOKUP(B31,'2016'!$B$3:$F$100,3, FALSE) -> 290 | AF31: =VLOOKUP(B31,'2015'!$B$3:$F$100,2, FALSE) -> 181.5 | AG31: =VLOOKUP(B31,'2015'!$B$3:$F$100,3, FALSE) -> 350
A32: 28 | B32: Kraus, Will | C32: =J32+L32+N32+P32+R32+T32+V32+X32+Z32+AB32+AD32+AF32 -> 153.5 | D32: =K32+M32+O32+Q32+S32+U32+W32+Y32+AA32+AC32+AE32+AG32 -> 404 | E32: =C32/D32 -> 0.3799505 | F32: =COUNT(J32:AAM32)/2 -> 2 | G32: =INDEX(Records!$B$4:$D$102,MATCH(B32,Records!$C$4:$C$102,0),1) -> 56th | H32: =INDEX(Records!$F$4:$H$102,MATCH(B32,Records!$G$4:$G$102,0),1) -> 70th | J32: =VLOOKUP(B32,'2026'!$B$3:$F$92,2, FALSE) -> 40.5 | K32: =VLOOKUP(B32,'2026'!$B$3:$F$92,3, FALSE) -> 140 | N32: =VLOOKUP(B32,'2024'!$B$3:$F$100,2, FALSE) -> 113 | O32: =VLOOKUP(B32,'2024'!$B$3:$F$100,3, FALSE) -> 264
A33: 29 | B33: Mackey, Doyle | C33: =J33+L33+N33+P33+R33+T33+V33+X33+Z33+AB33+AD33+AF33 -> 726 | D33: =K33+M33+O33+Q33+S33+U33+W33+Y33+AA33+AC33+AE33+AG33 -> 1550 | E33: =C33/D33 -> 0.4683871 | F33: =COUNT(J33:AAM33)/2 -> 6 | G33: =INDEX(Records!$B$4:$D$102,MATCH(B33,Records!$C$4:$C$102,0),1) -> 24th | H33: =INDEX(Records!$F$4:$H$102,MATCH(B33,Records!$G$4:$G$102,0),1) -> 50th | P33: =VLOOKUP(B33,'2023'!$B$3:$F$100,2, FALSE) -> 144.5 | Q33: =VLOOKUP(B33,'2023'!$B$3:$F$100,3, FALSE) -> 290 | R33: =VLOOKUP(B33,'2022'!$B$3:$F$100,2, FALSE) -> 128.5 | S33: =VLOOKUP(B33,'2022'!$B$3:$F$100,3, FALSE) -> 290 | T33: =VLOOKUP(B33,'2021'!$B$3:$F$100,2, FALSE) -> 146.5 | U33: =VLOOKUP(B33,'2021'!$B$3:$F$100,3, FALSE) -> 288 | V33: =VLOOKUP(B33,'2020'!$B$3:$F$100,2, FALSE) -> 121 | W33: =VLOOKUP(B33,'2020'!$B$3:$F$100,3, FALSE) -> 292 | X33: =VLOOKUP(B33,'2019'!$B$3:$F$100,2, FALSE) -> 148.5 | Y33: =VLOOKUP(B33,'2019'!$B$3:$F$100,3, FALSE) -> 300 | AB33: =VLOOKUP(B33,'2017'!$B$3:$F$100,2, FALSE) -> 37 | AC33: =VLOOKUP(B33,'2017'!$B$3:$F$100,3, FALSE) -> 90
A34: 30 | B34: Manuel, Greg | C34: =J34+L34+N34+P34+R34+T34+V34+X34+Z34+AB34+AD34+AF34 -> 857.5 | D34: =K34+M34+O34+Q34+S34+U34+W34+Y34+AA34+AC34+AE34+AG34 -> 1755 | E34: =C34/D34 -> 0.48860399 | F34: =COUNT(J34:AAM34)/2 -> 6 | G34: =INDEX(Records!$B$4:$D$102,MATCH(B34,Records!$C$4:$C$102,0),1) -> 22nd | H34: =INDEX(Records!$F$4:$H$102,MATCH(B34,Records!$G$4:$G$102,0),1) -> 29th | L34: =VLOOKUP(B34,'2025'!$B$3:$F$100,2, FALSE) -> 133 | M34: =VLOOKUP(B34,'2025'!$B$3:$F$100,3, FALSE) -> 285 | N34: =VLOOKUP(B34,'2024'!$B$3:$F$100,2, FALSE) -> 154 | O34: =VLOOKUP(B34,'2024'!$B$3:$F$100,3, FALSE) -> 310 | P34: =VLOOKUP(B34,'2023'!$B$3:$F$100,2, FALSE) -> 146.5 | Q34: =VLOOKUP(B34,'2023'!$B$3:$F$100,3, FALSE) -> 290 | R34: =VLOOKUP(B34,'2022'!$B$3:$F$100,2, FALSE) -> 142.5 | S34: =VLOOKUP(B34,'2022'!$B$3:$F$100,3, FALSE) -> 290 | T34: =VLOOKUP(B34,'2021'!$B$3:$F$100,2, FALSE) -> 140.5 | U34: =VLOOKUP(B34,'2021'!$B$3:$F$100,3, FALSE) -> 288 | V34: =VLOOKUP(B34,'2020'!$B$3:$F$100,2, FALSE) -> 141 | W34: =VLOOKUP(B34,'2020'!$B$3:$F$100,3, FALSE) -> 292
A35: 31 | B35: Mattson, Nick | C35: =J35+L35+N35+P35+R35+T35+V35+X35+Z35+AB35+AD35+AF35 -> 222 | D35: =K35+M35+O35+Q35+S35+U35+W35+Y35+AA35+AC35+AE35+AG35 -> 465 | E35: =C35/D35 -> 0.47741935 | F35: =COUNT(J35:AAM35)/2 -> 2 | G35: =INDEX(Records!$B$4:$D$102,MATCH(B35,Records!$C$4:$C$102,0),1) -> 49th | H35: =INDEX(Records!$F$4:$H$102,MATCH(B35,Records!$G$4:$G$102,0),1) -> 45th | J35: =VLOOKUP(B35,'2026'!$B$3:$F$92,2, FALSE) -> 92 | K35: =VLOOKUP(B35,'2026'!$B$3:$F$92,3, FALSE) -> 180 | L35: =VLOOKUP(B35,'2025'!$B$3:$F$100,2, FALSE) -> 130 | M35: =VLOOKUP(B35,'2025'!$B$3:$F$100,3, FALSE) -> 285
A36: 32 | B36: McMullen, Dan | C36: =J36+L36+N36+P36+R36+T36+V36+X36+Z36+AB36+AD36+AF36 -> 171.5 | D36: =K36+M36+O36+Q36+S36+U36+W36+Y36+AA36+AC36+AE36+AG36 -> 350 | E36: =C36/D36 -> 0.49 | F36: =COUNT(J36:AAM36)/2 -> 1 | G36: =INDEX(Records!$B$4:$D$102,MATCH(B36,Records!$C$4:$C$102,0),1) -> 53rd | H36: =INDEX(Records!$F$4:$H$102,MATCH(B36,Records!$G$4:$G$102,0),1) -> 26th | AF36: =VLOOKUP(B36,'2015'!$B$3:$F$100,2, FALSE) -> 171.5 | AG36: =VLOOKUP(B36,'2015'!$B$3:$F$100,3, FALSE) -> 350
A37: 33 | B37: Meyer, Austen | C37: =J37+L37+N37+P37+R37+T37+V37+X37+Z37+AB37+AD37+AF37 -> 1276 | D37: =K37+M37+O37+Q37+S37+U37+W37+Y37+AA37+AC37+AE37+AG37 -> 2665 | E37: =C37/D37 -> 0.47879925 | F37: =COUNT(J37:AAM37)/2 -> 10 | G37: =INDEX(Records!$B$4:$D$102,MATCH(B37,Records!$C$4:$C$102,0),1) -> 16th | H37: =INDEX(Records!$F$4:$H$102,MATCH(B37,Records!$G$4:$G$102,0),1) -> 43rd | J37: =VLOOKUP(B37,'2026'!$B$3:$F$92,2, FALSE) -> 89 | K37: =VLOOKUP(B37,'2026'!$B$3:$F$92,3, FALSE) -> 180 | L37: =VLOOKUP(B37,'2025'!$B$3:$F$100,2, FALSE) -> 148 | M37: =VLOOKUP(B37,'2025'!$B$3:$F$100,3, FALSE) -> 285 | N37: =VLOOKUP(B37,'2024'!$B$3:$F$100,2, FALSE) -> 151 | O37: =VLOOKUP(B37,'2024'!$B$3:$F$100,3, FALSE) -> 310 | P37: =VLOOKUP(B37,'2023'!$B$3:$F$100,2, FALSE) -> 145.5 | Q37: =VLOOKUP(B37,'2023'!$B$3:$F$100,3, FALSE) -> 290 | R37: =VLOOKUP(B37,'2022'!$B$3:$F$100,2, FALSE) -> 132.5 | S37: =VLOOKUP(B37,'2022'!$B$3:$F$100,3, FALSE) -> 290 | T37: =VLOOKUP(B37,'2021'!$B$3:$F$100,2, FALSE) -> 125.5 | U37: =VLOOKUP(B37,'2021'!$B$3:$F$100,3, FALSE) -> 288 | V37: =VLOOKUP(B37,'2020'!$B$3:$F$100,2, FALSE) -> 159 | W37: =VLOOKUP(B37,'2020'!$B$3:$F$100,3, FALSE) -> 292 | AB37: =VLOOKUP(B37,'2017'!$B$3:$F$100,2, FALSE) -> 138.5 | AC37: =VLOOKUP(B37,'2017'!$B$3:$F$100,3, FALSE) -> 290 | AD37: =VLOOKUP(B37,'2016'!$B$3:$F$100,2, FALSE) -> 138 | AE37: =VLOOKUP(B37,'2016'!$B$3:$F$100,3, FALSE) -> 290 | AF37: =VLOOKUP(B37,'2015'!$B$3:$F$100,2, FALSE) -> 49 | AG37: =VLOOKUP(B37,'2015'!$B$3:$F$100,3, FALSE) -> 150
A38: 34 | B38: Meyer, Brennan | C38: =J38+L38+N38+P38+R38+T38+V38+X38+Z38+AB38+AD38+AF38 -> 140.5 | D38: =K38+M38+O38+Q38+S38+U38+W38+Y38+AA38+AC38+AE38+AG38 -> 288 | E38: =C38/D38 -> 0.48784722 | F38: =COUNT(J38:AAM38)/2 -> 1 | G38: =INDEX(Records!$B$4:$D$102,MATCH(B38,Records!$C$4:$C$102,0),1) -> 60th-T | H38: =INDEX(Records!$F$4:$H$102,MATCH(B38,Records!$G$4:$G$102,0),1) -> 31st | T38: =VLOOKUP(B38,'2021'!$B$3:$F$100,2, FALSE) -> 140.5 | U38: =VLOOKUP(B38,'2021'!$B$3:$F$100,3, FALSE) -> 288
A39: 35 | B39: Meyer, Dave | C39: =J39+L39+N39+P39+R39+T39+V39+X39+Z39+AB39+AD39+AF39 -> 1391 | D39: =K39+M39+O39+Q39+S39+U39+W39+Y39+AA39+AC39+AE39+AG39 -> 2777 | E39: =C39/D39 -> 0.50090025 | F39: =COUNT(J39:AAM39)/2 -> 10 | G39: =INDEX(Records!$B$4:$D$102,MATCH(B39,Records!$C$4:$C$102,0),1) -> 12th | H39: =INDEX(Records!$F$4:$H$102,MATCH(B39,Records!$G$4:$G$102,0),1) -> 10th | J39: =VLOOKUP(B39,'2026'!$B$3:$F$92,2, FALSE) -> 86 | K39: =VLOOKUP(B39,'2026'!$B$3:$F$92,3, FALSE) -> 180 | L39: =VLOOKUP(B39,'2025'!$B$3:$F$100,2, FALSE) -> 135 | M39: =VLOOKUP(B39,'2025'!$B$3:$F$100,3, FALSE) -> 285 | N39: =VLOOKUP(B39,'2024'!$B$3:$F$100,2, FALSE) -> 148 | O39: =VLOOKUP(B39,'2024'!$B$3:$F$100,3, FALSE) -> 310 | P39: =VLOOKUP(B39,'2023'!$B$3:$F$100,2, FALSE) -> 147.5 | Q39: =VLOOKUP(B39,'2023'!$B$3:$F$100,3, FALSE) -> 290 | R39: =VLOOKUP(B39,'2022'!$B$3:$F$100,2, FALSE) -> 152.5 | S39: =VLOOKUP(B39,'2022'!$B$3:$F$100,3, FALSE) -> 290 | T39: =VLOOKUP(B39,'2021'!$B$3:$F$100,2, FALSE) -> 153.5 | U39: =VLOOKUP(B39,'2021'!$B$3:$F$100,3, FALSE) -> 288 | V39: =VLOOKUP(B39,'2020'!$B$3:$F$100,2, FALSE) -> 134 | W39: =VLOOKUP(B39,'2020'!$B$3:$F$100,3, FALSE) -> 292 | X39: =VLOOKUP(B39,'2019'!$B$3:$F$100,2, FALSE) -> 167.5 | Y39: =VLOOKUP(B39,'2019'!$B$3:$F$100,3, FALSE) -> 300 | Z39: =VLOOKUP(B39,'2018'!$B$3:$F$100,2, FALSE) -> 140.5 | AA39: =VLOOKUP(B39,'2018'!$B$3:$F$100,3, FALSE) -> 290 | AB39: =VLOOKUP(B39,'2017'!$B$3:$F$100,2, FALSE) -> 126.5 | AC39: =VLOOKUP(B39,'2017'!$B$3:$F$100,3, FALSE) -> 252
A40: 36 | B40: Meyer, Pat | C40: =J40+L40+N40+P40+R40+T40+V40+X40+Z40+AB40+AD40+AF40 -> 1687.5 | D40: =K40+M40+O40+Q40+S40+U40+W40+Y40+AA40+AC40+AE40+AG40 -> 3455 | E40: =C40/D40 -> 0.48842258 | F40: =COUNT(J40:AAM40)/2 -> 12 | G40: =INDEX(Records!$B$4:$D$102,MATCH(B40,Records!$C$4:$C$102,0),1) -> 6th | H40: =INDEX(Records!$F$4:$H$102,MATCH(B40,Records!$G$4:$G$102,0),1) -> 30th | J40: =VLOOKUP(B40,'2026'!$B$3:$F$92,2, FALSE) -> 81 | K40: =VLOOKUP(B40,'2026'!$B$3:$F$92,3, FALSE) -> 180 | L40: =VLOOKUP(B40,'2025'!$B$3:$F$100,2, FALSE) -> 145 | M40: =VLOOKUP(B40,'2025'!$B$3:$F$100,3, FALSE) -> 285 | N40: =VLOOKUP(B40,'2024'!$B$3:$F$100,2, FALSE) -> 152 | O40: =VLOOKUP(B40,'2024'!$B$3:$F$100,3, FALSE) -> 310 | P40: =VLOOKUP(B40,'2023'!$B$3:$F$100,2, FALSE) -> 148.5 | Q40: =VLOOKUP(B40,'2023'!$B$3:$F$100,3, FALSE) -> 290 | R40: =VLOOKUP(B40,'2022'!$B$3:$F$100,2, FALSE) -> 133.5 | S40: =VLOOKUP(B40,'2022'!$B$3:$F$100,3, FALSE) -> 290 | T40: =VLOOKUP(B40,'2021'!$B$3:$F$100,2, FALSE) -> 144.5 | U40: =VLOOKUP(B40,'2021'!$B$3:$F$100,3, FALSE) -> 288 | V40: =VLOOKUP(B40,'2020'!$B$3:$F$100,2, FALSE) -> 144 | W40: =VLOOKUP(B40,'2020'!$B$3:$F$100,3, FALSE) -> 292 | X40: =VLOOKUP(B40,'2019'!$B$3:$F$100,2, FALSE) -> 141.5 | Y40: =VLOOKUP(B40,'2019'!$B$3:$F$100,3, FALSE) -> 300 | Z40: =VLOOKUP(B40,'2018'!$B$3:$F$100,2, FALSE) -> 132.5 | AA40: =VLOOKUP(B40,'2018'!$B$3:$F$100,3, FALSE) -> 290 | AB40: =VLOOKUP(B40,'2017'!$B$3:$F$100,2, FALSE) -> 137.5 | AC40: =VLOOKUP(B40,'2017'!$B$3:$F$100,3, FALSE) -> 290 | AD40: =VLOOKUP(B40,'2016'!$B$3:$F$100,2, FALSE) -> 152 | AE40: =VLOOKUP(B40,'2016'!$B$3:$F$100,3, FALSE) -> 290 | AF40: =VLOOKUP(B40,'2015'!$B$3:$F$100,2, FALSE) -> 175.5 | AG40: =VLOOKUP(B40,'2015'!$B$3:$F$100,3, FALSE) -> 350
A41: 37 | B41: Middleton, Jason | C41: =J41+L41+N41+P41+R41+T41+V41+X41+Z41+AB41+AD41+AF41 -> 132.5 | D41: =K41+M41+O41+Q41+S41+U41+W41+Y41+AA41+AC41+AE41+AG41 -> 290 | E41: =C41/D41 -> 0.45689655 | F41: =COUNT(J41:AAM41)/2 -> 1 | G41: =INDEX(Records!$B$4:$D$102,MATCH(B41,Records!$C$4:$C$102,0),1) -> 65th | H41: =INDEX(Records!$F$4:$H$102,MATCH(B41,Records!$G$4:$G$102,0),1) -> 57th | R41: =VLOOKUP(B41,'2022'!$B$3:$F$100,2, FALSE) -> 132.5 | S41: =VLOOKUP(B41,'2022'!$B$3:$F$100,3, FALSE) -> 290
A42: 38 | B42: Miller, Chris | C42: =J42+L42+N42+P42+R42+T42+V42+X42+Z42+AB42+AD42+AF42 -> 1668.5 | D42: =K42+M42+O42+Q42+S42+U42+W42+Y42+AA42+AC42+AE42+AG42 -> 3455 | E42: =C42/D42 -> 0.4829233 | F42: =COUNT(J42:AAM42)/2 -> 12 | G42: =INDEX(Records!$B$4:$D$102,MATCH(B42,Records!$C$4:$C$102,0),1) -> 7th | H42: =INDEX(Records!$F$4:$H$102,MATCH(B42,Records!$G$4:$G$102,0),1) -> 35th | J42: =VLOOKUP(B42,'2026'!$B$3:$F$92,2, FALSE) -> 85 | K42: =VLOOKUP(B42,'2026'!$B$3:$F$92,3, FALSE) -> 180 | L42: =VLOOKUP(B42,'2025'!$B$3:$F$100,2, FALSE) -> 129 | M42: =VLOOKUP(B42,'2025'!$B$3:$F$100,3, FALSE) -> 285 | N42: =VLOOKUP(B42,'2024'!$B$3:$F$100,2, FALSE) -> 150 | O42: =VLOOKUP(B42,'2024'!$B$3:$F$100,3, FALSE) -> 310 | P42: =VLOOKUP(B42,'2023'!$B$3:$F$100,2, FALSE) -> 146.5 | Q42: =VLOOKUP(B42,'2023'!$B$3:$F$100,3, FALSE) -> 290 | R42: =VLOOKUP(B42,'2022'!$B$3:$F$100,2, FALSE) -> 132.5 | S42: =VLOOKUP(B42,'2022'!$B$3:$F$100,3, FALSE) -> 290 | T42: =VLOOKUP(B42,'2021'!$B$3:$F$100,2, FALSE) -> 139.5 | U42: =VLOOKUP(B42,'2021'!$B$3:$F$100,3, FALSE) -> 288 | V42: =VLOOKUP(B42,'2020'!$B$3:$F$100,2, FALSE) -> 144 | W42: =VLOOKUP(B42,'2020'!$B$3:$F$100,3, FALSE) -> 292 | X42: =VLOOKUP(B42,'2019'!$B$3:$F$100,2, FALSE) -> 133.5 | Y42: =VLOOKUP(B42,'2019'!$B$3:$F$100,3, FALSE) -> 300 | Z42: =VLOOKUP(B42,'2018'!$B$3:$F$100,2, FALSE) -> 129.5 | AA42: =VLOOKUP(B42,'2018'!$B$3:$F$100,3, FALSE) -> 290 | AB42: =VLOOKUP(B42,'2017'!$B$3:$F$100,2, FALSE) -> 146.5 | AC42: =VLOOKUP(B42,'2017'!$B$3:$F$100,3, FALSE) -> 290 | AD42: =VLOOKUP(B42,'2016'!$B$3:$F$100,2, FALSE) -> 146 | AE42: =VLOOKUP(B42,'2016'!$B$3:$F$100,3, FALSE) -> 290 | AF42: =VLOOKUP(B42,'2015'!$B$3:$F$100,2, FALSE) -> 186.5 | AG42: =VLOOKUP(B42,'2015'!$B$3:$F$100,3, FALSE) -> 350
A43: 39 | B43: Olmos, Donny | C43: =J43+L43+N43+P43+R43+T43+V43+X43+Z43+AB43+AD43+AF43 -> 303.5 | D43: =K43+M43+O43+Q43+S43+U43+W43+Y43+AA43+AC43+AE43+AG43 -> 600 | E43: =C43/D43 -> 0.50583333 | F43: =COUNT(J43:AAM43)/2 -> 2 | G43: =INDEX(Records!$B$4:$D$102,MATCH(B43,Records!$C$4:$C$102,0),1) -> 42nd | H43: =INDEX(Records!$F$4:$H$102,MATCH(B43,Records!$G$4:$G$102,0),1) -> 4th | N43: =VLOOKUP(B43,'2024'!$B$3:$F$100,2, FALSE) -> 152 | O43: =VLOOKUP(B43,'2024'!$B$3:$F$100,3, FALSE) -> 310 | P43: =VLOOKUP(B43,'2023'!$B$3:$F$100,2, FALSE) -> 151.5 | Q43: =VLOOKUP(B43,'2023'!$B$3:$F$100,3, FALSE) -> 290
A44: 40 | B44: Pearce, Andrew | C44: =J44+L44+N44+P44+R44+T44+V44+X44+Z44+AB44+AD44+AF44 -> 142.5 | D44: =K44+M44+O44+Q44+S44+U44+W44+Y44+AA44+AC44+AE44+AG44 -> 290 | E44: =C44/D44 -> 0.49137931 | F44: =COUNT(J44:AAM44)/2 -> 1 | G44: =INDEX(Records!$B$4:$D$102,MATCH(B44,Records!$C$4:$C$102,0),1) -> 59th | H44: =INDEX(Records!$F$4:$H$102,MATCH(B44,Records!$G$4:$G$102,0),1) -> 21st | AB44: =VLOOKUP(B44,'2017'!$B$3:$F$100,2, FALSE) -> 142.5 | AC44: =VLOOKUP(B44,'2017'!$B$3:$F$100,3, FALSE) -> 290
A45: 41 | B45: Pearce, Matt | C45: =J45+L45+N45+P45+R45+T45+V45+X45+Z45+AB45+AD45+AF45 -> 218.5 | D45: =K45+M45+O45+Q45+S45+U45+W45+Y45+AA45+AC45+AE45+AG45 -> 490 | E45: =C45/D45 -> 0.44591837 | F45: =COUNT(J45:AAM45)/2 -> 2 | G45: =INDEX(Records!$B$4:$D$102,MATCH(B45,Records!$C$4:$C$102,0),1) -> 50th | H45: =INDEX(Records!$F$4:$H$102,MATCH(B45,Records!$G$4:$G$102,0),1) -> 61st | Z45: =VLOOKUP(B45,'2018'!$B$3:$F$100,2, FALSE) -> 72 | AA45: =VLOOKUP(B45,'2018'!$B$3:$F$100,3, FALSE) -> 200 | AB45: =VLOOKUP(B45,'2017'!$B$3:$F$100,2, FALSE) -> 146.5 | AC45: =VLOOKUP(B45,'2017'!$B$3:$F$100,3, FALSE) -> 290
A46: 42 | B46: Prothro, John | C46: =J46+L46+N46+P46+R46+T46+V46+X46+Z46+AB46+AD46+AF46 -> 138.5 | D46: =K46+M46+O46+Q46+S46+U46+W46+Y46+AA46+AC46+AE46+AG46 -> 300 | E46: =C46/D46 -> 0.46166667 | F46: =COUNT(J46:AAM46)/2 -> 1 | G46: =INDEX(Records!$B$4:$D$102,MATCH(B46,Records!$C$4:$C$102,0),1) -> 62nd-T | H46: =INDEX(Records!$F$4:$H$102,MATCH(B46,Records!$G$4:$G$102,0),1) -> 53rd-T | AF46: =VLOOKUP(B46,'2015'!$B$3:$F$100,2, FALSE) -> 138.5 | AG46: =VLOOKUP(B46,'2015'!$B$3:$F$100,3, FALSE) -> 300
A47: 43 | B47: Prothro, Tom | C47: =J47+L47+N47+P47+R47+T47+V47+X47+Z47+AB47+AD47+AF47 -> 138.5 | D47: =K47+M47+O47+Q47+S47+U47+W47+Y47+AA47+AC47+AE47+AG47 -> 300 | E47: =C47/D47 -> 0.46166667 | F47: =COUNT(J47:AAM47)/2 -> 1 | G47: =INDEX(Records!$B$4:$D$102,MATCH(B47,Records!$C$4:$C$102,0),1) -> 62nd-T | H47: =INDEX(Records!$F$4:$H$102,MATCH(B47,Records!$G$4:$G$102,0),1) -> 53rd-T | AF47: =VLOOKUP(B47,'2015'!$B$3:$F$100,2, FALSE) -> 138.5 | AG47: =VLOOKUP(B47,'2015'!$B$3:$F$100,3, FALSE) -> 300
A48: 44 | B48: Purschwitz, Dan | C48: =J48+L48+N48+P48+R48+T48+V48+X48+Z48+AB48+AD48+AF48 -> 354 | D48: =K48+M48+O48+Q48+S48+U48+W48+Y48+AA48+AC48+AE48+AG48 -> 735 | E48: =C48/D48 -> 0.48163265 | F48: =COUNT(J48:AAM48)/2 -> 3 | G48: =INDEX(Records!$B$4:$D$102,MATCH(B48,Records!$C$4:$C$102,0),1) -> 41st | H48: =INDEX(Records!$F$4:$H$102,MATCH(B48,Records!$G$4:$G$102,0),1) -> 39th | J48: =VLOOKUP(B48,'2026'!$B$3:$F$92,2, FALSE) -> 82 | K48: =VLOOKUP(B48,'2026'!$B$3:$F$92,3, FALSE) -> 180 | L48: =VLOOKUP(B48,'2025'!$B$3:$F$100,2, FALSE) -> 136 | M48: =VLOOKUP(B48,'2025'!$B$3:$F$100,3, FALSE) -> 285 | N48: =VLOOKUP(B48,'2024'!$B$3:$F$100,2, FALSE) -> 136 | O48: =VLOOKUP(B48,'2024'!$B$3:$F$100,3, FALSE) -> 270
A49: 45 | B49: Rapisand, Ryan | C49: =J49+L49+N49+P49+R49+T49+V49+X49+Z49+AB49+AD49+AF49 -> 174.5 | D49: =K49+M49+O49+Q49+S49+U49+W49+Y49+AA49+AC49+AE49+AG49 -> 350 | E49: =C49/D49 -> 0.49857143 | F49: =COUNT(J49:AAM49)/2 -> 1 | G49: =INDEX(Records!$B$4:$D$102,MATCH(B49,Records!$C$4:$C$102,0),1) -> 52nd | H49: =INDEX(Records!$F$4:$H$102,MATCH(B49,Records!$G$4:$G$102,0),1) -> 11th | AF49: =VLOOKUP(B49,'2015'!$B$3:$F$100,2, FALSE) -> 174.5 | AG49: =VLOOKUP(B49,'2015'!$B$3:$F$100,3, FALSE) -> 350
A50: 46 | B50: Roberts, Jeff | C50: =J50+L50+N50+P50+R50+T50+V50+X50+Z50+AB50+AD50+AF50 -> 1716 | D50: =K50+M50+O50+Q50+S50+U50+W50+Y50+AA50+AC50+AE50+AG50 -> 3455 | E50: =C50/D50 -> 0.49667149 | F50: =COUNT(J50:AAM50)/2 -> 12 | G50: =INDEX(Records!$B$4:$D$102,MATCH(B50,Records!$C$4:$C$102,0),1) -> 1st | H50: =INDEX(Records!$F$4:$H$102,MATCH(B50,Records!$G$4:$G$102,0),1) -> 12th | J50: =VLOOKUP(B50,'2026'!$B$3:$F$92,2, FALSE) -> 83 | K50: =VLOOKUP(B50,'2026'!$B$3:$F$92,3, FALSE) -> 180 | L50: =VLOOKUP(B50,'2025'!$B$3:$F$100,2, FALSE) -> 138 | M50: =VLOOKUP(B50,'2025'!$B$3:$F$100,3, FALSE) -> 285 | N50: =VLOOKUP(B50,'2024'!$B$3:$F$100,2, FALSE) -> 161 | O50: =VLOOKUP(B50,'2024'!$B$3:$F$100,3, FALSE) -> 310 | P50: =VLOOKUP(B50,'2023'!$B$3:$F$100,2, FALSE) -> 145.5 | Q50: =VLOOKUP(B50,'2023'!$B$3:$F$100,3, FALSE) -> 290 | R50: =VLOOKUP(B50,'2022'!$B$3:$F$100,2, FALSE) -> 141.5 | S50: =VLOOKUP(B50,'2022'!$B$3:$F$100,3, FALSE) -> 290 | T50: =VLOOKUP(B50,'2021'!$B$3:$F$100,2, FALSE) -> 145.5 | U50: =VLOOKUP(B50,'2021'!$B$3:$F$100,3, FALSE) -> 288 | V50: =VLOOKUP(B50,'2020'!$B$3:$F$100,2, FALSE) -> 142 | W50: =VLOOKUP(B50,'2020'!$B$3:$F$100,3, FALSE) -> 292 | X50: =VLOOKUP(B50,'2019'!$B$3:$F$100,2, FALSE) -> 161.5 | Y50: =VLOOKUP(B50,'2019'!$B$3:$F$100,3, FALSE) -> 300 | Z50: =VLOOKUP(B50,'2018'!$B$3:$F$100,2, FALSE) -> 132.5 | AA50: =VLOOKUP(B50,'2018'!$B$3:$F$100,3, FALSE) -> 290 | AB50: =VLOOKUP(B50,'2017'!$B$3:$F$100,2, FALSE) -> 144.5 | AC50: =VLOOKUP(B50,'2017'!$B$3:$F$100,3, FALSE) -> 290 | AD50: =VLOOKUP(B50,'2016'!$B$3:$F$100,2, FALSE) -> 137 | AE50: =VLOOKUP(B50,'2016'!$B$3:$F$100,3, FALSE) -> 290 | AF50: =VLOOKUP(B50,'2015'!$B$3:$F$100,2, FALSE) -> 184 | AG50: =VLOOKUP(B50,'2015'!$B$3:$F$100,3, FALSE) -> 350
A51: 47 | B51: Ross, Jeff | C51: =J51+L51+N51+P51+R51+T51+V51+X51+Z51+AB51+AD51+AF51 -> 66 | D51: =K51+M51+O51+Q51+S51+U51+W51+Y51+AA51+AC51+AE51+AG51 -> 168 | E51: =C51/D51 -> 0.39285714 | F51: =COUNT(J51:AAM51)/2 -> 1 | G51: =INDEX(Records!$B$4:$D$102,MATCH(B51,Records!$C$4:$C$102,0),1) -> 71st | H51: =INDEX(Records!$F$4:$H$102,MATCH(B51,Records!$G$4:$G$102,0),1) -> 69th | R51: =VLOOKUP(B51,'2022'!$B$3:$F$100,2, FALSE) -> 66 | S51: =VLOOKUP(B51,'2022'!$B$3:$F$100,3, FALSE) -> 168
A52: 48 | B52: Robertson, Josh | C52: =J52+L52+N52+P52+R52+T52+V52+X52+Z52+AB52+AD52+AF52 -> 71.5 | D52: =K52+M52+O52+Q52+S52+U52+W52+Y52+AA52+AC52+AE52+AG52 -> 175 | E52: =C52/D52 -> 0.40857143 | F52: =COUNT(J52:AAM52)/2 -> 1 | G52: =INDEX(Records!$B$4:$D$102,MATCH(B52,Records!$C$4:$C$102,0),1) -> 70th | H52: =INDEX(Records!$F$4:$H$102,MATCH(B52,Records!$G$4:$G$102,0),1) -> 68th | AF52: =VLOOKUP(B52,'2015'!$B$3:$F$100,2, FALSE) -> 71.5 | AG52: =VLOOKUP(B52,'2015'!$B$3:$F$100,3, FALSE) -> 175
A53: 49 | B53: Scoville, Jordan | C53: =J53+L53+N53+P53+R53+T53+V53+X53+Z53+AB53+AD53+AF53 -> 1383 | D53: =K53+M53+O53+Q53+S53+U53+W53+Y53+AA53+AC53+AE53+AG53 -> 2815 | E53: =C53/D53 -> 0.49129663 | F53: =COUNT(J53:AAM53)/2 -> 10 | G53: =INDEX(Records!$B$4:$D$102,MATCH(B53,Records!$C$4:$C$102,0),1) -> 13th | H53: =INDEX(Records!$F$4:$H$102,MATCH(B53,Records!$G$4:$G$102,0),1) -> 22nd | J53: =VLOOKUP(B53,'2026'!$B$3:$F$92,2, FALSE) -> 87 | K53: =VLOOKUP(B53,'2026'!$B$3:$F$92,3, FALSE) -> 180 | L53: =VLOOKUP(B53,'2025'!$B$3:$F$100,2, FALSE) -> 133 | M53: =VLOOKUP(B53,'2025'!$B$3:$F$100,3, FALSE) -> 285 | N53: =VLOOKUP(B53,'2024'!$B$3:$F$100,2, FALSE) -> 157 | O53: =VLOOKUP(B53,'2024'!$B$3:$F$100,3, FALSE) -> 310 | P53: =VLOOKUP(B53,'2023'!$B$3:$F$100,2, FALSE) -> 145.5 | Q53: =VLOOKUP(B53,'2023'!$B$3:$F$100,3, FALSE) -> 290 | R53: =VLOOKUP(B53,'2022'!$B$3:$F$100,2, FALSE) -> 132.5 | S53: =VLOOKUP(B53,'2022'!$B$3:$F$100,3, FALSE) -> 290 | T53: =VLOOKUP(B53,'2021'!$B$3:$F$100,2, FALSE) -> 135.5 | U53: =VLOOKUP(B53,'2021'!$B$3:$F$100,3, FALSE) -> 288 | V53: =VLOOKUP(B53,'2020'!$B$3:$F$100,2, FALSE) -> 139 | W53: =VLOOKUP(B53,'2020'!$B$3:$F$100,3, FALSE) -> 292 | X53: =VLOOKUP(B53,'2019'!$B$3:$F$100,2, FALSE) -> 155.5 | Y53: =VLOOKUP(B53,'2019'!$B$3:$F$100,3, FALSE) -> 300 | Z53: =VLOOKUP(B53,'2018'!$B$3:$F$100,2, FALSE) -> 146.5 | AA53: =VLOOKUP(B53,'2018'!$B$3:$F$100,3, FALSE) -> 290 | AB53: =VLOOKUP(B53,'2017'!$B$3:$F$100,2, FALSE) -> 151.5 | AC53: =VLOOKUP(B53,'2017'!$B$3:$F$100,3, FALSE) -> 290
A54: 50 | B54: Seamands, Byron | C54: =J54+L54+N54+P54+R54+T54+V54+X54+Z54+AB54+AD54+AF54 -> 1625.5 | D54: =K54+M54+O54+Q54+S54+U54+W54+Y54+AA54+AC54+AE54+AG54 -> 3275 | E54: =C54/D54 -> 0.49633588 | F54: =COUNT(J54:AAM54)/2 -> 11 | G54: =INDEX(Records!$B$4:$D$102,MATCH(B54,Records!$C$4:$C$102,0),1) -> 8th | H54: =INDEX(Records!$F$4:$H$102,MATCH(B54,Records!$G$4:$G$102,0),1) -> 13th | L54: =VLOOKUP(B54,'2025'!$B$3:$F$100,2, FALSE) -> 141 | M54: =VLOOKUP(B54,'2025'!$B$3:$F$100,3, FALSE) -> 285 | N54: =VLOOKUP(B54,'2024'!$B$3:$F$100,2, FALSE) -> 156 | O54: =VLOOKUP(B54,'2024'!$B$3:$F$100,3, FALSE) -> 310 | P54: =VLOOKUP(B54,'2023'!$B$3:$F$100,2, FALSE) -> 149.5 | Q54: =VLOOKUP(B54,'2023'!$B$3:$F$100,3, FALSE) -> 290 | R54: =VLOOKUP(B54,'2022'!$B$3:$F$100,2, FALSE) -> 137.5 | S54: =VLOOKUP(B54,'2022'!$B$3:$F$100,3, FALSE) -> 290 | T54: =VLOOKUP(B54,'2021'!$B$3:$F$100,2, FALSE) -> 143.5 | U54: =VLOOKUP(B54,'2021'!$B$3:$F$100,3, FALSE) -> 288 | V54: =VLOOKUP(B54,'2020'!$B$3:$F$100,2, FALSE) -> 158 | W54: =VLOOKUP(B54,'2020'!$B$3:$F$100,3, FALSE) -> 292 | X54: =VLOOKUP(B54,'2019'!$B$3:$F$100,2, FALSE) -> 155.5 | Y54: =VLOOKUP(B54,'2019'!$B$3:$F$100,3, FALSE) -> 300 | Z54: =VLOOKUP(B54,'2018'!$B$3:$F$100,2, FALSE) -> 136.5 | AA54: =VLOOKUP(B54,'2018'!$B$3:$F$100,3, FALSE) -> 290 | AB54: =VLOOKUP(B54,'2017'!$B$3:$F$100,2, FALSE) -> 142.5 | AC54: =VLOOKUP(B54,'2017'!$B$3:$F$100,3, FALSE) -> 290 | AD54: =VLOOKUP(B54,'2016'!$B$3:$F$100,2, FALSE) -> 126 | AE54: =VLOOKUP(B54,'2016'!$B$3:$F$100,3, FALSE) -> 290 | AF54: =VLOOKUP(B54,'2015'!$B$3:$F$100,2, FALSE) -> 179.5 | AG54: =VLOOKUP(B54,'2015'!$B$3:$F$100,3, FALSE) -> 350
A55: 51 | B55: Seamands, Jorden | C55: =J55+L55+N55+P55+R55+T55+V55+X55+Z55+AB55+AD55+AF55 -> 1694.5 | D55: =K55+M55+O55+Q55+S55+U55+W55+Y55+AA55+AC55+AE55+AG55 -> 3455 | E55: =C55/D55 -> 0.49044863 | F55: =COUNT(J55:AAM55)/2 -> 12 | G55: =INDEX(Records!$B$4:$D$102,MATCH(B55,Records!$C$4:$C$102,0),1) -> 4th | H55: =INDEX(Records!$F$4:$H$102,MATCH(B55,Records!$G$4:$G$102,0),1) -> 24th | J55: =VLOOKUP(B55,'2026'!$B$3:$F$92,2, FALSE) -> 83 | K55: =VLOOKUP(B55,'2026'!$B$3:$F$92,3, FALSE) -> 180 | L55: =VLOOKUP(B55,'2025'!$B$3:$F$100,2, FALSE) -> 144 | M55: =VLOOKUP(B55,'2025'!$B$3:$F$100,3, FALSE) -> 285 | N55: =VLOOKUP(B55,'2024'!$B$3:$F$100,2, FALSE) -> 139 | O55: =VLOOKUP(B55,'2024'!$B$3:$F$100,3, FALSE) -> 310 | P55: =VLOOKUP(B55,'2023'!$B$3:$F$100,2, FALSE) -> 149.5 | Q55: =VLOOKUP(B55,'2023'!$B$3:$F$100,3, FALSE) -> 290 | R55: =VLOOKUP(B55,'2022'!$B$3:$F$100,2, FALSE) -> 130.5 | S55: =VLOOKUP(B55,'2022'!$B$3:$F$100,3, FALSE) -> 290 | T55: =VLOOKUP(B55,'2021'!$B$3:$F$100,2, FALSE) -> 155.5 | U55: =VLOOKUP(B55,'2021'!$B$3:$F$100,3, FALSE) -> 288 | V55: =VLOOKUP(B55,'2020'!$B$3:$F$100,2, FALSE) -> 147 | W55: =VLOOKUP(B55,'2020'!$B$3:$F$100,3, FALSE) -> 292 | X55: =VLOOKUP(B55,'2019'!$B$3:$F$100,2, FALSE) -> 145.5 | Y55: =VLOOKUP(B55,'2019'!$B$3:$F$100,3, FALSE) -> 300 | Z55: =VLOOKUP(B55,'2018'!$B$3:$F$100,2, FALSE) -> 151.5 | AA55: =VLOOKUP(B55,'2018'!$B$3:$F$100,3, FALSE) -> 290 | AB55: =VLOOKUP(B55,'2017'!$B$3:$F$100,2, FALSE) -> 146.5 | AC55: =VLOOKUP(B55,'2017'!$B$3:$F$100,3, FALSE) -> 290 | AD55: =VLOOKUP(B55,'2016'!$B$3:$F$100,2, FALSE) -> 133 | AE55: =VLOOKUP(B55,'2016'!$B$3:$F$100,3, FALSE) -> 290 | AF55: =VLOOKUP(B55,'2015'!$B$3:$F$100,2, FALSE) -> 169.5 | AG55: =VLOOKUP(B55,'2015'!$B$3:$F$100,3, FALSE) -> 350
A56: 52 | B56: Seamands, Mike | C56: =J56+L56+N56+P56+R56+T56+V56+X56+Z56+AB56+AD56+AF56 -> 151.5 | D56: =K56+M56+O56+Q56+S56+U56+W56+Y56+AA56+AC56+AE56+AG56 -> 350 | E56: =C56/D56 -> 0.43285714 | F56: =COUNT(J56:AAM56)/2 -> 1 | G56: =INDEX(Records!$B$4:$D$102,MATCH(B56,Records!$C$4:$C$102,0),1) -> 57th | H56: =INDEX(Records!$F$4:$H$102,MATCH(B56,Records!$G$4:$G$102,0),1) -> 63rd | AF56: =VLOOKUP(B56,'2015'!$B$3:$F$100,2, FALSE) -> 151.5 | AG56: =VLOOKUP(B56,'2015'!$B$3:$F$100,3, FALSE) -> 350
A57: 53 | B57: Seamands, Natalie | C57: =J57+L57+N57+P57+R57+T57+V57+X57+Z57+AB57+AD57+AF57 -> 484.5 | D57: =K57+M57+O57+Q57+S57+U57+W57+Y57+AA57+AC57+AE57+AG57 -> 965 | E57: =C57/D57 -> 0.50207254 | F57: =COUNT(J57:AAM57)/2 -> 4 | G57: =INDEX(Records!$B$4:$D$102,MATCH(B57,Records!$C$4:$C$102,0),1) -> 37th | H57: =INDEX(Records!$F$4:$H$102,MATCH(B57,Records!$G$4:$G$102,0),1) -> 7th | J57: =VLOOKUP(B57,'2026'!$B$3:$F$92,2, FALSE) -> 81 | K57: =VLOOKUP(B57,'2026'!$B$3:$F$92,3, FALSE) -> 180 | L57: =VLOOKUP(B57,'2025'!$B$3:$F$100,2, FALSE) -> 137 | M57: =VLOOKUP(B57,'2025'!$B$3:$F$100,3, FALSE) -> 285 | N57: =VLOOKUP(B57,'2024'!$B$3:$F$100,2, FALSE) -> 164 | O57: =VLOOKUP(B57,'2024'!$B$3:$F$100,3, FALSE) -> 310 | P57: =VLOOKUP(B57,'2023'!$B$3:$F$100,2, FALSE) -> 102.5 | Q57: =VLOOKUP(B57,'2023'!$B$3:$F$100,3, FALSE) -> 190
A58: 54 | B58: Seamands, Nathan | C58: =J58+L58+N58+P58+R58+T58+V58+X58+Z58+AB58+AD58+AF58 -> 245 | D58: =K58+M58+O58+Q58+S58+U58+W58+Y58+AA58+AC58+AE58+AG58 -> 465 | E58: =C58/D58 -> 0.52688172 | F58: =COUNT(J58:AAM58)/2 -> 2 | G58: =INDEX(Records!$B$4:$D$102,MATCH(B58,Records!$C$4:$C$102,0),1) -> 47th | H58: =INDEX(Records!$F$4:$H$102,MATCH(B58,Records!$G$4:$G$102,0),1) -> 1st | J58: =VLOOKUP(B58,'2026'!$B$3:$F$92,2, FALSE) -> 95 | K58: =VLOOKUP(B58,'2026'!$B$3:$F$92,3, FALSE) -> 180 | L58: =VLOOKUP(B58,'2025'!$B$3:$F$100,2, FALSE) -> 150 | M58: =VLOOKUP(B58,'2025'!$B$3:$F$100,3, FALSE) -> 285
A59: 55 | B59: Simba, Julio | C59: =J59+L59+N59+P59+R59+T59+V59+X59+Z59+AB59+AD59+AF59 -> 654 | D59: =K59+M59+O59+Q59+S59+U59+W59+Y59+AA59+AC59+AE59+AG59 -> 1355 | E59: =C59/D59 -> 0.48265683 | F59: =COUNT(J59:AAM59)/2 -> 5 | G59: =INDEX(Records!$B$4:$D$102,MATCH(B59,Records!$C$4:$C$102,0),1) -> 28th-T | H59: =INDEX(Records!$F$4:$H$102,MATCH(B59,Records!$G$4:$G$102,0),1) -> 37th | J59: =VLOOKUP(B59,'2026'!$B$3:$F$92,2, FALSE) -> 95 | K59: =VLOOKUP(B59,'2026'!$B$3:$F$92,3, FALSE) -> 180 | L59: =VLOOKUP(B59,'2025'!$B$3:$F$100,2, FALSE) -> 119 | M59: =VLOOKUP(B59,'2025'!$B$3:$F$100,3, FALSE) -> 285 | N59: =VLOOKUP(B59,'2024'!$B$3:$F$100,2, FALSE) -> 148 | O59: =VLOOKUP(B59,'2024'!$B$3:$F$100,3, FALSE) -> 310 | P59: =VLOOKUP(B59,'2023'!$B$3:$F$100,2, FALSE) -> 151.5 | Q59: =VLOOKUP(B59,'2023'!$B$3:$F$100,3, FALSE) -> 290 | R59: =VLOOKUP(B59,'2022'!$B$3:$F$100,2, FALSE) -> 140.5 | S59: =VLOOKUP(B59,'2022'!$B$3:$F$100,3, FALSE) -> 290
A60: 56 | B60: Skipper, Steve | C60: =J60+L60+N60+P60+R60+T60+V60+X60+Z60+AB60+AD60+AF60 -> 120.5 | D60: =K60+M60+O60+Q60+S60+U60+W60+Y60+AA60+AC60+AE60+AG60 -> 350 | E60: =C60/D60 -> 0.34428571 | F60: =COUNT(J60:AAM60)/2 -> 1 | G60: =INDEX(Records!$B$4:$D$102,MATCH(B60,Records!$C$4:$C$102,0),1) -> 68th | H60: =INDEX(Records!$F$4:$H$102,MATCH(B60,Records!$G$4:$G$102,0),1) -> 72nd | AF60: =VLOOKUP(B60,'2015'!$B$3:$F$100,2, FALSE) -> 120.5 | AG60: =VLOOKUP(B60,'2015'!$B$3:$F$100,3, FALSE) -> 350
A61: 57 | B61: Sloan, Kenneth | C61: =J61+L61+N61+P61+R61+T61+V61+X61+Z61+AB61+AD61+AF61 -> 505.5 | D61: =K61+M61+O61+Q61+S61+U61+W61+Y61+AA61+AC61+AE61+AG61 -> 1053 | E61: =C61/D61 -> 0.48005698 | F61: =COUNT(J61:AAM61)/2 -> 4 | G61: =INDEX(Records!$B$4:$D$102,MATCH(B61,Records!$C$4:$C$102,0),1) -> 34th | H61: =INDEX(Records!$F$4:$H$102,MATCH(B61,Records!$G$4:$G$102,0),1) -> 41st | J61: =VLOOKUP(B61,'2026'!$B$3:$F$92,2, FALSE) -> 82 | K61: =VLOOKUP(B61,'2026'!$B$3:$F$92,3, FALSE) -> 180 | N61: =VLOOKUP(B61,'2024'!$B$3:$F$100,2, FALSE) -> 149 | O61: =VLOOKUP(B61,'2024'!$B$3:$F$100,3, FALSE) -> 310 | P61: =VLOOKUP(B61,'2023'!$B$3:$F$100,2, FALSE) -> 143.5 | Q61: =VLOOKUP(B61,'2023'!$B$3:$F$100,3, FALSE) -> 290 | R61: =VLOOKUP(B61,'2022'!$B$3:$F$100,2, FALSE) -> 131 | S61: =VLOOKUP(B61,'2022'!$B$3:$F$100,3, FALSE) -> 273
A62: 58 | B62: Smith, Brad | C62: =J62+L62+N62+P62+R62+T62+V62+X62+Z62+AB62+AD62+AF62 -> 654 | D62: =K62+M62+O62+Q62+S62+U62+W62+Y62+AA62+AC62+AE62+AG62 -> 1355 | E62: =C62/D62 -> 0.48265683 | F62: =COUNT(J62:AAM62)/2 -> 5 | G62: =INDEX(Records!$B$4:$D$102,MATCH(B62,Records!$C$4:$C$102,0),1) -> 28th-T | H62: =INDEX(Records!$F$4:$H$102,MATCH(B62,Records!$G$4:$G$102,0),1) -> 36th | J62: =VLOOKUP(B62,'2026'!$B$3:$F$92,2, FALSE) -> 87 | K62: =VLOOKUP(B62,'2026'!$B$3:$F$92,3, FALSE) -> 180 | L62: =VLOOKUP(B62,'2025'!$B$3:$F$100,2, FALSE) -> 132 | M62: =VLOOKUP(B62,'2025'!$B$3:$F$100,3, FALSE) -> 285 | N62: =VLOOKUP(B62,'2024'!$B$3:$F$100,2, FALSE) -> 165 | O62: =VLOOKUP(B62,'2024'!$B$3:$F$100,3, FALSE) -> 310 | P62: =VLOOKUP(B62,'2023'!$B$3:$F$100,2, FALSE) -> 139.5 | Q62: =VLOOKUP(B62,'2023'!$B$3:$F$100,3, FALSE) -> 290 | R62: =VLOOKUP(B62,'2022'!$B$3:$F$100,2, FALSE) -> 130.5 | S62: =VLOOKUP(B62,'2022'!$B$3:$F$100,3, FALSE) -> 290
A63: 59 | B63: Smith, Payton | C63: =J63+L63+N63+P63+R63+T63+V63+X63+Z63+AB63+AD63+AF63 -> 479.5 | D63: =K63+M63+O63+Q63+S63+U63+W63+Y63+AA63+AC63+AE63+AG63 -> 1065 | E63: =C63/D63 -> 0.45023474 | F63: =COUNT(J63:AAM63)/2 -> 4 | G63: =INDEX(Records!$B$4:$D$102,MATCH(B63,Records!$C$4:$C$102,0),1) -> 38th | H63: =INDEX(Records!$F$4:$H$102,MATCH(B63,Records!$G$4:$G$102,0),1) -> 59th | J63: =VLOOKUP(B63,'2026'!$B$3:$F$92,2, FALSE) -> 86 | K63: =VLOOKUP(B63,'2026'!$B$3:$F$92,3, FALSE) -> 180 | L63: =VLOOKUP(B63,'2025'!$B$3:$F$100,2, FALSE) -> 116 | M63: =VLOOKUP(B63,'2025'!$B$3:$F$100,3, FALSE) -> 285 | N63: =VLOOKUP(B63,'2024'!$B$3:$F$100,2, FALSE) -> 145 | O63: =VLOOKUP(B63,'2024'!$B$3:$F$100,3, FALSE) -> 310 | P63: =VLOOKUP(B63,'2023'!$B$3:$F$100,2, FALSE) -> 132.5 | Q63: =VLOOKUP(B63,'2023'!$B$3:$F$100,3, FALSE) -> 290
A64: 60 | B64: Southerland, Brett | C64: =J64+L64+N64+P64+R64+T64+V64+X64+Z64+AB64+AD64+AF64 -> 84 | D64: =K64+M64+O64+Q64+S64+U64+W64+Y64+AA64+AC64+AE64+AG64 -> 180 | E64: =C64/D64 -> 0.46666667 | F64: =COUNT(J64:AAM64)/2 -> 1 | G64: =INDEX(Records!$B$4:$D$102,MATCH(B64,Records!$C$4:$C$102,0),1) -> 69th | H64: =INDEX(Records!$F$4:$H$102,MATCH(B64,Records!$G$4:$G$102,0),1) -> 51st | J64: =VLOOKUP(B64,'2026'!$B$3:$F$92,2, FALSE) -> 84 | K64: =VLOOKUP(B64,'2026'!$B$3:$F$92,3, FALSE) -> 180
A65: 61 | B65: Smith, Ashton | C65: =J65+L65+N65+P65+R65+T65+V65+X65+Z65+AB65+AD65+AF65 -> 49 | D65: =K65+M65+O65+Q65+S65+U65+W65+Y65+AA65+AC65+AE65+AG65 -> 140 | E65: =C65/D65 -> 0.35 | F65: =COUNT(J65:AAM65)/2 -> 1 | G65: =INDEX(Records!$B$4:$D$102,MATCH(B65,Records!$C$4:$C$102,0),1) -> 72nd | H65: =INDEX(Records!$F$4:$H$102,MATCH(B65,Records!$G$4:$G$102,0),1) -> 71st | J65: =VLOOKUP(B65,'2026'!$B$3:$F$92,2, FALSE) -> 49 | K65: =VLOOKUP(B65,'2026'!$B$3:$F$92,3, FALSE) -> 140
A66: 62 | B66: Smith, Shawn | C66: =J66+L66+N66+P66+R66+T66+V66+X66+Z66+AB66+AD66+AF66 -> 515.5 | D66: =K66+M66+O66+Q66+S66+U66+W66+Y66+AA66+AC66+AE66+AG66 -> 1045 | E66: =C66/D66 -> 0.49330144 | F66: =COUNT(J66:AAM66)/2 -> 4 | G66: =INDEX(Records!$B$4:$D$102,MATCH(B66,Records!$C$4:$C$102,0),1) -> 33rd | H66: =INDEX(Records!$F$4:$H$102,MATCH(B66,Records!$G$4:$G$102,0),1) -> 20th | J66: =VLOOKUP(B66,'2026'!$B$3:$F$92,2, FALSE) -> 73 | K66: =VLOOKUP(B66,'2026'!$B$3:$F$92,3, FALSE) -> 160 | L66: =VLOOKUP(B66,'2025'!$B$3:$F$100,2, FALSE) -> 133 | M66: =VLOOKUP(B66,'2025'!$B$3:$F$100,3, FALSE) -> 285 | N66: =VLOOKUP(B66,'2024'!$B$3:$F$100,2, FALSE) -> 159 | O66: =VLOOKUP(B66,'2024'!$B$3:$F$100,3, FALSE) -> 310 | P66: =VLOOKUP(B66,'2023'!$B$3:$F$100,2, FALSE) -> 150.5 | Q66: =VLOOKUP(B66,'2023'!$B$3:$F$100,3, FALSE) -> 290
A67: 63 | B67: Strain, Billy | C67: =J67+L67+N67+P67+R67+T67+V67+X67+Z67+AB67+AD67+AF67 -> 161.5 | D67: =K67+M67+O67+Q67+S67+U67+W67+Y67+AA67+AC67+AE67+AG67 -> 399 | E67: =C67/D67 -> 0.4047619 | F67: =COUNT(J67:AAM67)/2 -> 2 | G67: =INDEX(Records!$B$4:$D$102,MATCH(B67,Records!$C$4:$C$102,0),1) -> 55th | H67: =INDEX(Records!$F$4:$H$102,MATCH(B67,Records!$G$4:$G$102,0),1) -> 69th | N67: =VLOOKUP(B67,'2024'!$B$3:$F$100,2, FALSE) -> 72 | O67: =VLOOKUP(B67,'2024'!$B$3:$F$100,3, FALSE) -> 180 | T67: =VLOOKUP(B67,'2021'!$B$3:$F$100,2, FALSE) -> 89.5 | U67: =VLOOKUP(B67,'2021'!$B$3:$F$100,3, FALSE) -> 219
A68: 64 | B68: Strang, Spencer | C68: =J68+L68+N68+P68+R68+T68+V68+X68+Z68+AB68+AD68+AF68 -> 123.5 | D68: =K68+M68+O68+Q68+S68+U68+W68+Y68+AA68+AC68+AE68+AG68 -> 286 | E68: =C68/D68 -> 0.43181818 | F68: =COUNT(J68:AAM68)/2 -> 1 | G68: =INDEX(Records!$B$4:$D$102,MATCH(B68,Records!$C$4:$C$102,0),1) -> 67th | H68: =INDEX(Records!$F$4:$H$102,MATCH(B68,Records!$G$4:$G$102,0),1) -> 67th | N68: =VLOOKUP(B68,'2024'!$B$3:$F$100,2, FALSE) -> 123.5 | O68: =VLOOKUP(B68,'2024'!$B$3:$F$100,3, FALSE) -> 286
A69: 65 | B69: Swindell, Richard | C69: =J69+L69+N69+P69+R69+T69+V69+X69+Z69+AB69+AD69+AF69 -> 272 | D69: =K69+M69+O69+Q69+S69+U69+W69+Y69+AA69+AC69+AE69+AG69 -> 590 | E69: =C69/D69 -> 0.46101695 | F69: =COUNT(J69:AAM69)/2 -> 2 | G69: =INDEX(Records!$B$4:$D$102,MATCH(B69,Records!$C$4:$C$102,0),1) -> 45th | H69: =INDEX(Records!$F$4:$H$102,MATCH(B69,Records!$G$4:$G$102,0),1) -> 55th | X69: =VLOOKUP(B69,'2019'!$B$3:$F$100,2, FALSE) -> 154.5 | Y69: =VLOOKUP(B69,'2019'!$B$3:$F$100,3, FALSE) -> 300 | Z69: =VLOOKUP(B69,'2018'!$B$3:$F$100,2, FALSE) -> 117.5 | AA69: =VLOOKUP(B69,'2018'!$B$3:$F$100,3, FALSE) -> 290
A70: 66 | B70: Trant, Amon | C70: =J70+L70+N70+P70+R70+T70+V70+X70+Z70+AB70+AD70+AF70 -> 293 | D70: =K70+M70+O70+Q70+S70+U70+W70+Y70+AA70+AC70+AE70+AG70 -> 625 | E70: =C70/D70 -> 0.4688 | F70: =COUNT(J70:AAM70)/2 -> 3 | G70: =INDEX(Records!$B$4:$D$102,MATCH(B70,Records!$C$4:$C$102,0),1) -> 43rd | H70: =INDEX(Records!$F$4:$H$102,MATCH(B70,Records!$G$4:$G$102,0),1) -> 48th | J70: =VLOOKUP(B70,'2026'!$B$3:$F$92,2, FALSE) -> 91 | K70: =VLOOKUP(B70,'2026'!$B$3:$F$92,3, FALSE) -> 180 | L70: =VLOOKUP(B70,'2025'!$B$3:$F$100,2, FALSE) -> 139 | M70: =VLOOKUP(B70,'2025'!$B$3:$F$100,3, FALSE) -> 285 | P70: =VLOOKUP(B70,'2023'!$B$3:$F$100,2, FALSE) -> 63 | Q70: =VLOOKUP(B70,'2023'!$B$3:$F$100,3, FALSE) -> 160
A71: 67 | B71: Trant, Cody | C71: =J71+L71+N71+P71+R71+T71+V71+X71+Z71+AB71+AD71+AF71 -> 201 | D71: =K71+M71+O71+Q71+S71+U71+W71+Y71+AA71+AC71+AE71+AG71 -> 465 | E71: =C71/D71 -> 0.43225806 | F71: =COUNT(J71:AAM71)/2 -> 2 | G71: =INDEX(Records!$B$4:$D$102,MATCH(B71,Records!$C$4:$C$102,0),1) -> 51st | H71: =INDEX(Records!$F$4:$H$102,MATCH(B71,Records!$G$4:$G$102,0),1) -> 66th | J71: =VLOOKUP(B71,'2026'!$B$3:$F$92,2, FALSE) -> 85 | K71: =VLOOKUP(B71,'2026'!$B$3:$F$92,3, FALSE) -> 180 | L71: =VLOOKUP(B71,'2025'!$B$3:$F$100,2, FALSE) -> 116 | M71: =VLOOKUP(B71,'2025'!$B$3:$F$100,3, FALSE) -> 285
A72: 68 | B72: Trant, Garrett | C72: =J72+L72+N72+P72+R72+T72+V72+X72+Z72+AB72+AD72+AF72 -> 224 | D72: =K72+M72+O72+Q72+S72+U72+W72+Y72+AA72+AC72+AE72+AG72 -> 465 | E72: =C72/D72 -> 0.48172043 | F72: =COUNT(J72:AAM72)/2 -> 2 | G72: =INDEX(Records!$B$4:$D$102,MATCH(B72,Records!$C$4:$C$102,0),1) -> 48th | H72: =INDEX(Records!$F$4:$H$102,MATCH(B72,Records!$G$4:$G$102,0),1) -> 38th | J72: =VLOOKUP(B72,'2026'!$B$3:$F$92,2, FALSE) -> 97 | K72: =VLOOKUP(B72,'2026'!$B$3:$F$92,3, FALSE) -> 180 | L72: =VLOOKUP(B72,'2025'!$B$3:$F$100,2, FALSE) -> 127 | M72: =VLOOKUP(B72,'2025'!$B$3:$F$100,3, FALSE) -> 285
A73: 69 | B73: Vance, Jeremy | C73: =J73+L73+N73+P73+R73+T73+V73+X73+Z73+AB73+AD73+AF73 -> 1269.5 | D73: =K73+M73+O73+Q73+S73+U73+W73+Y73+AA73+AC73+AE73+AG73 -> 2525 | E73: =C73/D73 -> 0.50277228 | F73: =COUNT(J73:AAM73)/2 -> 9 | G73: =INDEX(Records!$B$4:$D$102,MATCH(B73,Records!$C$4:$C$102,0),1) -> 17th | H73: =INDEX(Records!$F$4:$H$102,MATCH(B73,Records!$G$4:$G$102,0),1) -> 6th | J73: =VLOOKUP(B73,'2026'!$B$3:$F$92,2, FALSE) -> 93 | K73: =VLOOKUP(B73,'2026'!$B$3:$F$92,3, FALSE) -> 180 | L73: =VLOOKUP(B73,'2025'!$B$3:$F$100,2, FALSE) -> 146 | M73: =VLOOKUP(B73,'2025'!$B$3:$F$100,3, FALSE) -> 285 | N73: =VLOOKUP(B73,'2024'!$B$3:$F$100,2, FALSE) -> 153 | O73: =VLOOKUP(B73,'2024'!$B$3:$F$100,3, FALSE) -> 310 | P73: =VLOOKUP(B73,'2023'!$B$3:$F$100,2, FALSE) -> 149.5 | Q73: =VLOOKUP(B73,'2023'!$B$3:$F$100,3, FALSE) -> 290 | R73: =VLOOKUP(B73,'2022'!$B$3:$F$100,2, FALSE) -> 137.5 | S73: =VLOOKUP(B73,'2022'!$B$3:$F$100,3, FALSE) -> 290 | T73: =VLOOKUP(B73,'2021'!$B$3:$F$100,2, FALSE) -> 143.5 | U73: =VLOOKUP(B73,'2021'!$B$3:$F$100,3, FALSE) -> 288 | V73: =VLOOKUP(B73,'2020'!$B$3:$F$100,2, FALSE) -> 148 | W73: =VLOOKUP(B73,'2020'!$B$3:$F$100,3, FALSE) -> 292 | X73: =VLOOKUP(B73,'2019'!$B$3:$F$100,2, FALSE) -> 159.5 | Y73: =VLOOKUP(B73,'2019'!$B$3:$F$100,3, FALSE) -> 300 | AB73: =VLOOKUP(B73,'2017'!$B$3:$F$100,2, FALSE) -> 139.5 | AC73: =VLOOKUP(B73,'2017'!$B$3:$F$100,3, FALSE) -> 290
A74: 70 | B74: Williams, Reilee | C74: =J74+L74+N74+P74+R74+T74+V74+X74+Z74+AB74+AD74+AF74 -> 391.5 | D74: =K74+M74+O74+Q74+S74+U74+W74+Y74+AA74+AC74+AE74+AG74 -> 775 | E74: =C74/D74 -> 0.50516129 | F74: =COUNT(J74:AAM74)/2 -> 3 | G74: =INDEX(Records!$B$4:$D$102,MATCH(B74,Records!$C$4:$C$102,0),1) -> 39th | H74: =INDEX(Records!$F$4:$H$102,MATCH(B74,Records!$G$4:$G$102,0),1) -> 5th | J74: =VLOOKUP(B74,'2026'!$B$3:$F$92,2, FALSE) -> 84 | K74: =VLOOKUP(B74,'2026'!$B$3:$F$92,3, FALSE) -> 180 | L74: =VLOOKUP(B74,'2025'!$B$3:$F$100,2, FALSE) -> 154 | M74: =VLOOKUP(B74,'2025'!$B$3:$F$100,3, FALSE) -> 285 | N74: =VLOOKUP(B74,'2024'!$B$3:$F$100,2, FALSE) -> 153.5 | O74: =VLOOKUP(B74,'2024'!$B$3:$F$100,3, FALSE) -> 310
A75: 71 | B75: Young, Michael | C75: =J75+L75+N75+P75+R75+T75+V75+X75+Z75+AB75+AD75+AF75 -> 265 | D75: =K75+M75+O75+Q75+S75+U75+W75+Y75+AA75+AC75+AE75+AG75 -> 578 | E75: =C75/D75 -> 0.45847751 | F75: =COUNT(J75:AAM75)/2 -> 2 | G75: =INDEX(Records!$B$4:$D$102,MATCH(B75,Records!$C$4:$C$102,0),1) -> 46th | H75: =INDEX(Records!$F$4:$H$102,MATCH(B75,Records!$G$4:$G$102,0),1) -> 56th | R75: =VLOOKUP(B75,'2022'!$B$3:$F$100,2, FALSE) -> 118.5 | S75: =VLOOKUP(B75,'2022'!$B$3:$F$100,3, FALSE) -> 290 | T75: =VLOOKUP(B75,'2021'!$B$3:$F$100,2, FALSE) -> 146.5 | U75: =VLOOKUP(B75,'2021'!$B$3:$F$100,3, FALSE) -> 288
A76: 72 | B76: Zorn, Chad | C76: =J76+L76+N76+P76+R76+T76+V76+X76+Z76+AB76+AD76+AF76 -> 143.5 | D76: =K76+M76+O76+Q76+S76+U76+W76+Y76+AA76+AC76+AE76+AG76 -> 290 | E76: =C76/D76 -> 0.49482759 | F76: =COUNT(J76:AAM76)/2 -> 1 | G76: =INDEX(Records!$B$4:$D$102,MATCH(B76,Records!$C$4:$C$102,0),1) -> 58th | H76: =INDEX(Records!$F$4:$H$102,MATCH(B76,Records!$G$4:$G$102,0),1) -> 18th | R76: =VLOOKUP(B76,'2022'!$B$3:$F$100,2, FALSE) -> 143.5 | S76: =VLOOKUP(B76,'2022'!$B$3:$F$100,3, FALSE) -> 290
B77: FPL College | C77: =J77+L77+N77+P77+R77+T77+V77+X77+Z77+AB77+AD77+AF77 -> 1696 | D77: =K77+M77+O77+Q77+S77+U77+W77+Y77+AA77+AC77+AE77+AG77 -> 3455 | E77: =C77/D77 -> 0.49088278 | F77: =COUNT(J77:AAM77)/2 -> 12 | G77: =INDEX(Records!$B$4:$D$102,MATCH(B77,Records!$C$4:$C$102,0),1) -> - | H77: =INDEX(Records!$F$4:$H$102,MATCH(B77,Records!$G$4:$G$102,0),1) -> - | J77: =VLOOKUP(B77,'2026'!$B$3:$F$92,2, FALSE) -> 86.5 | K77: =VLOOKUP(B77,'2026'!$B$3:$F$92,3, FALSE) -> 180 | L77: =VLOOKUP(B77,'2025'!$B$3:$F$100,2, FALSE) -> 130.5 | M77: =VLOOKUP(B77,'2025'!$B$3:$F$100,3, FALSE) -> 285 | N77: =VLOOKUP(B77,'2024'!$B$3:$F$100,2, FALSE) -> 157.5 | O77: =VLOOKUP(B77,'2024'!$B$3:$F$100,3, FALSE) -> 310 | P77: =VLOOKUP(B77,'2023'!$B$3:$F$100,2, FALSE) -> 154.5 | Q77: =VLOOKUP(B77,'2023'!$B$3:$F$100,3, FALSE) -> 290 | R77: =VLOOKUP(B77,'2022'!$B$3:$F$100,2, FALSE) -> 138 | S77: =VLOOKUP(B77,'2022'!$B$3:$F$100,3, FALSE) -> 290 | T77: =VLOOKUP(B77,'2021'!$B$3:$F$100,2, FALSE) -> 148 | U77: =VLOOKUP(B77,'2021'!$B$3:$F$100,3, FALSE) -> 288 | V77: =VLOOKUP(B77,'2020'!$B$3:$F$100,2, FALSE) -> 140 | W77: =VLOOKUP(B77,'2020'!$B$3:$F$100,3, FALSE) -> 292 | X77: =VLOOKUP(B77,'2019'!$B$3:$F$100,2, FALSE) -> 153.5 | Y77: =VLOOKUP(B77,'2019'!$B$3:$F$100,3, FALSE) -> 300 | Z77: =VLOOKUP(B77,'2018'!$B$3:$F$100,2, FALSE) -> 127.5 | AA77: =VLOOKUP(B77,'2018'!$B$3:$F$100,3, FALSE) -> 290 | AB77: =VLOOKUP(B77,'2017'!$B$3:$F$100,2, FALSE) -> 144.5 | AC77: =VLOOKUP(B77,'2017'!$B$3:$F$100,3, FALSE) -> 290 | AD77: =VLOOKUP(B77,'2016'!$B$3:$F$100,2, FALSE) -> 129.5 | AE77: =VLOOKUP(B77,'2016'!$B$3:$F$100,3, FALSE) -> 290 | AF77: =VLOOKUP(B77,'2015'!$B$3:$F$100,2, FALSE) -> 186 | AG77: =VLOOKUP(B77,'2015'!$B$3:$F$100,3, FALSE) -> 350

Sheet Records
C1: 500+ increment cutoffs | D1: no 2026 | K1: Best Yearly Percentage : (Top 25) | S1: Best Non-Yearly Percentage : (Top 10) | AA1: 50%+ Consecutive Years | AG1: All-Time Correct Milestones | AO1: Most Weekly Wins in a Year | AT1: Update each Week | AW1: Best Guarantee % (Full Season)
C3: All-Time Correct | D3: Cor. | G3: All-Time % | H3: % | K3: Name | L3: % | M3: Correct | O3: Total | P3: Year | S3: Name | T3: % | U3: Correct | W3: Total | X3: Year | AA3: Name | AB3: #Yrs | AC3: Years | AD3: Streak Alive? | AG3: 1500+ All-Time Correct | AH3: % | AO3: Name | AP3: WW | AQ3: Year | AT3: All-Time Weekly Wins | AU3: WW | AW3: Best Guarantee Percentage: | BB3: Year
B4: 1st | C4: Roberts, Jeff | D4: =VLOOKUP(C4,College!$B$5:$E$124,2, FALSE) -> 1716 | F4: 1st | G4: Seamands, Nathan | H4: =VLOOKUP(G4,College!$B$5:$E$124,4, FALSE) -> 0.52688172 | J4: 1st | K4: Hamilton, Hunter | L4: 0.56724138 | M4: 164.5 | N4: / | O4: 290 | P4: 2023 | R4: 1st | S4: Conklin, Don | T4: 0.58413462 | U4: 121.5 | V4: / | W4: 208 | X4: 2021 | Z4: 1st-T | AA4: Clarke, Benjamin | AB4: 3 | AC4: (2021-2023) | AD4: No | AF4: 1st | AG4: Bradley, Ken | AH4: =AI4/AK4 -> 0.50016622 | AI4: 1504.5 | AJ4: / | AK4: 3008 | AL4: (Week 1 - 2025) | AN4: 1st | AO4: Meyer, Pat | AP4: 4.1666667 | AQ4: 2016 | AS4: 1st | AT4: Meyer, Pat | AU4: =VLOOKUP(AT4,'Weekly Wins'!$B$3:$C$1002,2, FALSE) -> 17.041667 | AW4: Meyer, Dave | AX4: =AY4/BA4 -> 0.72058824 | AY4: 24.5 | AZ4: / | BA4: 34 | BB4: 2019
B5: 2nd | C5: Bradley, Ken | D5: =VLOOKUP(C5,College!$B$5:$E$124,2, FALSE) -> 1714.5 | F5: 2nd | G5: Hamilton, Hunter | H5: =VLOOKUP(G5,College!$B$5:$E$124,4, FALSE) -> 0.51690141 | J5: 2nd | K5: Meyer, Dave | L5: 0.55833333 | M5: 167.5 | N5: / | O5: 300 | P5: 2019 | R5: 2nd | S5: Seamands, Natalie | T5: 0.53947368 | U5: 102.5 | V5: / | W5: 190 | X5: 2023 | Z5: 1st-T | AA5: Curran, Taylor | AB5: 3 | AC5: (2021-2023) | AD5: No | AF5: 2nd | AG5: Roberts, Jeff | AH5: =AI5/AK5 -> 0.49900266 | AI5: 1501 | AJ5: / | AK5: 3008 | AL5: (Week 1 - 2025) | AN5: 2nd | AO5: Fortner, Mara | AP5: 3.2 | AQ5: 2025 | AS5: 2nd | AT5: Fortner, Mara | AU5: =VLOOKUP(AT5,'Weekly Wins'!$B$3:$C$1002,2, FALSE) -> 11.783333 | AW5: Bradley, Ken | AX5: =AY5/BA5 -> 0.71428571 | AY5: 25 | AZ5: / | BA5: 35 | BB5: 2025
B6: 3rd | C6: Curran, Kevin | D6: =VLOOKUP(C6,College!$B$5:$E$124,2, FALSE) -> 1711.5 | F6: 3rd | G6: Greenwood, Nathan | H6: =VLOOKUP(G6,College!$B$5:$E$124,4, FALSE) -> 0.5099631 | J6: 3rd | K6: Curran, Kevin | L6: 0.55689655 | M6: 161.5 | N6: / | O6: 290 | P6: 2023 | R6: 3rd | S6: Conklin, Don | T6: 0.5234375 | U6: 134 | V6: / | W6: 256 | X6: 2022 | Z6: 1st-T | AA6: Greenwood, Douglas | AB6: 3 | AC6: (2021-2023) | AD6: No | AF6: 3rd | AG6: Seamands, Byron | AH6: =AI6/AK6 -> 0.49392247 | AI6: 1503.5 | AJ6: / | AK6: 3044 | AL6: (Week 3 - 2025) | AN6: 3rd | AO6: Conklin, Don | AP6: 3 | AQ6: 2021 | AS6: 3rd | AT6: Seamands, Byron | AU6: =VLOOKUP(AT6,'Weekly Wins'!$B$3:$C$1002,2, FALSE) -> 10.658333 | AW6: Folmar, James | AX6: =AY6/BA6 -> 0.70588235 | AY6: 24 | AZ6: / | BA6: 34 | BB6: 2019
B7: - | C7: FPL College | D7: =VLOOKUP(C7,College!$B$5:$E$124,2, FALSE) -> 1696 | F7: 4th | G7: Olmos, Donny | H7: =VLOOKUP(G7,College!$B$5:$E$124,4, FALSE) -> 0.50583333 | J7: 4th | K7: Folmar, James | L7: 0.555 | M7: 166.5 | N7: / | O7: 300 | P7: 2019 | R7: 4th-T | S7: Harper, Kenneth | T7: 0.5037037 | U7: 136 | V7: / | W7: 270 | X7: 2024 | Z7: 1st-T | AA7: Meyer, Dave | AB7: 3 | AC7: (2021-2023) | AD7: No | AF7: 4th | AG7: Curran, Kevin | AH7: =AI7/AK7 -> 0.49281515 | AI7: 1509 | AJ7: / | AK7: 3062 | AL7: (Week 4 - 2025) | AN7: 4th | AO7: Clarke, Benjamin | AP7: 2.8333333 | AQ7: 2018 | AS7: 4th | AT7: Meyer, Dave | AU7: =VLOOKUP(AT7,'Weekly Wins'!$B$3:$C$1002,2, FALSE) -> 8.4345238 | AW7: Bradley, Ken | AX7: =AY7/BA7 -> 0.703125 | AY7: 22.5 | AZ7: / | BA7: 32 | BB7: 2023
B8: 4th | C8: Seamands, Jorden | D8: =VLOOKUP(C8,College!$B$5:$E$124,2, FALSE) -> 1694.5 | F8: 5th | G8: Williams, Reilee | H8: =VLOOKUP(G8,College!$B$5:$E$124,4, FALSE) -> 0.50516129 | J8: 5th | K8: Fortner, Mara | L8: 0.55136986 | M8: 161 | N8: / | O8: 292 | P8: 2020 | R8: 4th-T | S8: Purschwitz, Dan | T8: 0.5037037 | U8: 136 | V8: / | W8: 270 | X8: 2024 | Z8: 1st-T | AA8: Curran, Taylor | AB8: 3 | AC8: (2016-2017; 2019) | AD8: No | AG8: FPL College | AH8: =AI8/AK8 -> 0.49134553 | AI8: 1504.5 | AJ8: / | AK8: 3062 | AL8: (Week 4 - 2025) | AN8: 5th-T | AO8: Fortner, Mara | AP8: 2.5 | AQ8: 2020 | AS8: 5th | AT8: Curran, Kevin | AU8: =VLOOKUP(AT8,'Weekly Wins'!$B$3:$C$1002,2, FALSE) -> 8.2 | AW8: Seamands, Nathan | AX8: =AY8/BA8 -> 0.68571429 | AY8: 24 | AZ8: / | BA8: 35 | BB8: 2025
B9: 5th | C9: Fortner, Mara | D9: =VLOOKUP(C9,College!$B$5:$E$124,2, FALSE) -> 1688.5 | F9: 6th | G9: Vance, Jeremy | H9: =VLOOKUP(G9,College!$B$5:$E$124,4, FALSE) -> 0.50277228 | J9: 6th | K9: Greenwood, Douglas | L9: 0.55034722 | M9: 158.5 | N9: / | O9: 288 | P9: 2021 | R9: 6th | S9: Meyer, Dave | T9: 0.50198413 | U9: 126.5 | V9: / | W9: 252 | X9: 2017 | Z9: 1st-T | AA9: Scoville, Jordan | AB9: 3 | AC9: (2017-2019) | AD9: No | AF9: 5th | AG9: Seamands, Jorden | AH9: =AI9/AK9 -> 0.49118223 | AI9: 1504 | AJ9: / | AK9: 3062 | AL9: (Week 4 - 2025) | AN9: 5th-T | AO9: Meyer, Pat | AP9: 2.5 | AQ9: 2018 | AS9: 6th | AT9: Alsobrook, Luke | AU9: =VLOOKUP(AT9,'Weekly Wins'!$B$3:$C$1002,2, FALSE) -> 7.75 | AW9: Vance, Jeremy | AX9: =AY9/BA9 -> 0.671875 | AY9: 21.5 | AZ9: / | BA9: 32 | BB9: 2023
B10: 6th | C10: Meyer, Pat | D10: =VLOOKUP(C10,College!$B$5:$E$124,2, FALSE) -> 1687.5 | F10: 7th | G10: Seamands, Natalie | H10: =VLOOKUP(G10,College!$B$5:$E$124,4, FALSE) -> 0.50207254 | J10: 7th | K10: Clarke, Benjamin | L10: 0.55 | M10: 159.5 | N10: / | O10: 290 | P10: 2023 | R10: 7th | S10: Folmar, James | T10: 0.48809524 | U10: 102.5 | V10: / | W10: 210 | X10: 2017 | Z10: 1st-T | AA10: Miller, Chris | AB10: 3 | AC10: (2015-2017) | AD10: No | AF10: 6th | AG10: Baze, Drew | AH10: =AI10/AK10 -> 0.49004894 | AI10: 1502 | AJ10: / | AK10: 3065 | AL10: (Week 7 - 2026) | AN10: 5th-T | AO10: Seamands, Jorden | AP10: 2.5 | AQ10: 2018 | AS10: 7th | AT10: Seamands, Jorden | AU10: =VLOOKUP(AT10,'Weekly Wins'!$B$3:$C$1002,2, FALSE) -> 7.0428571 | AW10: Baze, Drew | AX10: =AY10/BA10 -> 0.66666667 | AY10: 20 | AZ10: / | BA10: 30 | BB10: 2016
B11: 7th | C11: Miller, Chris | D11: =VLOOKUP(C11,College!$B$5:$E$124,2, FALSE) -> 1668.5 | F11: 8th | G11: Honeycutt, Terry | H11: =VLOOKUP(G11,College!$B$5:$E$124,4, FALSE) -> 0.50150038 | J11: 8th | K11: Meyer, Austen | L11: 0.54452055 | M11: 159 | N11: / | O11: 292 | P11: 2020 | R11: 8th | S11: Sloan, Kenneth | T11: 0.47985348 | U11: 131 | V11: / | W11: 273 | X11: 2022 | Z11: 8th-T | AA11: Bradley, Ken | AB11: 2 | AC11: (2023-2024) | AD11: No | AF11: 7th | AG11: Fortner, Mara | AH11: =AI11/AK11 -> 0.48896104 | AI11: 1506 | AJ11: / | AK11: 3080 | AL11: (Week 5 - 2025) | AN11: 5th-T | AO11: Scoville, Jordan | AP11: 2.5 | AQ11: 2017 | AS11: 8th | AT11: Scoville, Jordan | AU11: =VLOOKUP(AT11,'Weekly Wins'!$B$3:$C$1002,2, FALSE) -> 6.6166667 | AW11: Alvarez, Justin | AX11: =AY11/BA11 -> 0.66176471 | AY11: 22.5 | AZ11: / | BA11: 34 | BB11: 2019
B12: 8th | C12: Seamands, Byron | D12: =VLOOKUP(C12,College!$B$5:$E$124,2, FALSE) -> 1625.5 | F12: 9th | G12: Curran, Taylor | H12: =VLOOKUP(G12,College!$B$5:$E$124,4, FALSE) -> 0.50106572 | J12: 9th | K12: Seamands, Byron | L12: 0.54109589 | M12: 158 | N12: / | O12: 292 | P12: 2020 | R12: 9th | S12: Easley, Jordan | T12: 0.47122302 | U12: 65.5 | V12: / | W12: 139 | X12: 2025 | Z12: 8th-T | AA12: Fortner, Glenn | AB12: 2 | AC12: (2023-2024) | AD12: Yes | AF12: 8th | AG12: Meyer, Pat | AH12: =AI12/AK12 -> 0.48831169 | AI12: 1504 | AJ12: / | AK12: 3080 | AL12: (Week 5 - 2025) | AN12: 9th-T | AO12: Conklin, Don | AP12: 2.3333333 | AQ12: 2023 | AS12: 9th | AT12: Clarke, Benjamin | AU12: =VLOOKUP(AT12,'Weekly Wins'!$B$3:$C$1002,2, FALSE) -> 6.5666667 | AW12: Hamilton, Hunter | AX12: =AY12/BA12 -> 0.65625 | AY12: 21 | AZ12: / | BA12: 32 | BB12: 2023
B13: 9th | C13: Baze, Drew | D13: =VLOOKUP(C13,College!$B$5:$E$124,2, FALSE) -> 1525 | F13: 10th | G13: Meyer, Dave | H13: =VLOOKUP(G13,College!$B$5:$E$124,4, FALSE) -> 0.50090025 | J13: 10th | K13: Williams, Reilee | L13: 0.54035088 | M13: 154 | N13: / | O13: 285 | P13: 2025 | R13: 10th | S13: Kraus, Will | T13: 0.4280303 | U13: 113 | V13: / | W13: 264 | X13: 2024 | Z13: 8th-T | AA13: Harper, Kenneth | AB13: 2 | AC13: (2023-2024) | AD13: No | AF13: 9th | AG13: Miller, Chris | AH13: =AI13/AK13 -> 0.4854745 | AI13: 1504 | AJ13: / | AK13: 3098 | AL13: (Week 6 - 2025) | AN13: 9th-T | AO13: Meyer, Pat | AP13: 2.3333333 | AQ13: 2020 | AS13: 10th | AT13: Miller, Chris | AU13: =VLOOKUP(AT13,'Weekly Wins'!$B$3:$C$1002,2, FALSE) -> 6.1666667 | AW13: Meyer, Pat | AX13: =AY13/BA13 -> 0.65625 | AY13: 21 | AZ13: / | BA13: 32 | BB13: 2021
B14: 10th | C14: Fortner, Jason | D14: =VLOOKUP(C14,College!$B$5:$E$124,2, FALSE) -> 1505 | F14: 11th | G14: Rapisand, Ryan | H14: =VLOOKUP(G14,College!$B$5:$E$124,4, FALSE) -> 0.49857143 | J14: 11th | K14: Seamands, Jorden | L14: 0.53993056 | M14: 155.5 | N14: / | O14: 288 | P14: 2021 | S14: Mackey, Doyle | T14: 0.41111111 | U14: 37 | W14: 90 | X14: 2017 | Z14: 8th-T | AA14: Roberts, Jeff | AB14: 2 | AC14: (2023-2024) | AD14: No | AF14: 10th | AG14: Fortner, Jason | AH14: =AI14/AK14 -> 0.48470209 | AI14: 1505 | AJ14: / | AK14: 3105 | AL14: (Week 9 - 2026) | AN14: 11th | AO14: Curran, Kevin | AP14: 2.25 | AQ14: 2016 | AS14: 11th | AT14: Meyer, Austen | AU14: =VLOOKUP(AT14,'Weekly Wins'!$B$3:$C$1002,2, FALSE) -> 5.8333333 | AW14: Baze, Drew | AX14: =AY14/BA14 -> 0.64705882 | AY14: 22 | AZ14: / | BA14: 34 | BB14: 2020
B15: 11th | C15: Curran, Taylor | D15: =VLOOKUP(C15,College!$B$5:$E$124,2, FALSE) -> 1410.5 | F15: 12th | G15: Roberts, Jeff | H15: =VLOOKUP(G15,College!$B$5:$E$124,4, FALSE) -> 0.49667149 | J15: 12th-T | K15: Baze, Drew | L15: 0.53965517 | M15: 156.5 | N15: / | O15: 290 | P15: 2023 | Z15: 8th-T | AA15: Seamands, Byron | AB15: 2 | AC15: (2023-2024) | AD15: No | AG15: Curran, Taylor | AH15: =AI15/AK15 -> 0.50106572 | AI15: =VLOOKUP(AG15,College!$B$2:$H$1007,2, FALSE) -> 1410.5 | AJ15: / | AK15: =VLOOKUP(AG15,College!$B$2:$H$1007,3, FALSE) -> 2815 | AL15: (Week x - 2026) | AN15: 12th | AO15: Seamands, Byron | AP15: 2.125 | AQ15: 2019 | AS15: 12th | AT15: Easley, Jordan | AU15: =VLOOKUP(AT15,'Weekly Wins'!$B$3:$C$1002,2, FALSE) -> 5.7678571 | AW15: Curran, Taylor | AX15: =AY15/BA15 -> 0.64705882 | AY15: 22 | AZ15: / | BA15: 34 | BB15: 2019
B16: 12th | C16: Meyer, Dave | D16: =VLOOKUP(C16,College!$B$5:$E$124,2, FALSE) -> 1391 | F16: 13th | G16: Seamands, Byron | H16: =VLOOKUP(G16,College!$B$5:$E$124,4, FALSE) -> 0.49633588 | J16: 12th-T | K16: Clarke, Benjamin | L16: 0.53965517 | M16: 156.5 | N16: / | O16: 290 | P16: 2022 | Z16: 8th-T | AA16: Seamands, Natalie | AB16: 2 | AC16: (2023-2024) | AD16: No | AN16: 13th-T | AO16: Seamands, Byron | AP16: 2 | AQ16: 2024 | AS16: 13th | AT16: Conklin, Don | AU16: =VLOOKUP(AT16,'Weekly Wins'!$B$3:$C$1002,2, FALSE) -> 5.6666667 | AW16: Honeycutt, Terry | AX16: =AY16/BA16 -> 0.640625 | AY16: 20.5 | AZ16: / | BA16: 32 | BB16: 2021
B17: 13th | C17: Scoville, Jordan | D17: =VLOOKUP(C17,College!$B$5:$E$124,2, FALSE) -> 1383 | F17: 14th | G17: Bradley, Ken | H17: =VLOOKUP(G17,College!$B$5:$E$124,4, FALSE) -> 0.49623734 | J17: 14th | K17: Roberts, Jeff | L17: 0.53833333 | M17: 161.5 | N17: / | O17: 300 | P17: 2019 | Z17: 8th-T | AA17: Scoville, Jordan | AB17: 2 | AC17: (2023-2024) | AD17: No | AG17: 1000+ All-Time Correct | AH17: % | AN17: 13th-T | AO17: Meyer, Pat | AP17: 2 | AQ17: 2023 | AS17: 14th | AT17: Fortner, Glenn | AU17: =VLOOKUP(AT17,'Weekly Wins'!$B$3:$C$1002,2, FALSE) -> 4.95 | AW17: Roberts, Jeff | AX17: =AY17/BA17 -> 0.63235294 | AY17: 21.5 | AZ17: / | BA17: 34 | BB17: 2019
B18: 14th | C18: Folmar, James | D18: =VLOOKUP(C18,College!$B$5:$E$124,2, FALSE) -> 1314 | F18: 15th | G18: Curran, Kevin | H18: =VLOOKUP(G18,College!$B$5:$E$124,4, FALSE) -> 0.49536903 | J18: 15th | K18: Fortner, Mara | L18: 0.53684211 | M18: 153 | N18: / | O18: 285 | P18: 2025 | Z18: 8th-T | AA18: Smith, Shawn | AB18: 2 | AC18: (2023-2024) | AD18: No | AF18: 1st | AG18: Meyer, Dave | AH18: 0.51280738 | AI18: 1001 | AJ18: / | AK18: 1952 | AL18: (Week 12 - 2023) | AN18: 13th-T | AO18: Easley, Jordan | AP18: 2 | AQ18: 2021 | AS18: 15th | AT18: Curran, Taylor | AU18: =VLOOKUP(AT18,'Weekly Wins'!$B$3:$C$1002,2, FALSE) -> 4.1761905 | AW18: Harper, Kenneth | AX18: =AY18/BA18 -> 0.625 | AY18: 20 | AZ18: / | BA18: 32 | BB18: 2023
B19: 15th | C19: Fortner, Glenn | D19: =VLOOKUP(C19,College!$B$5:$E$124,2, FALSE) -> 1303 | F19: 16th | G19: Conklin, Don | H19: =VLOOKUP(G19,College!$B$5:$E$124,4, FALSE) -> 0.49509483 | J19: 16th-T | K19: Greenwood, Douglas | L19: 0.5362069 | M19: 155.5 | N19: / | O19: 290 | P19: 2023 | Z19: 8th-T | AA19: Honeycutt, Terry | AB19: 2 | AC19: (2021-2022) | AD19: No | AF19: 2nd | AG19: Curran, Taylor | AH19: 0.51040609 | AI19: 1005.5 | AJ19: / | AK19: 1970 | AL19: (Week 11 - 2023) | AN19: 13th-T | AO19: Seamands, Byron | AP19: 2 | AQ19: 2020 | AS19: 16th | AT19: Folmar, James | AU19: =VLOOKUP(AT19,'Weekly Wins'!$B$3:$C$1002,2, FALSE) -> 4.1666667 | AW19: Curran, Taylor | AX19: =AY19/BA19 -> 0.625 | AY19: 20 | AZ19: / | BA19: 32 | BB19: 2023
B20: 16th | C20: Meyer, Austen | D20: =VLOOKUP(C20,College!$B$5:$E$124,2, FALSE) -> 1276 | F20: 17th | G20: Clarke, Benjamin | H20: =VLOOKUP(G20,College!$B$5:$E$124,4, FALSE) -> 0.49485149 | J20: 16th-T | K20: Harper, Kenneth | L20: 0.5362069 | M20: 155.5 | N20: / | O20: 290 | P20: 2023 | Z20: 8th-T | AA20: Seamands, Jorden | AB20: 2 | AC20: (2020-2021) | AD20: No | AF20: 3rd | AG20: Bradley, Ken | AH20: 0.49950298 | AI20: 1005 | AJ20: / | AK20: 2012 | AL20: (Week 10 - 2021) | AN20: 13th-T | AO20: Meyer, Dave | AP20: 2 | AQ20: 2018 | AS20: 17th | AT20: Howard, Bill | AU20: =VLOOKUP(AT20,'Weekly Wins'!$B$3:$C$1002,2, FALSE) -> 3.95 | AW20: Curran, Taylor | AX20: =AY20/BA20 -> 0.625 | AY20: 20 | AZ20: / | BA20: 32 | BB20: 2022
B21: 17th | C21: Vance, Jeremy | D21: =VLOOKUP(C21,College!$B$5:$E$124,2, FALSE) -> 1269.5 | F21: 18th | G21: Zorn, Chad | H21: =VLOOKUP(G21,College!$B$5:$E$124,4, FALSE) -> 0.49482759 | J21: 18th | K21: Baze, Drew | L21: 0.535 | M21: 160.5 | N21: / | O21: 300 | P21: 2019 | Z21: 8th-T | AA21: Folmar, James | AB21: 2 | AC21: (2019-2020) | AD21: No | AF21: 4th | AG21: Vance, Jeremy | AH21: 0.49901478 | AI21: 1013 | AJ21: / | AK21: 2030 | AL21: (Week 14 - 2024) | AN21: 13th-T | AO21: Alsobrook, Luke | AP21: 2 | AQ21: 2017 | AS21: 18th | AT21: Greenwood, Nathan | AU21: =VLOOKUP(AT21,'Weekly Wins'!$B$3:$C$1002,2, FALSE) -> 3.8095238 | AW21: Baze, Drew | AX21: =AY21/BA21 -> 0.625 | AY21: 20 | AZ21: / | BA21: 32 | BB21: 2022
B22: 18th | C22: Clarke, Benjamin | D22: =VLOOKUP(C22,College!$B$5:$E$124,2, FALSE) -> 1249.5 | F22: 19th | G22: Fortner, Glenn | H22: =VLOOKUP(G22,College!$B$5:$E$124,4, FALSE) -> 0.49356061 | J22: 19th | K22: Meyer, Dave | L22: 0.53298611 | M22: 153.5 | N22: / | O22: 288 | P22: 2021 | Z22: 8th-T | AA22: Seamands, Byron | AB22: 2 | AC22: (2019-2020) | AD22: No | AF22: 5th | AG22: Clarke, Benjamin | AH22: 0.49850746 | AI22: 1002 | AJ22: / | AK22: 2010 | AL22: (Week 13 - 2024) | AN22: 13th-T | AO22: Howard, Bill | AP22: 2 | AQ22: 2015 | AS22: 19th | AT22: Bradley, Ken | AU22: =VLOOKUP(AT22,'Weekly Wins'!$B$3:$C$1002,2, FALSE) -> 3.6845238 | AW22: Curran, Kevin | AX22: =AY22/BA22 -> 0.61764706 | AY22: 21 | AZ22: / | BA22: 34 | BB22: 2020
B23: 19th | C23: Greenwood, Douglas | D23: =VLOOKUP(C23,College!$B$5:$E$124,2, FALSE) -> 1225.5 | F23: 20th | G23: Smith, Shawn | H23: =VLOOKUP(G23,College!$B$5:$E$124,4, FALSE) -> 0.49330144 | J23: 20th-T | K23: Bradley, Ken | L23: 0.53285714 | M23: 186.5 | N23: / | O23: 350 | P23: 2015 | Z23: 8th-T | AA23: Vance, Jeremy | AB23: 2 | AC23: (2019-2020) | AD23: No | AF23: 6th | AG23: Roberts, Jeff | AH23: 0.49679961 | AI23: 1009 | AJ23: / | AK23: 2031 | AL23: (Week 11 - 2021) | AN23: 13th-T | AO23: Meyer, Pat | AP23: 2 | AQ23: 2015 | AS23: 20th | AT23: Roberts, Jeff | AU23: =VLOOKUP(AT23,'Weekly Wins'!$B$3:$C$1002,2, FALSE) -> 3.575 | AW23: Baze, Drew | AX23: =AY23/BA23 -> 0.61764706 | AY23: 21 | AZ23: / | BA23: 34 | BB23: 2019
B24: 20th | C24: Easley, Jordan | D24: =VLOOKUP(C24,College!$B$5:$E$124,2, FALSE) -> 1185.5 | F24: 21st | G24: Pearce, Andrew | H24: =VLOOKUP(G24,College!$B$5:$E$124,4, FALSE) -> 0.49137931 | J24: 20th-T | K24: Miller, Chris | L24: 0.53285714 | M24: 186.5 | N24: / | O24: 350 | P24: 2015 | Z24: 8th-T | AA24: Seamands, Jorden | AB24: 2 | AC24: (2017-2018) | AD24: No | AF24: 7th-T | AG24: Fortner, Mara | AH24: 0.49507632 | AI24: 1005.5 | AJ24: / | AK24: 2031 | AL24: (Week 11 - 2021) | AN24: 13th-T | AO24: Seamands, Byron | AP24: 2 | AQ24: 2015 | AS24: 21st | AT24: Vance, Jeremy | AU24: =VLOOKUP(AT24,'Weekly Wins'!$B$3:$C$1002,2, FALSE) -> 2.8428571 | AW24: Curran, Kevin | AX24: =AY24/BA24 -> 0.61764706 | AY24: 21 | AZ24: / | BA24: 34 | BB24: 2019
B25: 21st | C25: Alsobrook, Luke | D25: =VLOOKUP(C25,College!$B$5:$E$124,2, FALSE) -> 1118.5 | F25: 22nd | G25: Scoville, Jordan | H25: =VLOOKUP(G25,College!$B$5:$E$124,4, FALSE) -> 0.49129663 | J25: 22nd | K25: Curran, Taylor | L25: 0.53275862 | M25: 154.5 | N25: / | O25: 290 | P25: 2023 | Z25: 8th-T | AA25: Fortner, Mara | AB25: 2 | AC25: (2015-2016) | AD25: No | AF25: 7th-T | AG25: Seamands, Jorden | AH25: 0.49507632 | AI25: 1005.5 | AJ25: / | AK25: 2031 | AL25: (Week 11 - 2021) | AN25: 22nd | AO25: Fortner, Mara | AP25: 1.8333333 | AQ25: 2016 | AS25: 22nd-T | AT25: Curran, Haley | AU25: =VLOOKUP(AT25,'Weekly Wins'!$B$3:$C$1002,2, FALSE) -> 2.5 | AW25: Meyer, Pat | AX25: =AY25/BA25 -> 0.609375 | AY25: 19.5 | AZ25: / | BA25: 32 | BB25: 2023
B26: 22nd | C26: Manuel, Greg | D26: =VLOOKUP(C26,College!$B$5:$E$124,2, FALSE) -> 857.5 | F26: 23rd | G26: Baze, Drew | H26: =VLOOKUP(G26,College!$B$5:$E$124,4, FALSE) -> 0.49114332 | J26: 23rd | K26: Smith, Brad | L26: 0.53225806 | M26: 165 | N26: / | O26: 310 | P26: 2024 | Z26: 8th-T | AA26: Meyer, Pat | AB26: 2 | AC26: (2015-2016) | AD26: No | AF26: 9th | AG26: Seamands, Byron | AH26: 0.49458395 | AI26: 1004.5 | AJ26: / | AK26: 2031 | AL26: (Week 11 - 2021) | AN26: 23rd | AO26: Fortner, Mara | AP26: 1.75 | AQ26: 2019 | AS26: 22nd-T | AT26: Greenwood, Douglas | AU26: =VLOOKUP(AT26,'Weekly Wins'!$B$3:$C$1002,2, FALSE) -> 2.5 | AW26: Curran, Kevin | AX26: =AY26/BA26 -> 0.609375 | AY26: 19.5 | AZ26: / | BA26: 32 | BB26: 2022
B27: 23rd | C27: Conklin, Don | D27: =VLOOKUP(C27,College!$B$5:$E$124,2, FALSE) -> 757 | F27: - | G27: FPL College | H27: =VLOOKUP(G27,College!$B$5:$E$124,4, FALSE) -> 0.49088278 | J27: 24th | K27: Vance, Jeremy | L27: 0.53166667 | M27: 159.5 | N27: / | O27: 300 | P27: 2019 | AF27: 10th | AG27: Greenwood, Douglas | AH27: 0.49458128 | AI27: 1004 | AJ27: / | AK27: 2030 | AL27: (Week 14 - 2024) | AN27: 24th | AO27: Seamands, Nathan | AP27: 1.6666667 | AQ27: 2025 | AS27: 22nd-T | AT27: Olmos, Donny | AU27: =VLOOKUP(AT27,'Weekly Wins'!$B$3:$C$1002,2, FALSE) -> 2.5 | AW27: Seamands, Jorden | AX27: =AY27/BA27 -> 0.609375 | AY27: 19.5 | AZ27: / | BA27: 32 | BB27: 2022
B28: 24th | C28: Mackey, Doyle | D28: =VLOOKUP(C28,College!$B$5:$E$124,2, FALSE) -> 726 | F28: 24th | G28: Seamands, Jorden | H28: =VLOOKUP(G28,College!$B$5:$E$124,4, FALSE) -> 0.49044863 | J28: 25th-T | K28: Curran, Taylor | L28: 0.52951389 | M28: 152.5 | N28: / | O28: 288 | P28: 2021 | AA28: Williams, Reilee | AC28: 2025 | AD28: Yes | AF28: 11th | AG28: Alsobrook, Luke | AH28: =AI28/AK28 -> 0.49360865 | AI28: 1004 | AJ28: / | AK28: 2034 | AL28: (Week 12 - 2025) | AN28: 25th-T | AO28: Greenwood, Nathan | AP28: 1.5 | AQ28: 2025 | AS28: 22nd-T | AT28: Young, Michael | AU28: =VLOOKUP(AT28,'Weekly Wins'!$B$3:$C$1002,2, FALSE) -> 2.5 | AW28: Miller, Chris | AX28: =AY28/BA28 -> 0.609375 | AY28: 19.5 | AZ28: / | BA28: 32 | BB28: 2017
B29: 25th | C29: Howard, Bill | D29: =VLOOKUP(C29,College!$B$5:$E$124,2, FALSE) -> 712 | F29: 25th | G29: Easley, Jordan | H29: =VLOOKUP(G29,College!$B$5:$E$124,4, FALSE) -> 0.49007854 | J29: 25th-T | K29: Easley, Jordan | L29: 0.52951389 | M29: 152.5 | N29: / | O29: 288 | P29: 2021 | AA29: Fortner, Mara | AC29: 2025 | AD29: Yes | AF29: 12th | AG29: Scoville, Jordan | AH29: 0.49313725 | AI29: 1006 | AJ29: / | AK29: 2040 | AL29: (Bowl Games - 2023) | AN29: 25th-T | AO29: Olmos, Donny | AP29: 1.5 | AQ29: 2024 | AS29: 26th | AT29: Seamands, Nathan | AU29: =VLOOKUP(AT29,'Weekly Wins'!$B$3:$C$1002,2, FALSE) -> 2.1666667 | AW29: Swindell, Richard | AX29: =AY29/BA29 -> 0.60294118 | AY29: 20.5 | AZ29: / | BA29: 34 | BB29: 2019
B30: 26th | C30: Greenwood, Nathan | D30: =VLOOKUP(C30,College!$B$5:$E$124,2, FALSE) -> 691 | F30: 26th | G30: McMullen, Dan | H30: =VLOOKUP(G30,College!$B$5:$E$124,4, FALSE) -> 0.49 | K30: Bradley, Ken | L30: 0.52931034 | M30: 153.5 | N30: / | O30: 290 | P30: 2023 | AA30: Seamands, Nathan | AC30: 2025 | AD30: Yes | AF30: 13th | AG30: Easley, Jordan | AH30: 0.49219512 | AI30: 1009 | AJ30: / | AK30: 2050 | AL30: (Week 12 - 2023) | AN30: 25th-T | AO30: Fortner, Mara | AP30: 1.5 | AQ30: 2022 | AS30: 27th | AT30: Fortner, Eric | AU30: =VLOOKUP(AT30,'Weekly Wins'!$B$3:$C$1002,2, FALSE) -> 2.1428571 | AW30: Williams, Reilee | AX30: =AY30/BA30 -> 0.6 | AY30: 21 | AZ30: / | BA30: 35 | BB30: 2025
B31: 27th | C31: Honeycutt, Terry | D31: =VLOOKUP(C31,College!$B$5:$E$124,2, FALSE) -> 668.5 | F31: 27th | G31: Alsobrook, Luke | H31: =VLOOKUP(G31,College!$B$5:$E$124,4, FALSE) -> 0.48992554 | AA31: Meyer, Austen | AC31: 2025 | AD31: Yes | AF31: 14th | AG31: Baze, Drew | AH31: 0.48956311 | AI31: 1008.5 | AJ31: / | AK31: 2060 | AL31: (Week 1 - 2023) | AN31: 25th-T | AO31: Greenwood, Douglas | AP31: 1.5 | AQ31: 2021 | AS31: 28th | AT31: Seamands, Natalie | AU31: =VLOOKUP(AT31,'Weekly Wins'!$B$3:$C$1002,2, FALSE) -> 2 | AW31: Roberts, Jeff | AX31: =AY31/BA31 -> 0.6 | AY31: 21 | AZ31: / | BA31: 35 | BB31: 2025
B32: 28th-T | C32: Smith, Brad | D32: =VLOOKUP(C32,College!$B$5:$E$124,2, FALSE) -> 654 | F32: 28th | G32: Fortner, Mara | H32: =VLOOKUP(G32,College!$B$5:$E$124,4, FALSE) -> 0.48871201 | AA32: Vance, Jeremy | AC32: 2025 | AD32: Yes | AF32: 15th | AG32: Meyer, Pat | AH32: 0.48914093 | AI32: 1013.5 | AJ32: / | AK32: 2072 | AL32: (Week 13 - 2021) | AN32: 25th-T | AO32: Seamands, Jorden | AP32: 1.5 | AQ32: 2021 | AS32: 29th | AT32: Honeycutt, Terry | AU32: =VLOOKUP(AT32,'Weekly Wins'!$B$3:$C$1002,2, FALSE) -> 1.9166667 | AW32: Smith, Shawn | AX32: =AY32/BA32 -> 0.6 | AY32: 21 | AZ32: / | BA32: 35 | BB32: 2025
B33: 28th-T | C33: Simba, Julio | D33: =VLOOKUP(C33,College!$B$5:$E$124,2, FALSE) -> 654 | F33: 29th | G33: Manuel, Greg | H33: =VLOOKUP(G33,College!$B$5:$E$124,4, FALSE) -> 0.48860399 | AA33: Hamilton, Hunter | AC33: 2025 | AD33: Yes | AF33: 16th | AG33: Fortner, Glenn | AH33: 0.48859223 | AI33: 1006.5 | AJ33: / | AK33: 2060 | AL33: (Week 1 - 2023) | AN33: 25th-T | AO33: Young, Michael | AP33: 1.5 | AQ33: 2021 | AS33: 30th | AT33: Hamilton, Hunter | AU33: =VLOOKUP(AT33,'Weekly Wins'!$B$3:$C$1002,2, FALSE) -> 1.9 | AW33: Vance, Jeremy | AX33: =AY33/BA33 -> 0.6 | AY33: 21 | AZ33: / | BA33: 35 | BB33: 2024
B34: 30th | C34: Harper, Kenneth | D34: =VLOOKUP(C34,College!$B$5:$E$124,2, FALSE) -> 627 | F34: 30th | G34: Meyer, Pat | H34: =VLOOKUP(G34,College!$B$5:$E$124,4, FALSE) -> 0.48842258 | AA34: Meyer, Pat | AC34: 2025 | AD34: Yes | AF34: 17th | AG34: Curran, Kevin | AH34: 0.48769305 | AI34: 1010.5 | AJ34: / | AK34: 2072 | AL34: (Week 13 - 2021) | AN34: 25th-T | AO34: Easley, Jordan | AP34: 1.5 | AQ34: 2020 | AS34: 31st | AT34: Manuel, Greg | AU34: =VLOOKUP(AT34,'Weekly Wins'!$B$3:$C$1002,2, FALSE) -> 1.8166667 | AW34: Olmos, Donny | AX34: =AY34/BA34 -> 0.6 | AY34: 21 | AZ34: / | BA34: 35 | BB34: 2024
B35: 31st | C35: Hamilton, Hunter | D35: =VLOOKUP(C35,College!$B$5:$E$124,2, FALSE) -> 550.5 | F35: 31st | G35: Meyer, Brennan | H35: =VLOOKUP(G35,College!$B$5:$E$124,4, FALSE) -> 0.48784722 | AA35: Greenwood, Nathan | AC35: 2025 | AD35: Yes | AF35: 18th | AG35: Fortner, Jason | AH35: 0.48762136 | AI35: 1004.5 | AJ35: / | AK35: 2060 | AL35: (Week 1 - 2023) | AN35: 25th-T | AO35: Meyer, Dave | AP35: 1.5 | AQ35: 2020 | AS35: 32nd | AT35: Williams, Reilee | AU35: =VLOOKUP(AT35,'Weekly Wins'!$B$3:$C$1002,2, FALSE) -> 1.7928571 | AW35: Fortner, Glenn | AX35: =AY35/BA35 -> 0.6 | AY35: 18 | AZ35: / | BA35: 30 | BB35: 2016
B36: 32nd | C36: Curran, Haley | D36: =VLOOKUP(C36,College!$B$5:$E$124,2, FALSE) -> 531 | F36: 32nd | G36: Greenwood, Douglas | H36: =VLOOKUP(G36,College!$B$5:$E$124,4, FALSE) -> 0.48534653 | AA36: Seamands, Jorden | AC36: 2025 | AD36: Yes | AG36: FPL College | AH36: 0.48732943 | AI36: 1000 | AJ36: / | AK36: 2052 | AL36: (Week 12 - 2021) | AN36: 25th-T | AO36: Seamands, Jorden | AP36: 1.5 | AQ36: 2020 | AS36: 33rd | AT36: Mackey, Doyle | AU36: =VLOOKUP(AT36,'Weekly Wins'!$B$3:$C$1002,2, FALSE) -> 1.6428571 | AW36: Meyer, Austen | AX36: =AY36/BA36 -> 0.6 | AY36: 18 | AZ36: / | BA36: 30 | BB36: 2016
B37: 33rd | C37: Smith, Shawn | D37: =VLOOKUP(C37,College!$B$5:$E$124,2, FALSE) -> 515.5 | F37: 33rd | G37: Fortner, Jason | H37: =VLOOKUP(G37,College!$B$5:$E$124,4, FALSE) -> 0.48470209 | AA37: Clarke, Benjamin | AC37: 2025 | AD37: Yes | AF37: 19th | AG37: Miller, Chris | AH37: 0.4867278 | AI37: 1008.5 | AJ37: / | AK37: 2072 | AL37: (Week 13 - 2021) | AN37: 25th-T | AO37: Fortner, Glenn | AP37: 1.5 | AQ37: 2018 | AS37: 34th | AT37: Purschwitz, Dan | AU37: =VLOOKUP(AT37,'Weekly Wins'!$B$3:$C$1002,2, FALSE) -> 1.5 | AW37: Miller, Chris | AX37: =AY37/BA37 -> 0.6 | AY37: 18 | AZ37: / | BA37: 30 | BB37: 2015
B38: 34th | C38: Sloan, Kenneth | D38: =VLOOKUP(C38,College!$B$5:$E$124,2, FALSE) -> 505.5 | F38: 34th | G38: Brown, Brandel | H38: =VLOOKUP(G38,College!$B$5:$E$124,4, FALSE) -> 0.48448276 | AF38: 20th | AG38: Folmar, James | AH38: 0.48665049 | AI38: 1002.5 | AJ38: / | AK38: 2060 | AL38: (Week 5 - 2024) | AN38: 25th-T | AO38: Miller, Chris | AP38: 1.5 | AQ38: 2016 | AS38: 35th | AT38: Pearce, Matt | AU38: =VLOOKUP(AT38,'Weekly Wins'!$B$3:$C$1002,2, FALSE) -> 1.4761905 | AW38: Seamands, Jorden | AX38: =AY38/BA38 -> 0.59375 | AY38: 19 | AZ38: / | BA38: 32 | BB38: 2023
B39: 35th-T | C39: Alvarez, Justin | D39: =VLOOKUP(C39,College!$B$5:$E$124,2, FALSE) -> 487 | F39: 35th | G39: Miller, Chris | H39: =VLOOKUP(G39,College!$B$5:$E$124,4, FALSE) -> 0.4829233 | AF39: 21st | AG39: Meyer, Austen | AH39: 0.46971831 | AI39: 1000.5 | AJ39: / | AK39: 2130 | AL39: (Week 12 - 2024) | AN39: 25th-T | AO39: Fortner, Eric | AP39: 1.5 | AQ39: 2015 | AS39: 36th | AT39: Swindell, Richard | AU39: =VLOOKUP(AT39,'Weekly Wins'!$B$3:$C$1002,2, FALSE) -> 1.3333333 | AW39: Meyer, Austen | AX39: =AY39/BA39 -> 0.59375 | AY39: 19 | AZ39: / | BA39: 32 | BB39: 2023
B40: 35th-T | C40: Fortner, Eric | D40: =VLOOKUP(C40,College!$B$5:$E$124,2, FALSE) -> 487 | F40: 36th | G40: Smith, Brad | H40: =VLOOKUP(G40,College!$B$5:$E$124,4, FALSE) -> 0.48265683 | AG40: Manuel, Greg | AH40: =AI40/AK40 -> 0.48860399 | AI40: =VLOOKUP(AG40,College!$B$2:$H$1007,2, FALSE) -> 857.5 | AJ40: / | AK40: =VLOOKUP(AG40,College!$B$2:$H$1007,3, FALSE) -> 1755 | AL40: (Week x - 202x) | AO40: Pearce, Matt | AP40: 1.4761905 | AQ40: 2017 | AS40: 37th | AT40: Beene, Virgil | AU40: =VLOOKUP(AT40,'Weekly Wins'!$B$3:$C$1002,2, FALSE) -> 1 | AW40: Meyer, Dave | AX40: =AY40/BA40 -> 0.59375 | AY40: 19 | AZ40: / | BA40: 32 | BB40: 2022
B41: 37th | C41: Seamands, Natalie | D41: =VLOOKUP(C41,College!$B$5:$E$124,2, FALSE) -> 484.5 | F41: 37th | G41: Simba, Julio | H41: =VLOOKUP(G41,College!$B$5:$E$124,4, FALSE) -> 0.48265683 | AG41: Conklin, Don | AH41: =AI41/AK41 -> 0.49509483 | AI41: =VLOOKUP(AG41,College!$B$2:$H$1007,2, FALSE) -> 757 | AJ41: / | AK41: =VLOOKUP(AG41,College!$B$2:$H$1007,3, FALSE) -> 1529 | AL41: (Week x - 202x) | AO41: Williams, Reilee | AP41: 1.45 | AQ41: 2025 | AS41: 38th | AT41: Bradley, Mason | AU41: =VLOOKUP(AT41,'Weekly Wins'!$B$3:$C$1002,2, FALSE) -> 1 | AW41: Easley, Jordan | AX41: =AY41/BA41 -> 0.59375 | AY41: 19 | AZ41: / | BA41: 32 | BB41: 2021
B42: 38th | C42: Smith, Payton | D42: =VLOOKUP(C42,College!$B$5:$E$124,2, FALSE) -> 479.5 | F42: 38th | G42: Trant, Garrett | H42: =VLOOKUP(G42,College!$B$5:$E$124,4, FALSE) -> 0.48172043 | AO42: Clarke, Benjamin | AP42: 1.4 | AQ42: 2025 | AS42: 39th | AT42: Trant, Amon | AU42: =VLOOKUP(AT42,'Weekly Wins'!$B$3:$C$1002,2, FALSE) -> 1 | AW42: Clarke, Benjamin | AX42: =AY42/BA42 -> 0.58823529 | AY42: 20 | AZ42: / | BA42: 34 | BB42: 2019
B43: 39th | C43: Williams, Reilee | D43: =VLOOKUP(C43,College!$B$5:$E$124,2, FALSE) -> 391.5 | F43: 39th | G43: Purschwitz, Dan | H43: =VLOOKUP(G43,College!$B$5:$E$124,4, FALSE) -> 0.48163265 | AO43: Honeycutt, Terry | AP43: 1.3333333 | AQ43: 2022 | AS43: 40th | AT43: Trant, Garrett | AU43: =VLOOKUP(AT43,'Weekly Wins'!$B$3:$C$1002,2, FALSE) -> 1 | AW43: Scoville, Jordan | AX43: =AY43/BA43 -> 0.58571429 | AY43: 20.5 | AZ43: / | BA43: 35 | BB43: 2024
B44: 40th | C44: Beene, Virgil | D44: =VLOOKUP(C44,College!$B$5:$E$124,2, FALSE) -> 361 | F44: 40th | G44: Folmar, James | H44: =VLOOKUP(G44,College!$B$5:$E$124,4, FALSE) -> 0.48043876 | AO44: Meyer, Dave | AP44: 1.3333333 | AQ44: 2022 | AS44: 41st | AT44: Smith, Brad | AU44: =VLOOKUP(AT44,'Weekly Wins'!$B$3:$C$1002,2, FALSE) -> 0.84285714 | AW44: Williams, Reilee | AX44: =AY44/BA44 -> 0.58571429 | AY44: 20.5 | AZ44: / | BA44: 35 | BB44: 2024
B45: 41st | C45: Purschwitz, Dan | D45: =VLOOKUP(C45,College!$B$5:$E$124,2, FALSE) -> 354 | F45: 41st | G45: Sloan, Kenneth | H45: =VLOOKUP(G45,College!$B$5:$E$124,4, FALSE) -> 0.48005698 | AO45: Scoville, Jordan | AP45: 1.3333333 | AQ45: 2022 | AS45: 42nd | AT45: Smith, Shawn | AU45: =VLOOKUP(AT45,'Weekly Wins'!$B$3:$C$1002,2, FALSE) -> 0.83333333 | AW45: Curran, Kevin | AX45: =AY45/BA45 -> 0.578125 | AY45: 18.5 | AZ45: / | BA45: 32 | BB45: 2023
B46: 42nd | C46: Olmos, Donny | D46: =VLOOKUP(C46,College!$B$5:$E$124,2, FALSE) -> 303.5 | F46: 42nd | G46: Bradley, Mason | H46: =VLOOKUP(G46,College!$B$5:$E$124,4, FALSE) -> 0.47931034 | AO46: Curran, Kevin | AP46: 1.3333333 | AQ46: 2020 | AS46: 43rd | AT46: Baze, Drew | AU46: =VLOOKUP(AT46,'Weekly Wins'!$B$3:$C$1002,2, FALSE) -> 0.625 | AW46: Clarke, Benjamin | AX46: =AY46/BA46 -> 0.578125 | AY46: 18.5 | AZ46: / | BA46: 32 | BB46: 2023
B47: 43rd | C47: Trant, Amon | D47: =VLOOKUP(C47,College!$B$5:$E$124,2, FALSE) -> 293 | F47: 43rd | G47: Meyer, Austen | H47: =VLOOKUP(G47,College!$B$5:$E$124,4, FALSE) -> 0.47879925 | AO47: Folmar, James | AP47: 1.3333333 | AQ47: 2020 | AS47: 44th | AT47: Zorn, Chad | AU47: =VLOOKUP(AT47,'Weekly Wins'!$B$3:$C$1002,2, FALSE) -> 0.58333333 | AW47: Folmar, James | AX47: =AY47/BA47 -> 0.578125 | AY47: 18.5 | AZ47: / | BA47: 32 | BB47: 2023
B48: 44th | C48: Bradley, Mason | D48: =VLOOKUP(C48,College!$B$5:$E$124,2, FALSE) -> 278 | F48: 44th | G48: Fortner, Eric | H48: =VLOOKUP(G48,College!$B$5:$E$124,4, FALSE) -> 0.47791953 | AO48: Curran, Kevin | AP48: 1.3333333 | AQ48: 2018 | AS48: 45th | AT48: Brown, Brandel | AU48: =VLOOKUP(AT48,'Weekly Wins'!$B$3:$C$1002,2, FALSE) -> 0.5 | AW48: Bradley, Mason | AX48: =AY48/BA48 -> 0.578125 | AY48: 18.5 | AZ48: / | BA48: 32 | BB48: 2018
B49: 45th | C49: Swindell, Richard | D49: =VLOOKUP(C49,College!$B$5:$E$124,2, FALSE) -> 272 | F49: 45th | G49: Mattson, Nick | H49: =VLOOKUP(G49,College!$B$5:$E$124,4, FALSE) -> 0.47741935 | AO49: Manuel, Greg | AP49: 1.25 | AQ49: 2024 | AS49: 46th | AT49: Robertson, Josh | AU49: =VLOOKUP(AT49,'Weekly Wins'!$B$3:$C$1002,2, FALSE) -> 0.5 | AW49: Fortner, Jason | AX49: =AY49/BA49 -> 0.578125 | AY49: 18.5 | AZ49: / | BA49: 32 | BB49: 2017
B50: 46th | C50: Young, Michael | D50: =VLOOKUP(C50,College!$B$5:$E$124,2, FALSE) -> 265 | F50: 46th | G50: Harper, Kenneth | H50: =VLOOKUP(G50,College!$B$5:$E$124,4, FALSE) -> 0.47680608 | AO50: Alsobrook, Luke | AP50: 1.25 | AQ50: 2023 | AS50: 47th | AT50: Harper, Kenneth | AU50: =VLOOKUP(AT50,'Weekly Wins'!$B$3:$C$1002,2, FALSE) -> 0.5 | AW50: Seamands, Byron | AX50: =AY50/BA50 -> 0.57142857 | AY50: 20 | AZ50: / | BA50: 35 | BB50: 2025
B51: 47th | C51: Seamands, Nathan | D51: =VLOOKUP(C51,College!$B$5:$E$124,2, FALSE) -> 245 | F51: 47th | G51: Beene, Jordan | H51: =VLOOKUP(G51,College!$B$5:$E$124,4, FALSE) -> 0.47285714 | AO51: Bradley, Ken | AP51: 1.25 | AQ51: 2022 | AS51: 48th | AT51: Fortner, Jason | AU51: =VLOOKUP(AT51,'Weekly Wins'!$B$3:$C$1002,2, FALSE) -> 0.375 | AW51: Seamands, Natalie | AX51: =AY51/BA51 -> 0.57142857 | AY51: 20 | AZ51: / | BA51: 35 | BB51: 2025
B52: 48th | C52: Trant, Garrett | D52: =VLOOKUP(C52,College!$B$5:$E$124,2, FALSE) -> 224 | F52: 48th | G52: Trant, Amon | H52: =VLOOKUP(G52,College!$B$5:$E$124,4, FALSE) -> 0.4688 | AO52: Folmar, James | AP52: 1.25 | AQ52: 2019 | AS52: 49th | AT52: Pearce, Andrew | AU52: =VLOOKUP(AT52,'Weekly Wins'!$B$3:$C$1002,2, FALSE) -> 0.33333333 | AW52: Scoville, Jordan | AX52: =AY52/BA52 -> 0.57142857 | AY52: 20 | AZ52: / | BA52: 35 | BB52: 2025
B53: 49th | C53: Mattson, Nick | D53: =VLOOKUP(C53,College!$B$5:$E$124,2, FALSE) -> 222 | F53: 49th | G53: Howard, Bill | H53: =VLOOKUP(G53,College!$B$5:$E$124,4, FALSE) -> 0.46842105 | AO53: Howard, Bill | AP53: 1.25 | AQ53: 2019 | AS53: 50th | AT53: Smith, Payton | AU53: =VLOOKUP(AT53,'Weekly Wins'!$B$3:$C$1002,2, FALSE) -> 0.25 | AW53: Baze, Drew | AX53: =AY53/BA53 -> 0.57142857 | AY53: 20 | AZ53: / | BA53: 35 | BB53: 2025
... B72: 68th | C72: Skipper, Steve | D72: =VLOOKUP(C72,College!$B$5:$E$124,2, FALSE) -> 120.5 | F72: 69th | G72: Strain, Billy | H72: =VLOOKUP(G72,College!$B$5:$E$124,4, FALSE) -> 0.4047619 | AO72: Seamands, Byron | AP72: 1 | AQ72: 2023 | AS72: 69th | AT72: Trant, Cody | AU72: =VLOOKUP(AT72,'Weekly Wins'!$B$3:$C$1002,2, FALSE) -> 0 | AW72: Mackey, Doyle | AX72: =AY72/BA72 -> 0.546875 | AY72: 17.5 | AZ72: / | BA72: 32 | BB72: 2021
B73: 69th | C73: Southerland, Brett | D73: =VLOOKUP(C73,College!$B$5:$E$124,2, FALSE) -> 84 | F73: 69th | G73: Ross, Jeff | H73: =VLOOKUP(G73,College!$B$5:$E$124,4, FALSE) -> 0.39285714 | AO73: Seamands, Natalie | AP73: 1 | AQ73: 2023 | AS73: 70th | AW73: Vance, Jeremy | AX73: =AY73/BA73 -> 0.54411765 | AY73: 18.5 | AZ73: / | BA73: 34 | BB73: 2019
B74: 70th | C74: Robertson, Josh | D74: =VLOOKUP(C74,College!$B$5:$E$124,2, FALSE) -> 71.5 | F74: 70th | G74: Kraus, Will | H74: =VLOOKUP(G74,College!$B$5:$E$124,4, FALSE) -> 0.3799505 | AO74: Curran, Kevin | AP74: 1 | AQ74: 2022 | AS74: 71st | AW74: Howard, Bill | AX74: =AY74/BA74 -> 0.54411765 | AY74: 18.5 | AZ74: / | BA74: 34 | BB74: 2019
B75: 71st | C75: Ross, Jeff | D75: =VLOOKUP(C75,College!$B$5:$E$124,2, FALSE) -> 66 | F75: 71st | G75: Smith, Ashton | H75: =VLOOKUP(G75,College!$B$5:$E$124,4, FALSE) -> 0.35 | AO75: Curran, Taylor | AP75: 1 | AQ75: 2022 | AW75: Seamands, Byron | AX75: =AY75/BA75 -> 0.54411765 | AY75: 18.5 | AZ75: / | BA75: 34 | BB75: 2019
B76: 72nd | C76: Smith, Ashton | D76: =VLOOKUP(C76,College!$B$5:$E$124,2, FALSE) -> 49 | F76: 72nd | G76: Skipper, Steve | H76: =VLOOKUP(G76,College!$B$5:$E$124,4, FALSE) -> 0.34428571 | AO76: Fortner, Glenn | AP76: 1 | AQ76: 2022 | AW76: Fortner, Jason | AX76: =AY76/BA76 -> 0.54411765 | AY76: 18.5 | AZ76: / | BA76: 34 | BB76: 2019
AO77: Meyer, Austen | AP77: 1 | AQ77: 2022 | AW77: Meyer, Pat | AX77: =AY77/BA77 -> 0.54411765 | AY77: 18.5 | AZ77: / | BA77: 34 | BB77: 2019
AO78: Young, Michael | AP78: 1 | AQ78: 2022 | AW78: Meyer, Pat | AX78: =AY78/BA78 -> 0.54285714 | AY78: 19 | AZ78: / | BA78: 35 | BB78: 2025
AO79: Bradley, Ken | AP79: 1 | AQ79: 2021 | AW79: Purschwitz, Dan | AX79: =AY79/BA79 -> 0.54285714 | AY79: 19 | AZ79: / | BA79: 35 | BB79: 2025
AO80: Clarke, Benjamin | AP80: 1 | AQ80: 2021 | AW80: Miller, Chris | AX80: =AY80/BA80 -> 0.54285714 | AY80: 19 | AZ80: / | BA80: 35 | BB80: 2025
AO81: Meyer, Dave | AP81: 1 | AQ81: 2021 | AW81: Folmar, James | AX81: =AY81/BA81 -> 0.54285714 | AY81: 19 | AZ81: / | BA81: 35 | BB81: 2025
AO82: Mackey, Doyle | AP82: 1 | AQ82: 2019 | AW82: Trant, Garrett | AX82: =AY82/BA82 -> 0.54285714 | AY82: 19 | AZ82: / | BA82: 35 | BB82: 2025
AO83: Scoville, Jordan | AP83: 1 | AQ83: 2019 | AW83: Clarke, Benjamin | AX83: =AY83/BA83 -> 0.54285714 | AY83: 19 | AZ83: / | BA83: 35 | BB83: 2024
AO84: Swindell, Richard | AP84: 1 | AQ84: 2019 | AW84: Howard, Bill | AX84: =AY84/BA84 -> 0.53333333 | AY84: 16 | AZ84: / | BA84: 30 | BB84: 2015
AO85: Vance, Jeremy | AP85: 1 | AQ85: 2019 | AW85: Fortner, Eric | AX85: =AY85/BA85 -> 0.53333333 | AY85: 16 | AZ85: / | BA85: 30 | BB85: 2015
AO86: Greenwood, Douglas | AP86: 1 | AQ86: 2018 | AW86: Bradley, Ken | AX86: =AY86/BA86 -> 0.53125 | AY86: 17 | AZ86: / | BA86: 32 | BB86: 2022
AO87: Miller, Chris | AP87: 1 | AQ87: 2018 | AW87: Fortner, Glenn | AX87: =AY87/BA87 -> 0.53125 | AY87: 17 | AZ87: / | BA87: 32 | BB87: 2022
AO88: Bradley, Mason | AP88: 1 | AQ88: 2017 | AW88: Miller, Chris | AX88: =AY88/BA88 -> 0.53125 | AY88: 17 | AZ88: / | BA88: 32 | BB88: 2022
... AO176: Roberts, Jeff | AP176: 0.125 | AQ176: 2019 | AW176: Meyer, Pat | AX176: =AY176/BA176 -> 0.46875 | AY176: 15 | AZ176: / | BA176: 32 | BB176: 2017
AW177: Curran, Kevin | AX177: =AY177/BA177 -> 0.46666667 | AY177: 14 | AZ177: / | BA177: 30 | BB177: 2016
AW178: Curran, Haley | AX178: =AY178/BA178 -> 0.46666667 | AY178: 14 | AZ178: / | BA178: 30 | BB178: 2016
AW179: Bradley, Ken | AX179: =AY179/BA179 -> 0.46666667 | AY179: 14 | AZ179: / | BA179: 30 | BB179: 2015
AW180: Seamands, Byron | AX180: =AY180/BA180 -> 0.46666667 | AY180: 14 | AZ180: / | BA180: 30 | BB180: 2015
AW181: Hamilton, Hunter | AX181: =AY181/BA181 -> 0.45714286 | AY181: 16 | AZ181: / | BA181: 35 | BB181: 2024
AW182: Miller, Chris | AX182: =AY182/BA182 -> 0.45714286 | AY182: 16 | AZ182: / | BA182: 35 | BB182: 2024
AW183: Conklin, Don | AX183: =AY183/BA183 -> 0.45714286 | AY183: 16 | AZ183: / | BA183: 35 | BB183: 2024
AW184: Anthis, Michael | AX184: =AY184/BA184 -> 0.45714286 | AY184: 16 | AZ184: / | BA184: 35 | BB184: 2024
AW185: Greenwood, Douglas | AX185: =AY185/BA185 -> 0.453125 | AY185: 14.5 | AZ185: / | BA185: 32 | BB185: 2023
AW186: Conklin, Don | AX186: =AY186/BA186 -> 0.453125 | AY186: 14.5 | AZ186: / | BA186: 32 | BB186: 2023
AW187: Alsobrook, Luke | AX187: =AY187/BA187 -> 0.453125 | AY187: 14.5 | AZ187: / | BA187: 32 | BB187: 2022
AW188: Scoville, Jordan | AX188: =AY188/BA188 -> 0.453125 | AY188: 14.5 | AZ188: / | BA188: 32 | BB188: 2022
... AW310: Mackey, Doyle | AX310: =AY310/BA310 -> 0.03125 | AY310: 1 | AZ310: / | BA310: 32 | BB310: 2017

Sheet Weekly Wins
F2: =SUM(F4:F101) -> 9 | G2: =SUM(G4:G101) -> 16 | H2: =SUM(H4:H101) -> 16 | I2: =SUM(I4:I101) -> 15 | J2: =SUM(J4:J101) -> 15 | K2: =SUM(K4:K101) -> 15 | L2: =SUM(L4:L101) -> 16 | M2: =SUM(M4:M101) -> 16 | ... Q2: =SUM(Q4:Q101) -> 15
B3: Weekly Wins | C3: Total | E3: Year | F3: 2026 | G3: 2025 | H3: 2024 | I3: 2023 | J3: 2022 | K3: 2021 | L3: 2020 | M3: 2019 | N3: 2018 | O3: 2017 | P3: 2016 | Q3: 2015 | S3: Weekly Wins | T3: 2026 | V3: Weekly Wins | W3: 2025 | Y3: Weekly Wins | Z3: 2024 | AB3: Weekly Wins | AC3: 2023 | AE3: Weekly Wins | AF3: 2022 | AH3: Weekly Wins | AI3: 2021 | AK3: Weekly Wins | AL3: 2020 | AN3: Weekly Wins | AO3: 2019 | AQ3: Weekly Wins | AR3: 2018 | AT3: Weekly Wins | AU3: 2017 | AW3: Weekly Wins | AX3: 2016 | AZ3: Weekly Wins | BA3: 2015
B4: Alsobrook, Luke | C4: =SUM($E4:Q4) -> 7.75 | F4: =1+1 -> 2 | G4: =1/6+1/4 -> 0.41666667 | H4: =1/3 -> 0.33333333 | I4: =1+1/4 -> 1.25 | J4: =1/4 -> 0.25 | K4: =1/2 -> 0.5 | O4: =1+1/2+1/2 -> 2 | Q4: =1 -> 1 | S4: Alsobrook, Luke | T4: =1+1 -> 2 | V4: Fortner, Mara | W4: =1+1+1/5+1 -> 3.2 | Y4: Seamands, Byron | Z4: =1+1 -> 2 | AB4: Conklin, Don | AC4: =1+1+1/3 -> 2.3333333 | AE4: Fortner, Mara | AF4: =1+1/2 -> 1.5 | AH4: Conklin, Don | AI4: =1+1+1 -> 3 | AK4: Fortner, Mara | AL4: =1/2+1/2+1+1/2 -> 2.5 | AN4: Seamands, Byron | AO4: =1+1+1/8 -> 2.125 | AQ4: Clarke, Benjamin | AR4: =1/2+1/3+1+1 -> 2.8333333 | AT4: Scoville, Jordan | AU4: =1/2+1+1 -> 2.5 | AW4: Meyer, Pat | AX4: =1+1+1+1/2+1/6+1/2 -> 4.1666667 | AZ4: Howard, Bill | BA4: =1+1 -> 2
B5: Alvarez, Justin | C5: =SUM($E5:Q5) -> 0.14285714 | L5: =0 -> 0 | M5: =0 -> 0 | N5: =0 -> 0 | O5: =1/7 -> 0.14285714 | S5: Baze, Drew | T5: 0 | V5: Seamands, Nathan | W5: =1/2+1/6+1 -> 1.6666667 | Y5: Olmos, Donny | Z5: =1+1/2 -> 1.5 | AB5: Meyer, Pat | AC5: =1+1 -> 2 | AE5: Honeycutt, Terry | AF5: =1+1/3 -> 1.3333333 | AH5: Easley, Jordan | AI5: =1/2+1+1/2 -> 2 | AK5: Meyer, Pat | AL5: =1/2+1/2+1/2+1/2+1/3 -> 2.3333333 | AN5: Fortner, Mara | AO5: =1+1/4+1/2 -> 1.75 | AQ5: Meyer, Pat | AR5: =1+1/2+1 -> 2.5 | AT5: Alsobrook, Luke | AU5: =1+1/2+1/2 -> 2 | AW5: Curran, Kevin | AX5: =1+1/4+1 -> 2.25 | AZ5: Meyer, Pat | BA5: =1+1 -> 2
B6: Anthis, Michael | C6: =SUM($E6:Q6) -> 0 | H6: 0 | S6: Bradley, Ken | T6: =1/7 -> 0.14285714 | V6: Greenwood, Nathan | W6: =1+1/2 -> 1.5 | Y6: Manuel, Greg | Z6: =1+1/4 -> 1.25 | AB6: Alsobrook, Luke | AC6: =1+1/4 -> 1.25 | AE6: Meyer, Dave | AF6: =1/3+1 -> 1.3333333 | AH6: Greenwood, Douglas | AI6: =1+1/2 -> 1.5 | AK6: Seamands, Byron | AL6: =1+1 -> 2 | AN6: Folmar, James | AO6: =1+1/4 -> 1.25 | AQ6: Seamands, Jorden | AR6: =1+1/2+1 -> 2.5 | AT6: Pearce, Matt | AU6: =1/3+1/2+1/2+1/7 -> 1.4761905 | AW6: Fortner, Mara | AX6: =1/2+1/3+1 -> 1.8333333 | AZ6: Seamands, Byron | BA6: =1+1 -> 2
B7: Baze, Drew | C7: =SUM($E7:Q7) -> 0.625 | F7: 0 | G7: 0 | H7: 0 | I7: 0 | J7: 0 | K7: =1/4 -> 0.25 | L7: =0 -> 0 | M7: =1/8 -> 0.125 | N7: =0 -> 0 | O7: =0 -> 0 | P7: =1/4 -> 0.25 | S7: Clarke, Benjamin | T7: =1 -> 1 | V7: Williams, Reilee | W7: =1/5+1/4+1 -> 1.45 | Y7: Hamilton, Hunter | Z7: =1/5+1 -> 1.2 | AB7: Curran, Kevin | AC7: =1/2+1/3+1/4 -> 1.0833333 | AE7: Scoville, Jordan | AF7: =1/3+1 -> 1.3333333 | AH7: Seamands, Jorden | AI7: =1+1/2 -> 1.5 | AK7: Easley, Jordan | AL7: =1/2+1 -> 1.5 | AN7: Howard, Bill | AO7: =1+1/4 -> 1.25 | AQ7: Meyer, Dave | AR7: =1+1 -> 2 | AT7: Vance, Jeremy | AU7: =1+1/7 -> 1.1428571 | AW7: Miller, Chris | AX7: =1/3+1+1/6 -> 1.5 | AZ7: Fortner, Eric | BA7: =1+1/2 -> 1.5
B8: Beene, Jordan | C8: =SUM($E8:Q8) -> 0 | Q8: =0 -> 0 | S8: Conklin, Don | T8: 0 | V8: Clarke, Benjamin | W8: =1+1/5+1/5 -> 1.4 | Y8: Folmar, James | Z8: =1 -> 1 | AB8: Curran, Taylor | AC8: =1 -> 1 | AE8: Bradley, Ken | AF8: =1/4+1 -> 1.25 | AH8: Young, Michael | AI8: =1+1/2 -> 1.5 | AK8: Meyer, Dave | AL8: =1+1/2 -> 1.5 | AN8: Bradley, Ken | AO8: =1+1/8 -> 1.125 | AQ8: Fortner, Glenn | AR8: =1/2+1 -> 1.5 | AT8: Bradley, Mason | AU8: =1 -> 1 | AW8: Meyer, Austen | AX8: =1 -> 1 | AZ8: Alsobrook, Luke | BA8: =1 -> 1
B9: Beene, Virgil | C9: =SUM($E9:Q9) -> 1 | N9: =0 -> 0 | P9: =0 -> 0 | Q9: =1 -> 1 | S9: Curran, Kevin | T9: 0 | V9: Meyer, Pat | W9: =1/6+1 -> 1.1666667 | Y9: Meyer, Austen | Z9: =1 -> 1 | AB9: Meyer, Austen | AC9: =1 -> 1 | AE9: Curran, Kevin | AF9: =1 -> 1 | AH9: Bradley, Ken | AI9: =1 -> 1 | AK9: Seamands, Jorden | AL9: =1+1/2 -> 1.5 | AN9: Easley, Jordan | AO9: =1+1/8 -> 1.125 | AQ9: Curran, Kevin | AR9: =1/3+1 -> 1.3333333 | AT9: Curran, Haley | AU9: =1 -> 1 | AW9: Roberts, Jeff | AX9: =1/4+1/2+1/6 -> 0.91666667 | AZ9: Beene, Virgil | BA9: =1 -> 1
B10: Bradley, Eden | C10: =SUM($E10:Q10) -> 0 | N10: =0 -> 0 | S10: Curran, Taylor | T10: 0 | V10: Seamands, Byron | W10: =1 -> 1 | Y10: Meyer, Pat | Z10: =1 -> 1 | AB10: Olmos, Donny | AC10: =1 -> 1 | AE10: Curran, Taylor | AF10: =1 -> 1 | AH10: Clarke, Benjamin | AI10: =1 -> 1 | AK10: Curran, Kevin | AL10: =1/2+1/2+1/3 -> 1.3333333 | AN10: Meyer, Dave | AO10: =1/2+1/8+1/2 -> 1.125 | AQ10: Greenwood, Douglas | AR10: =1 -> 1 | AT10: Roberts, Jeff | AU10: =1 -> 1 | AW10: Fortner, Glenn | AX10: =1/5+1/3+1/6 -> 0.7 | AZ10: Curran, Haley | BA10: =1 -> 1
B11: Bradley, Ken | C11: =SUM($E11:Q11) -> 3.6845238 | F11: =1/7 -> 0.14285714 | G11: 0 | H11: 0 | I11: 0 | J11: =1/4+1 -> 1.25 | K11: =1 -> 1 | L11: =0 -> 0 | M11: =1+1/8 -> 1.125 | N11: =0 -> 0 | O11: =0 -> 0 | P11: =1/6 -> 0.16666667 | Q11: =0 -> 0 | S11: Easley, Jordan | T11: =1/7 -> 0.14285714 | V11: Meyer, Austen | W11: =1 -> 1 | Y11: Purschwitz, Dan | Z11: =1/2+1/2 -> 1 | AB11: Seamands, Byron | AC11: =1 -> 1 | AE11: Fortner, Glenn | AF11: =1 -> 1 | AH11: Meyer, Dave | AI11: =1/2+1/2 -> 1 | AK11: Folmar, James | AL11: =1/3+1 -> 1.3333333 | AN11: Mackey, Doyle | AO11: =1 -> 1 | AQ11: Miller, Chris | AR11: =1 -> 1 | AT11: Curran, Taylor | AU11: =1/2+1/7 -> 0.64285714 | AW11: Howard, Bill | AX11: =1/2+1/5 -> 0.7 | AZ11: Easley, Jordan | BA11: =1 -> 1
B12: Bradley, Mason | C12: =SUM($E12:Q12) -> 1 | N12: =0 -> 0 | O12: =1 -> 1 | S12: Folmar, James | T12: 0 | V12: Manuel, Greg | W12: =1/5+1/5+1/6 -> 0.56666667 | Y12: Scoville, Jordan | Z12: =1 -> 1 | AB12: Seamands, Natalie | AC12: =1 -> 1 | AE12: Meyer, Austen | AF12: =1 -> 1 | AH12: Alsobrook, Luke | AI12: =1/2 -> 0.5 | AK12: Meyer, Austen | AL12: =1/2+1/3 -> 0.83333333 | AN12: Scoville, Jordan | AO12: =1/4+1/4+1/2 -> 1 | AQ12: Swindell, Richard | AR12: =1/3 -> 0.33333333 | AT12: Meyer, Dave | AU12: =1/2+1/7 -> 0.64285714 | AW12: Curran, Taylor | AX12: =1/5+1/4+1/6 -> 0.61666667 | AZ12: Fortner, Mara | BA12: =1 -> 1
B13: Brown, Brandel | C13: =SUM($E13:Q13) -> 0.5 | O13: =1/2 -> 0.5 | S13: Fortner, Eric | T13: =1/7 -> 0.14285714 | V13: Purschwitz, Dan | W13: =1/2 -> 0.5 | Y13: Seamands, Natalie | Z13: =1 -> 1 | AB13: Hamilton, Hunter | AC13: =1/2 -> 0.5 | AE13: Young, Michael | AF13: =1 -> 1 | AH13: Meyer, Pat | AI13: =1/2 -> 0.5 | AK13: Curran, Taylor | AL13: =1/2 -> 0.5 | AN13: Swindell, Richard | AO13: =1 -> 1 | AQ13: Alvarez, Justin | AR13: =0 -> 0 | AT13: Brown, Brandel | AU13: =1/2 -> 0.5 | AW13: Curran, Haley | AX13: =1/2 -> 0.5 | AZ13: Miller, Chris | BA13: =1 -> 1
B14: Clarke, Benjamin | C14: =SUM($E14:Q14) -> 6.5666667 | F14: =1 -> 1 | G14: =1+1/5+1/5 -> 1.4 | H14: 0 | I14: 0 | J14: =1/3 -> 0.33333333 | K14: =1 -> 1 | L14: =0 -> 0 | M14: =0 -> 0 | N14: =1/2+1/3+1+1 -> 2.8333333 | S14: Fortner, Jason | T14: 0 | V14: Curran, Kevin | W14: =1/2 -> 0.5 | Y14: Smith, Brad | Z14: =1/5+1/2 -> 0.7 | AB14: Folmar, James | AC14: =1/3 -> 0.33333333 | AE14: Zorn, Chad | AF14: =1/3+1/4 -> 0.58333333 | AH14: Miller, Chris | AI14: =1/2 -> 0.5 | AK14: Miller, Chris | AL14: =1/3 -> 0.33333333 | AN14: Vance, Jeremy | AO14: =1 -> 1 | AQ14: Baze, Drew | AR14: =0 -> 0 | AT14: Curran, Kevin | AU14: =1/2 -> 0.5 | AW14: Baze, Drew | AX14: =1/4 -> 0.25 | AZ14: Roberts, Jeff | BA14: =1 -> 1
B15: Conklin, Don | C15: =SUM($E15:Q15) -> 5.6666667 | F15: 0 | G15: 0 | H15: 0 | I15: =1+1+1/3 -> 2.3333333 | J15: =1/3 -> 0.33333333 | K15: =1+1+1 -> 3 | S15: Fortner, Mara | T15: 0 | V15: Scoville, Jordan | W15: =1/5+1/4 -> 0.45 | Y15: Smith, Shawn | Z15: =1/3+1/4 -> 0.58333333 | AB15: Greenwood, Nathan | AC15: =1/3 -> 0.33333333 | AE15: Greenwood, Nathan | AF15: =1/2 -> 0.5 | AH15: Baze, Drew | AI15: =1/4 -> 0.25 | AK15: Roberts, Jeff | AL15: =1/3 -> 0.33333333 | AN15: Meyer, Pat | AO15: =1/4+1/8+1/2 -> 0.875 | AQ15: Beene, Virgil | AR15: =0 -> 0 | AT15: Fortner, Eric | AU15: =1/2 -> 0.5 | AW15: Seamands, Byron | AX15: =1/5 -> 0.2 | AZ15: Robertson, Josh | BA15: =1/2 -> 0.5
B16: Curran, Haley | C16: =SUM($E16:Q16) -> 2.5 | N16: =0 -> 0 | O16: =1 -> 1 | P16: =1/2 -> 0.5 | Q16: =1 -> 1 | S16: Greenwood, Douglas | T16: 0 | V16: Alsobrook, Luke | W16: =1/6+1/4 -> 0.41666667 | Y16: Fortner, Glenn | Z16: =1/2 -> 0.5 | AB16: Honeycutt, Terry | AC16: =1/3 -> 0.33333333 | AE16: Mackey, Doyle | AF16: =1/2 -> 0.5 | AH16: Curran, Taylor | AI16: =1/4 -> 0.25 | AK16: Alvarez, Justin | AL16: =0 -> 0 | AN16: Fortner, Glenn | AO16: =1/2+1/4 -> 0.75 | AQ16: Bradley, Eden | AR16: =0 -> 0 | AT16: Fortner, Glenn | AU16: =1/2 -> 0.5 | AW16: Seamands, Jorden | AX16: =1/5 -> 0.2 | AZ16: Beene, Jordan | BA16: =0 -> 0
B17: Curran, Kevin | C17: =SUM($E17:Q17) -> 8.2 | F17: 0 | G17: =1/2 -> 0.5 | H17: =1/5 -> 0.2 | I17: =1/2+1/3+1/4 -> 1.0833333 | J17: =1 -> 1 | K17: =0 -> 0 | L17: =1/2+1/2+1/3 -> 1.3333333 | M17: =0 -> 0 | N17: =1/3+1 -> 1.3333333 | O17: =1/2 -> 0.5 | P17: =1+1/4+1 -> 2.25 | Q17: =0 -> 0 | S17: Greenwood, Nathan | T17: =1/7+1 -> 1.1428571 | V17: Vance, Jeremy | W17: =1/5+1/6 -> 0.36666667 | Y17: Meyer, Dave | Z17: =1/2 -> 0.5 | AB17: Meyer, Dave | AC17: =1/3 -> 0.33333333 | AE17: Meyer, Pat | AF17: =1/2 -> 0.5 | AH17: Folmar, James | AI17: =1/4 -> 0.25 | AK17: Baze, Drew | AL17: =0 -> 0 | AN17: Seamands, Jorden | AO17: =1/4 -> 0.25 | AQ17: Bradley, Ken | AR17: =0 -> 0 | AT17: Miller, Chris | AU17: =1/2 -> 0.5 | AW17: Bradley, Ken | AX17: =1/6 -> 0.16666667 | AZ17: Bradley, Ken | BA17: =0 -> 0
B18: Curran, Taylor | C18: =SUM($E18:Q18) -> 4.1761905 | F18: 0 | G18: =1/6 -> 0.16666667 | H18: 0 | I18: =1 -> 1 | J18: =1 -> 1 | K18: =1/4 -> 0.25 | L18: =1/2 -> 0.5 | M18: =0 -> 0 | O18: =1/2+1/7 -> 0.64285714 | P18: =1/5+1/4+1/6 -> 0.61666667 | S18: Hamilton, Hunter | T18: 0 | V18: Honeycutt, Terry | W18: =1/4 -> 0.25 | Y18: Seamands, Jorden | Z18: =1/5+1/4 -> 0.45 | AB18: Miller, Chris | AC18: =1/3 -> 0.33333333 | AE18: Clarke, Benjamin | AF18: =1/3 -> 0.33333333 | AH18: Fortner, Jason | AI18: =1/4 -> 0.25 | AK18: Bradley, Ken | AL18: =0 -> 0 | AN18: Baze, Drew | AO18: =1/8 -> 0.125 | AQ18: Bradley, Mason | AR18: =0 -> 0 | AT18: Pearce, Andrew | AU18: =1/3 -> 0.33333333 | AW18: Beene, Virgil | AX18: =0 -> 0 | AZ18: Curran, Kevin | BA18: =0 -> 0
B19: Easley, Jordan | C19: =SUM($E19:Q19) -> 5.7678571 | F19: =1/7 -> 0.14285714 | I19: 0 | J19: 0 | K19: =1/2+1+1/2 -> 2 | L19: =1/2+1 -> 1.5 | M19: =1+1/8 -> 1.125 | O19: =0 -> 0 | Q19: =1 -> 1 | S19: Harper, Kenneth | T19: 0 | V19: Hamilton, Hunter | W19: =1/5 -> 0.2 | Y19: Alsobrook, Luke | Z19: =1/3 -> 0.33333333 | AB19: Scoville, Jordan | AC19: =1/3 -> 0.33333333 | AE19: Conklin, Don | AF19: =1/3 -> 0.33333333 | AH19: Curran, Kevin | AI19: =0 -> 0 | AK19: Clarke, Benjamin | AL19: =0 -> 0 | AN19: Fortner, Jason | AO19: =1/8 -> 0.125 | AQ19: Curran, Haley | AR19: =0 -> 0 | AT19: Seamands, Byron | AU19: =1/3 -> 0.33333333 | AW19: Fortner, Eric | AX19: =0 -> 0 | AZ19: McMullen, Dan | BA19: =0 -> 0
B20: Folmar, James | C20: =SUM($E20:Q20) -> 4.1666667 | F20: 0 | G20: 0 | H20: =1 -> 1 | I20: =1/3 -> 0.33333333 | J20: 0 | K20: =1/4 -> 0.25 | L20: =1/3+1 -> 1.3333333 | M20: =1+1/4 -> 1.25 | N20: =0 -> 0 | O20: =0 -> 0 | S20: Honeycutt, Terry | T20: 0 | V20: Roberts, Jeff | W20: =1/5 -> 0.2 | Y20: Greenwood, Nathan | Z20: =1/3 -> 0.33333333 | AB20: Vance, Jeremy | AC20: =1/3 -> 0.33333333 | AE20: Alsobrook, Luke | AF20: =1/4 -> 0.25 | AH20: Fortner, Glenn | AI20: =0 -> 0 | AK20: Fortner, Glenn | AL20: =0 -> 0 | AN20: Roberts, Jeff | AO20: =1/8 -> 0.125 | AQ20: Folmar, James | AR20: =0 -> 0 | AT20: Alvarez, Justin | AU20: =1/7 -> 0.14285714 | AW20: Fortner, Jason | AX20: =0 -> 0 | AZ20: Meyer, Austen | BA20: =0 -> 0
B21: Fortner, Eric | C21: =SUM($E21:Q21) -> 2.1428571 | F21: =1/7 -> 0.14285714 | O21: =1/2 -> 0.5 | P21: =0 -> 0 | Q21: =1+1/2 -> 1.5 | S21: Kraus, Will | T21: 0 | V21: Curran, Taylor | W21: =1/6 -> 0.16666667 | Y21: Smith, Payton | Z21: =1/4 -> 0.25 | AB21: Harper, Kenneth | AC21: =1/4 -> 0.25 | AE21: Harper, Kenneth | AF21: =1/4 -> 0.25 | AH21: Fortner, Mara | AI21: =0 -> 0 | AK21: Fortner, Jason | AL21: =0 -> 0 | AN21: Alvarez, Justin | AO21: =0 -> 0 | AQ21: Fortner, Jason | AR21: =0 -> 0 | AT21: Mackey, Doyle | AU21: =1/7 -> 0.14285714 | AZ21: Prothro, John | BA21: =0 -> 0
B22: Fortner, Glenn | C22: =SUM($E22:Q22) -> 4.95 | H22: =1/2 -> 0.5 | I22: 0 | J22: =1 -> 1 | K22: =0 -> 0 | L22: =0 -> 0 | M22: =1/2+1/4 -> 0.75 | N22: =1/2+1 -> 1.5 | O22: =1/2 -> 0.5 | P22: =1/5+1/3+1/6 -> 0.7 | S22: Mattson, Nick | T22: 0 | V22: Baze, Drew | W22: 0 | Y22: Curran, Kevin | Z22: =1/5 -> 0.2 | AB22: Smith, Shawn | AC22: =1/4 -> 0.25 | AE22: Baze, Drew | AF22: 0 | AH22: Honeycutt, Terry | AI22: =0 -> 0 | AK22: Greenwood, Douglas | AL22: =0 -> 0 | AN22: Clarke, Benjamin | AO22: =0 -> 0 | AQ22: Fortner, Mara | AR22: =0 -> 0 | AT22: Seamands, Jorden | AU22: =1/7 -> 0.14285714 | AZ22: Prothro, Tom | BA22: =0 -> 0
B23: Fortner, Jason | C23: =SUM($E23:Q23) -> 0.375 | F23: 0 | G23: 0 | H23: 0 | I23: 0 | J23: 0 | K23: =1/4 -> 0.25 | L23: =0 -> 0 | M23: =1/8 -> 0.125 | N23: =0 -> 0 | O23: =0 -> 0 | P23: =0 -> 0 | S23: Meyer, Austen | T23: 0 | V23: Bradley, Ken | W23: 0 | Y23: Williams, Reilee | Z23: =1/5 -> 0.2 | AB23: Baze, Drew | AC23: 0 | AE23: Easley, Jordan | AF23: 0 | AH23: Mackey, Doyle | AI23: =0 -> 0 | AK23: Mackey, Doyle | AL23: =0 -> 0 | AN23: Curran, Kevin | AO23: =0 -> 0 | AQ23: Howard, Bill | AR23: =0 -> 0 | AT23: Baze, Drew | AU23: =0 -> 0 | AZ23: Rapisand, Ryan | BA23: =0 -> 0
B24: Fortner, Mara | C24: =SUM($E24:Q24) -> 11.783333 | F24: 0 | G24: =1+1+1/5+1 -> 3.2 | H24: 0 | I24: 0 | J24: =1+1/2 -> 1.5 | K24: =0 -> 0 | L24: =1/2+1/2+1+1/2 -> 2.5 | M24: =1+1/4+1/2 -> 1.75 | N24: =0 -> 0 | O24: =0 -> 0 | P24: =1/2+1/3+1 -> 1.8333333 | Q24: =1 -> 1 | S24: Meyer, Dave | T24: 0 | V24: Conklin, Don | W24: 0 | Y24: Anthis, Michael | Z24: 0 | AB24: Bradley, Ken | AC24: 0 | AE24: Folmar, James | AF24: 0 | AH24: Manuel, Greg | AI24: =0 -> 0 | AK24: Manuel, Greg | AL24: =0 -> 0 | AN24: Curran, Taylor | AO24: =0 -> 0 | AQ24: Pearce, Matt | AR24: =0 -> 0 | AT24: Bradley, Ken | AU24: =0 -> 0 | AZ24: Seamands, Jorden | BA24: =0 -> 0
B25: Greenwood, Douglas | C25: =SUM($E25:Q25) -> 2.5 | F25: 0 | G25: 0 | H25: 0 | I25: 0 | J25: 0 | K25: =1+1/2 -> 1.5 | L25: =0 -> 0 | M25: =0 -> 0 | N25: =1 -> 1 | S25: Meyer, Pat | T25: 0 | V25: Folmar, James | W25: 0 | Y25: Baze, Drew | Z25: 0 | AB25: Clarke, Benjamin | AC25: 0 | AE25: Fortner, Jason | AF25: 0 | AH25: Meyer, Austen | AI25: =0 -> 0 | AK25: Scoville, Jordan | AL25: =0 -> 0 | AN25: Greenwood, Douglas | AO25: =0 -> 0 | AQ25: Roberts, Jeff | AR25: =0 -> 0 | AT25: Easley, Jordan | AU25: =0 -> 0 | AZ25: Seamands, Mike | BA25: =0 -> 0
B26: Greenwood, Nathan | C26: =SUM($E26:Q26) -> 3.8095238 | F26: =1/7+1 -> 1.1428571 | G26: =1+1/2 -> 1.5 | H26: =1/3 -> 0.33333333 | I26: =1/3 -> 0.33333333 | J26: =1/2 -> 0.5 | S26: Miller, Chris | T26: =1 -> 1 | V26: Fortner, Jason | W26: 0 | Y26: Bradley, Ken | Z26: 0 | AB26: Easley, Jordan | AC26: 0 | AE26: Greenwood, Douglas | AF26: 0 | AH26: Meyer, Brennan | AI26: =0 -> 0 | AK26: Vance, Jeremy | AL26: =0 -> 0 | AN26: Miller, Chris | AO26: =0 -> 0 | AQ26: Scoville, Jordan | AR26: =0 -> 0 | AT26: Folmar, James | AU26: =0 -> 0 | AZ26: Skipper, Steve | BA26: =0 -> 0
B27: Hamilton, Hunter | C27: =SUM($E27:Q27) -> 1.9 | F27: 0 | G27: =1/5 -> 0.2 | H27: =1/5+1 -> 1.2 | I27: =1/2 -> 0.5 | S27: Purschwitz, Dan | T27: 0 | V27: Greenwood, Douglas | W27: 0 | Y27: Clarke, Benjamin | Z27: 0 | AB27: Fortner, Glenn | AC27: 0 | AE27: Manuel, Greg | AF27: 0 | AH27: Roberts, Jeff | AI27: =0 -> 0 | AQ27: Seamands, Byron | AR27: =0 -> 0 | AT27: Fortner, Jason | AU27: =0 -> 0
B28: Harper, Kenneth | C28: =SUM($E28:Q28) -> 0.5 | F28: 0 | G28: 0 | H28: 0 | I28: =1/4 -> 0.25 | J28: =1/4 -> 0.25 | S28: Roberts, Jeff | T28: 0 | V28: Harper, Kenneth | W28: 0 | Y28: Conklin, Don | Z28: 0 | AB28: Fortner, Jason | AC28: 0 | AE28: Middleton, Jason | AF28: 0 | AH28: Scoville, Jordan | AI28: =0 -> 0 | AT28: Fortner, Mara | AU28: =0 -> 0
B29: Honeycutt, Terry | C29: =SUM($E29:Q29) -> 1.9166667 | F29: 0 | G29: =1/4 -> 0.25 | I29: =1/3 -> 0.33333333 | J29: =1+1/3 -> 1.3333333 | K29: =0 -> 0 | S29: Scoville, Jordan | T29: 0 | V29: Mattson, Nick | W29: 0 | Y29: Curran, Taylor | Z29: 0 | AB29: Fortner, Mara | AC29: 0 | AE29: Miller, Chris | AF29: 0 | AH29: Seamands, Byron | AI29: =0 -> 0 | AT29: Howard, Bill | AU29: =0 -> 0
B30: Howard, Bill | C30: =SUM($E30:Q30) -> 3.95 | M30: =1+1/4 -> 1.25 | N30: =0 -> 0 | O30: =0 -> 0 | P30: =1/2+1/5 -> 0.7 | Q30: =1+1 -> 2 | S30: Seamands, Jorden | T30: =1/2 -> 0.5 | V30: Meyer, Dave | W30: 0 | Y30: Fortner, Jason | Z30: 0 | AB30: Greenwood, Douglas | AC30: 0 | AE30: Roberts, Jeff | AF30: 0 | AH30: Strain, Billy | AI30: =0 -> 0 | AT30: Meyer, Austen | AU30: =0 -> 0
B31: Kraus, Will | C31: =SUM($E31:Q31) -> 0 | F31: 0 | H31: 0 | S31: Seamands, Natalie | T31: 0 | V31: Miller, Chris | W31: 0 | Y31: Fortner, Mara | Z31: 0 | AB31: Mackey, Doyle | AC31: 0 | AE31: Ross, Jeff | AF31: 0 | AH31: Vance, Jeremy | AI31: =0 -> 0 | AT31: Meyer, Pat | AU31: =0 -> 0
B32: Mackey, Doyle | C32: =SUM($E32:Q32) -> 1.6428571 | I32: 0 | J32: =1/2 -> 0.5 | K32: =0 -> 0 | L32: =0 -> 0 | M32: =1 -> 1 | O32: =1/7 -> 0.14285714 | S32: Seamands, Nathan | T32: =1/2 -> 0.5 | V32: Seamands, Jorden | W32: 0 | Y32: Greenwood, Douglas | Z32: 0 | AB32: Manuel, Greg | AC32: 0 | AE32: Seamands, Byron | AF32: 0
B33: Manuel, Greg | C33: =SUM($E33:Q33) -> 1.8166667 | G33: =1/5+1/5+1/6 -> 0.56666667 | H33: =1+1/4 -> 1.25 | I33: 0 | J33: 0 | K33: =0 -> 0 | L33: =0 -> 0 | S33: Simba, Julio | T33: =1/7 -> 0.14285714 | V33: Seamands, Natalie | W33: 0 | Y33: Harper, Kenneth | Z33: 0 | AB33: Roberts, Jeff | AC33: 0 | AE33: Seamands, Jorden | AF33: 0
B34: Mattson, Nick | C34: =SUM($E34:Q34) -> 0 | F34: 0 | G34: 0 | S34: Sloan, Kenneth | T34: 0 | V34: Simba, Julio | W34: 0 | Y34: Kraus, Will | Z34: 0 | AB34: Seamands, Jorden | AC34: 0 | AE34: Simba, Julio | AF34: 0
B35: McMullen, Dan | C35: =SUM($E35:Q35) -> 0 | Q35: =0 -> 0 | S35: Smith, Ashton | T35: 0 | V35: Smith, Brad | W35: 0 | Y35: Miller, Chris | Z35: 0 | AB35: Simba, Julio | AC35: 0 | AE35: Sloan, Kenneth | AF35: 0
B36: Meyer, Austen | C36: =SUM($E36:Q36) -> 5.8333333 | F36: 0 | G36: =1 -> 1 | H36: =1 -> 1 | I36: =1 -> 1 | J36: =1 -> 1 | K36: =0 -> 0 | L36: =1/2+1/3 -> 0.83333333 | O36: =0 -> 0 | P36: =1 -> 1 | Q36: =0 -> 0 | S36: Smith, Brad | T36: =1/7 -> 0.14285714 | V36: Smith, Payton | W36: 0 | Y36: Roberts, Jeff | Z36: 0 | AB36: Sloan, Kenneth | AC36: 0 | AE36: Smith, Brad | AF36: 0
B37: Meyer, Brennan | C37: =SUM($E37:Q37) -> 0 | K37: =0 -> 0 | S37: Smith, Payton | T37: 0 | V37: Smith, Shawn | W37: 0 | Y37: Simba, Julio | Z37: 0 | AB37: Smith, Brad | AC37: 0 | AE37: Vance, Jeremy | AF37: 0
B38: Meyer, Dave | C38: =SUM($E38:Q38) -> 8.4345238 | F38: 0 | G38: 0 | H38: =1/2 -> 0.5 | I38: =1/3 -> 0.33333333 | J38: =1/3+1 -> 1.3333333 | K38: =1/2+1/2 -> 1 | L38: =1+1/2 -> 1.5 | M38: =1/2+1/8+1/2 -> 1.125 | N38: =1+1 -> 2 | O38: =1/2+1/7 -> 0.64285714 | S38: Smith, Shawn | T38: 0 | V38: Trant, Amon | W38: 0 | Y38: Sloan, Kenneth | Z38: 0 | AB38: Smith, Payton | AC38: 0
B39: Meyer, Pat | C39: =SUM($E39:Q39) -> 17.041667 | F39: 0 | G39: =1/6+1 -> 1.1666667 | H39: =1 -> 1 | I39: =1+1 -> 2 | J39: =1/2 -> 0.5 | K39: =1/2 -> 0.5 | L39: =1/2+1/2+1/2+1/2+1/3 -> 2.3333333 | M39: =1/4+1/8+1/2 -> 0.875 | N39: =1+1/2+1 -> 2.5 | O39: =0 -> 0 | P39: =1+1+1+1/2+1/6+1/2 -> 4.1666667 | Q39: =1+1 -> 2 | S39: Southerland, Brett | T39: 0 | V39: Trant, Cody | W39: 0 | Y39: Strain, Billy | Z39: 0 | AB39: Trant, Amon | AC39: 0
B40: Middleton, Jason | C40: =SUM($E40:Q40) -> 0 | J40: 0 | S40: Trant, Amon | T40: =1 -> 1 | V40: Trant, Garrett | W40: 0 | Y40: Strang, Spencer | Z40: 0
B41: Miller, Chris | C41: =SUM($E41:Q41) -> 6.1666667 | F41: =1 -> 1 | G41: 0 | H41: 0 | I41: =1/3 -> 0.33333333 | J41: 0 | K41: =1/2 -> 0.5 | L41: =1/3 -> 0.33333333 | M41: =0 -> 0 | N41: =1 -> 1 | O41: =1/2 -> 0.5 | P41: =1/3+1+1/6 -> 1.5 | Q41: =1 -> 1 | S41: Trant, Cody | T41: 0 | Y41: Vance, Jeremy | Z41: 0
B42: Olmos, Donny | C42: =SUM($E42:Q42) -> 2.5 | H42: =1+1/2 -> 1.5 | I42: =1 -> 1 | S42: Trant, Garrett | T42: =1 -> 1
B43: Pearce, Andrew | C43: =SUM($E43:Q43) -> 0.33333333 | O43: =1/3 -> 0.33333333 | S43: Vance, Jeremy | T43: 0
B44: Pearce, Matt | C44: =SUM($E44:Q44) -> 1.4761905 | N44: =0 -> 0 | O44: =1/3+1/2+1/2+1/7 -> 1.4761905 | S44: Williams, Reilee | T44: =1/7 -> 0.14285714
B45: Prothro, John | C45: =SUM($E45:Q45) -> 0 | Q45: =0 -> 0
B46: Prothro, Tom | C46: =SUM($E46:Q46) -> 0 | Q46: =0 -> 0
B47: Purschwitz, Dan | C47: =SUM($E47:Q47) -> 1.5 | F47: 0 | G47: =1/2 -> 0.5 | H47: =1/2+1/2 -> 1
B48: Rapisand, Ryan | C48: =SUM($E48:Q48) -> 0 | Q48: =0 -> 0
B49: Roberts, Jeff | C49: =SUM($E49:Q49) -> 3.575 | F49: 0 | G49: =1/5 -> 0.2 | H49: 0 | I49: 0 | J49: 0 | K49: =0 -> 0 | L49: =1/3 -> 0.33333333 | M49: =1/8 -> 0.125 | N49: =0 -> 0 | O49: =1 -> 1 | P49: =1/4+1/2+1/6 -> 0.91666667 | Q49: =1 -> 1
B50: Robertson, Josh | C50: =SUM($E50:Q50) -> 0.5 | Q50: =1/2 -> 0.5
B51: Ross, Jeff | C51: =SUM($E51:Q51) -> 0 | J51: 0
B52: Scoville, Jordan | C52: =SUM($E52:Q52) -> 6.6166667 | F52: 0 | G52: =1/5+1/4 -> 0.45 | H52: =1 -> 1 | I52: =1/3 -> 0.33333333 | J52: =1/3+1 -> 1.3333333 | K52: =0 -> 0 | L52: =0 -> 0 | M52: =1/4+1/4+1/2 -> 1 | N52: =0 -> 0 | O52: =1/2+1+1 -> 2.5
B53: Seamands, Byron | C53: =SUM($E53:Q53) -> 10.658333 | G53: =1 -> 1 | H53: =1+1 -> 2 | I53: =1 -> 1 | J53: 0 | K53: =0 -> 0 | L53: =1+1 -> 2 | M53: =1+1+1/8 -> 2.125 | N53: =0 -> 0 | O53: =1/3 -> 0.33333333 | P53: =1/5 -> 0.2 | Q53: =1+1 -> 2
B54: Seamands, Jorden | C54: =SUM($E54:Q54) -> 7.0428571 | F54: =1/2 -> 0.5 | G54: 0 | H54: =1/5+1/4 -> 0.45 | I54: 0 | J54: 0 | K54: =1+1/2 -> 1.5 | L54: =1+1/2 -> 1.5 | M54: =1/4 -> 0.25 | N54: =1+1/2+1 -> 2.5 | O54: =1/7 -> 0.14285714 | P54: =1/5 -> 0.2 | Q54: =0 -> 0
B55: Seamands, Mike | C55: =SUM($E55:Q55) -> 0 | Q55: =0 -> 0
B56: Seamands, Natalie | C56: =SUM($E56:Q56) -> 2 | F56: 0 | G56: 0 | H56: =1 -> 1 | I56: =1 -> 1
B57: Seamands, Nathan | C57: =SUM($E57:Q57) -> 2.1666667 | F57: =1/2 -> 0.5 | G57: =1/2+1/6+1 -> 1.6666667
B58: Simba, Julio | C58: =SUM($E58:Q58) -> 0.14285714 | F58: =1/7 -> 0.14285714 | G58: 0 | H58: 0 | I58: 0 | J58: 0
B59: Skipper, Steve | C59: =SUM($E59:Q59) -> 0 | Q59: =0 -> 0
B60: Sloan, Kenneth | C60: =SUM($E60:Q60) -> 0 | F60: 0 | H60: 0 | I60: 0 | J60: 0
B61: Smith, Ashton | C61: =SUM($E61:Q61) -> 0 | F61: 0
B62: Smith, Brad | C62: =SUM($E62:Q62) -> 0.84285714 | F62: =1/7 -> 0.14285714 | G62: 0 | H62: =1/5+1/2 -> 0.7 | I62: 0 | J62: 0
B63: Smith, Payton | C63: =SUM($E63:Q63) -> 0.25 | F63: 0 | G63: 0 | H63: =1/4 -> 0.25 | I63: 0
B64: Smith, Shawn | C64: =SUM($E64:Q64) -> 0.83333333 | G64: 0 | H64: =1/3+1/4 -> 0.58333333 | I64: =1/4 -> 0.25
B65: Southerland, Brett | C65: =SUM($E65:Q65) -> 0 | F65: 0
B66: Strain, Billy | C66: =SUM($E66:Q66) -> 0 | H66: 0 | K66: =0 -> 0
B67: Strang, Spencer | C67: =SUM($E67:Q67) -> 0 | H67: 0
B68: Swindell, Richard | C68: =SUM($E68:Q68) -> 1.3333333 | M68: =1 -> 1 | N68: =1/3 -> 0.33333333
B69: Trant, Amon | C69: =SUM($E69:Q69) -> 1 | F69: =1 -> 1 | G69: 0 | I69: 0
B70: Trant, Cody | C70: =SUM($E70:Q70) -> 0 | F70: 0 | G70: 0
B71: Trant, Garrett | C71: =SUM($E71:Q71) -> 1 | F71: =1 -> 1 | G71: 0
B72: Vance, Jeremy | C72: =SUM($E72:Q72) -> 2.8428571 | F72: 0 | G72: =1/5+1/6 -> 0.36666667 | H72: 0 | I72: =1/3 -> 0.33333333 | J72: 0 | K72: =0 -> 0 | L72: =0 -> 0 | M72: =1 -> 1 | O72: =1+1/7 -> 1.1428571
B73: Williams, Reilee | C73: =SUM($E73:Q73) -> 1.7928571 | F73: =1/7 -> 0.14285714 | G73: =1/5+1/4+1 -> 1.45 | H73: =1/5 -> 0.2
B74: Young, Michael | C74: =SUM($E74:Q74) -> 2.5 | J74: =1 -> 1 | K74: =1+1/2 -> 1.5
B75: Zorn, Chad | C75: =SUM($E75:Q75) -> 0.58333333 | J75: =1/3+1/4 -> 0.58333333

Sheet Streaks
C1: update | I1: update
C2: 50%+ Consecutive Years | F2: % | G2: Year | H2: #Yrs | I2: Streak Alive? | L2: Name | M2: #Yrs | N2: Years | O2: Streak Alive?
B3: 1-T | C3: Curran, Taylor | D3: 154.5 | E3: 300 | F3: 0.515 | G3: 2019 | H3: 3 | I3: No | K3: 1st-T | L3: Curran, Taylor | M3: 3 | N3: (2016-2017; 2019) | O3: No
C4: Curran, Taylor | D4: 146.5 | E4: 290 | F4: 0.50517241 | G4: 2017 | H4: 3 | I4: No | K4: 1st-T | L4: Scoville, Jordan | M4: 3 | N4: (2017-2019) | O4: No
C5: Curran, Taylor | D5: 145 | E5: 290 | F5: 0.5 | G5: 2016 | H5: 3 | I5: No | K5: 1st-T | L5: Miller, Chris | M5: 3 | N5: (2015-2017) | O5: No
B6: 1-T | C6: Scoville, Jordan | D6: 155.5 | E6: 300 | F6: 0.51833333 | G6: 2019 | H6: 3 | I6: No | K6: 4th-T | L6: Clarke, Benjamin | M6: 2 | N6: (2021-2022) | O6: Yes
C7: Scoville, Jordan | D7: 146.5 | E7: 290 | F7: 0.50517241 | G7: 2018 | H7: 3 | I7: No | K7: 4th-T | L7: Curran, Taylor | M7: 2 | N7: (2021-2022) | O7: Yes
C8: Scoville, Jordan | D8: 151.5 | E8: 290 | F8: 0.52241379 | G8: 2017 | H8: 3 | I8: No | K8: 4th-T | L8: Greenwood, Douglas | M8: 2 | N8: (2021-2022) | O8: Yes
B9: 1-T | C9: Miller, Chris | D9: 146.5 | E9: 290 | F9: 0.50517241 | G9: 2017 | H9: 3 | I9: No | K9: 4th-T | L9: Honeycutt, Terry | M9: 2 | N9: (2021-2022) | O9: Yes
C10: Miller, Chris | D10: 146 | E10: 290 | F10: 0.50344828 | G10: 2016 | H10: 3 | I10: No | K10: 4th-T | L10: Meyer, Dave | M10: 2 | N10: (2021-2022) | O10: Yes
C11: Miller, Chris | D11: 186.5 | E11: 350 | F11: 0.53285714 | G11: 2015 | H11: 3 | I11: No | K11: 4th-T | L11: Seamands, Jorden | M11: 2 | N11: (2020-2021) | O11: No
B12: 4-T | C12: Folmar, James | D12: 149 | E12: 292 | F12: 0.51027397 | G12: 2020 | H12: 2 | I12: No | K12: 4th-T | L12: Folmar, James | M12: 2 | N12: (2019-2020) | O12: No
C13: Folmar, James | D13: 166.5 | E13: 300 | F13: 0.555 | G13: 2019 | H13: 2 | I13: No | K13: 4th-T | L13: Seamands, Byron | M13: 2 | N13: (2019-2020) | O13: No
B14: 4-T | C14: Seamands, Jorden | D14: 155.5 | E14: 288 | F14: 0.53993056 | G14: 2021 | H14: 2 | I14: No | K14: 4th-T | L14: Vance, Jeremy | M14: 2 | N14: (2019-2020) | O14: No
C15: Seamands, Jorden | D15: 147 | E15: 292 | F15: 0.50342466 | G15: 2020 | H15: 2 | I15: No | K15: 4th-T | L15: Seamands, Jorden | M15: 2 | N15: (2017-2018) | O15: No
B16: 4-T | C16: Seamands, Byron | D16: 158 | E16: 292 | F16: 0.54109589 | G16: 2020 | H16: 2 | I16: No | K16: 4th-T | L16: Fortner, Mara | M16: 2 | N16: (2015-2016) | O16: No
C17: Seamands, Byron | D17: 155.5 | E17: 300 | F17: 0.51833333 | G17: 2019 | H17: 2 | I17: No | K17: 4th-T | L17: Meyer, Pat | M17: 2 | N17: (2015-2016) | O17: No
B18: 4-T | C18: Vance, Jeremy | D18: 148 | E18: 292 | F18: 0.50684932 | G18: 2020 | H18: 2 | I18: No
C19: Vance, Jeremy | D19: 159.5 | E19: 300 | F19: 0.53166667 | G19: 2019 | H19: 2 | I19: No
B20: 4-T | C20: Fortner, Mara | D20: 150 | E20: 290 | F20: 0.51724138 | G20: 2016 | H20: 2 | I20: No
C21: Fortner, Mara | D21: 183.5 | E21: 350 | F21: 0.52428571 | G21: 2015 | H21: 2 | I21: No
B22: 4-T | C22: Meyer, Pat | D22: 152 | E22: 290 | F22: 0.52413793 | G22: 2016 | H22: 2 | I22: No
C23: Meyer, Pat | D23: 175.5 | E23: 350 | F23: 0.50142857 | G23: 2015 | H23: 2 | I23: No
B24: 4-T | C24: Seamands, Jorden | D24: 151.5 | E24: 290 | F24: 0.52241379 | G24: 2018 | H24: 2 | I24: No
C25: Seamands, Jorden | D25: 146.5 | E25: 290 | F25: 0.50517241 | G25: 2017 | H25: 2 | I25: No
B26: 4-T | C26: Clarke, Benjamin | D26: 156.5 | E26: 290 | F26: 0.53965517 | G26: 2022 | H26: 2 | I26: Yes
C27: Clarke, Benjamin | D27: 149.5 | E27: 288 | F27: 0.51909722 | G27: 2021 | H27: 2 | I27: Yes
B28: 4-T | C28: Curran, Taylor | D28: 146.5 | E28: 290 | F28: 0.50517241 | G28: 2022 | H28: 2 | I28: Yes
C29: Curran, Taylor | D29: 152.5 | E29: 288 | F29: 0.52951389 | G29: 2021 | H29: 2 | I29: Yes
B30: 4-T | C30: Greenwood, Douglas | D30: 146.5 | E30: 290 | F30: 0.50517241 | G30: 2022 | H30: 2 | I30: Yes
C31: Greenwood, Douglas | D31: 158.5 | E31: 288 | F31: 0.55034722 | G31: 2021 | H31: 2 | I31: Yes
B32: 4-T | C32: Honeycutt, Terry | D32: 146.5 | E32: 290 | F32: 0.50517241 | G32: 2022 | H32: 2 | I32: No
C33: Honeycutt, Terry | D33: 150.5 | E33: 288 | F33: 0.52256944 | G33: 2021 | H33: 2 | I33: No
B34: 4-T | C34: Meyer, Dave | D34: 152.5 | E34: 290 | F34: 0.52586207 | G34: 2022 | H34: 2 | I34: Yes
C35: Meyer, Dave | D35: 153.5 | E35: 288 | F35: 0.53298611 | G35: 2021 | H35: 2 | I35: Yes
C36: Fortner, Mara | D36: 145.5 | E36: 290 | F36: 0.50172414 | G36: 2022 | H36: 1 | I36: No
C37: Greenwood, Nathan | D37: 150.5 | E37: 290 | F37: 0.51896552 | G37: 2022 | H37: 1 | I37: Yes
C38: Howard, Bill | D38: 157.5 | E38: 300 | F38: 0.525 | G38: 2019 | H38: 1 | I38: Yes
C39: Swindell, Richard | D39: 154.5 | E39: 300 | F39: 0.515 | G39: 2019 | H39: 1 | I39: Yes
C40: Easley, Jordan | D40: 152.5 | E40: 288 | F40: 0.52951389 | G40: 2021 | H40: 1 | I40: No
C41: Alsobrook, Luke | D41: 150.5 | E41: 288 | F41: 0.52256944 | G41: 2021 | H41: 1 | I41: No
C42: Mackey, Doyle | D42: 146.5 | E42: 288 | F42: 0.50868056 | G42: 2021 | H42: 1 | I42: No
C43: Young, Michael | D43: 146.5 | E43: 288 | F43: 0.50868056 | G43: 2021 | H43: 1 | I43: No
C44: Roberts, Jeff | D44: 145.5 | E44: 288 | F44: 0.50520833 | G44: 2021 | H44: 1 | I44: No
C45: Meyer, Pat | D45: 144.5 | E45: 288 | F45: 0.50173611 | G45: 2021 | H45: 1 | I45: No
C46: Fortner, Glenn | D46: 144.5 | E46: 288 | F46: 0.50173611 | G46: 2021 | H46: 1 | I46: No
... C79: Clarke, Benjamin | D79: 144 | E79: 285 | F79: 0.50526316 | G79: 2025 | H79: 1 | I79: Yes

Sheet Cards
B2: Roberts, Jeff | E2: All-Time Correct: | I2: =VLOOKUP(B2,College!$B$4:$H$1000,6, FALSE) -> 1st | R2: Kraus, Will | U2: All-Time Correct: | Y2: =VLOOKUP(R2,College!$B$4:$H$1000,6, FALSE) -> 56th | AA2: Mattson, Nick | AD2: All-Time Correct: | AH2: =VLOOKUP(AA2,College!$B$4:$H$1000,6, FALSE) -> 49th | AJ2: Meyer, Austen | AM2: All-Time Correct: | AQ2: =VLOOKUP(AJ2,College!$B$4:$H$1000,6, FALSE) -> 16th | AS2: Meyer, Dave | AV2: All-Time Correct: | AZ2: =VLOOKUP(AS2,College!$B$4:$H$1000,6, FALSE) -> 12th | BB2: Meyer, Pat | BE2: All-Time Correct: | BI2: =VLOOKUP(BB2,College!$B$4:$H$1000,6, FALSE) -> 6th | BK2: Miller, Chris | BN2: All-Time Correct: | BR2: =VLOOKUP(BK2,College!$B$4:$H$1000,6, FALSE) -> 7th | BT2: Purschwitz, Dan | BW2: All-Time Correct: | CA2: =VLOOKUP(BT2,College!$B$4:$H$1000,6, FALSE) -> 41st | CC2: Roberts, Jeff | CF2: All-Time Correct: | CJ2: =VLOOKUP(CC2,College!$B$4:$H$1000,6, FALSE) -> 1st | CL2: Scoville, Jordan | CO2: All-Time Correct: | CS2: =VLOOKUP(CL2,College!$B$4:$H$1000,6, FALSE) -> 13th | CU2: Seamands, Jorden | CX2: All-Time Correct: | DB2: =VLOOKUP(CU2,College!$B$4:$H$1000,6, FALSE) -> 4th | DD2: Seamands, Natalie | DG2: All-Time Correct: | DK2: =VLOOKUP(DD2,College!$B$4:$H$1000,6, FALSE) -> 37th | DM2: Seamands, Nathan | DP2: All-Time Correct: | DT2: =VLOOKUP(DM2,College!$B$4:$H$1000,6, FALSE) -> 47th | DV2: Simba, Julio | DY2: All-Time Correct: | EC2: =VLOOKUP(DV2,College!$B$4:$H$1000,6, FALSE) -> 28th-T | EE2: Sloan, Kenneth | EH2: All-Time Correct: | EL2: =VLOOKUP(EE2,College!$B$4:$H$1000,6, FALSE) -> 34th | EN2: Smith, Ashton | EQ2: All-Time Correct: | EU2: =VLOOKUP(EN2,College!$B$4:$H$1000,6, FALSE) -> 72nd | EW2: Smith, Brad | EZ2: All-Time Correct: | FD2: =VLOOKUP(EW2,College!$B$4:$H$1000,6, FALSE) -> 28th-T | FF2: Smith, Payton | FI2: All-Time Correct: | FM2: =VLOOKUP(FF2,College!$B$4:$H$1000,6, FALSE) -> 38th | FO2: Smith, Shawn | FR2: All-Time Correct: | FV2: =VLOOKUP(FO2,College!$B$4:$H$1000,6, FALSE) -> 33rd | FX2: Southerland, Brett | GA2: All-Time Correct: | GE2: =VLOOKUP(FX2,College!$B$4:$H$1000,6, FALSE) -> 69th | GG2: Trant, Amon | GJ2: All-Time Correct: | GN2: =VLOOKUP(GG2,College!$B$4:$H$1000,6, FALSE) -> 43rd | GP2: Trant, Cody | GS2: All-Time Correct: | GW2: =VLOOKUP(GP2,College!$B$4:$H$1000,6, FALSE) -> 51st | GY2: Trant, Garrett | HB2: All-Time Correct: | HF2: =VLOOKUP(GY2,College!$B$4:$H$1000,6, FALSE) -> 48th | HH2: Vance, Jeremy | HK2: All-Time Correct: | HO2: =VLOOKUP(HH2,College!$B$4:$H$1000,6, FALSE) -> 17th | HQ2: Williams, Reilee | HT2: All-Time Correct: | HX2: =VLOOKUP(HQ2,College!$B$4:$H$1000,6, FALSE) -> 39th
E3: All-Time %: | I3: =VLOOKUP(B2,College!$B$4:$H$1000,7, FALSE) -> 12th | U3: All-Time %: | Y3: =VLOOKUP(R2,College!$B$4:$H$1000,7, FALSE) -> 70th | AD3: All-Time %: | AH3: =VLOOKUP(AA2,College!$B$4:$H$1000,7, FALSE) -> 45th | AM3: All-Time %: | AQ3: =VLOOKUP(AJ2,College!$B$4:$H$1000,7, FALSE) -> 43rd | AV3: All-Time %: | AZ3: =VLOOKUP(AS2,College!$B$4:$H$1000,7, FALSE) -> 10th | BE3: All-Time %: | BI3: =VLOOKUP(BB2,College!$B$4:$H$1000,7, FALSE) -> 30th | BN3: All-Time %: | BR3: =VLOOKUP(BK2,College!$B$4:$H$1000,7, FALSE) -> 35th | BW3: All-Time %: | CA3: =VLOOKUP(BT2,College!$B$4:$H$1000,7, FALSE) -> 39th | CF3: All-Time %: | CJ3: =VLOOKUP(CC2,College!$B$4:$H$1000,7, FALSE) -> 12th | CO3: All-Time %: | CS3: =VLOOKUP(CL2,College!$B$4:$H$1000,7, FALSE) -> 22nd | CX3: All-Time %: | DB3: =VLOOKUP(CU2,College!$B$4:$H$1000,7, FALSE) -> 24th | DG3: All-Time %: | DK3: =VLOOKUP(DD2,College!$B$4:$H$1000,7, FALSE) -> 7th | DP3: All-Time %: | DT3: =VLOOKUP(DM2,College!$B$4:$H$1000,7, FALSE) -> 1st | DY3: All-Time %: | EC3: =VLOOKUP(DV2,College!$B$4:$H$1000,7, FALSE) -> 37th | EH3: All-Time %: | EL3: =VLOOKUP(EE2,College!$B$4:$H$1000,7, FALSE) -> 41st | EQ3: All-Time %: | EU3: =VLOOKUP(EN2,College!$B$4:$H$1000,7, FALSE) -> 71st | EZ3: All-Time %: | FD3: =VLOOKUP(EW2,College!$B$4:$H$1000,7, FALSE) -> 36th | FI3: All-Time %: | FM3: =VLOOKUP(FF2,College!$B$4:$H$1000,7, FALSE) -> 59th | FR3: All-Time %: | FV3: =VLOOKUP(FO2,College!$B$4:$H$1000,7, FALSE) -> 20th | GA3: All-Time %: | GE3: =VLOOKUP(FX2,College!$B$4:$H$1000,7, FALSE) -> 51st | GJ3: All-Time %: | GN3: =VLOOKUP(GG2,College!$B$4:$H$1000,7, FALSE) -> 48th | GS3: All-Time %: | GW3: =VLOOKUP(GP2,College!$B$4:$H$1000,7, FALSE) -> 66th | HB3: All-Time %: | HF3: =VLOOKUP(GY2,College!$B$4:$H$1000,7, FALSE) -> 38th | HK3: All-Time %: | HO3: =VLOOKUP(HH2,College!$B$4:$H$1000,7, FALSE) -> 6th | HT3: All-Time %: | HX3: =VLOOKUP(HQ2,College!$B$4:$H$1000,7, FALSE) -> 5th
C4: All-Time: | D4: =E4/G4 -> 0.49667149 | E4: =VLOOKUP(B2,College!$B$4:$H$1000,2, FALSE) -> 1716 | F4: / | G4: =VLOOKUP(B2,College!$B$4:$H$1000,3, FALSE) -> 3455 | S4: All-Time: | T4: =U4/W4 -> 0.3799505 | U4: =VLOOKUP(R2,College!$B$4:$H$1000,2, FALSE) -> 153.5 | V4: / | W4: =VLOOKUP(R2,College!$B$4:$H$1000,3, FALSE) -> 404 | AB4: All-Time: | AC4: =AD4/AF4 -> 0.47741935 | AD4: =VLOOKUP(AA2,College!$B$4:$H$1000,2, FALSE) -> 222 | AE4: / | AF4: =VLOOKUP(AA2,College!$B$4:$H$1000,3, FALSE) -> 465 | AK4: All-Time: | AL4: =AM4/AO4 -> 0.47879925 | AM4: =VLOOKUP(AJ2,College!$B$4:$H$1000,2, FALSE) -> 1276 | AN4: / | AO4: =VLOOKUP(AJ2,College!$B$4:$H$1000,3, FALSE) -> 2665 | AT4: All-Time: | AU4: =AV4/AX4 -> 0.50090025 | AV4: =VLOOKUP(AS2,College!$B$4:$H$1000,2, FALSE) -> 1391 | AW4: / | AX4: =VLOOKUP(AS2,College!$B$4:$H$1000,3, FALSE) -> 2777 | BC4: All-Time: | BD4: =BE4/BG4 -> 0.48842258 | BE4: =VLOOKUP(BB2,College!$B$4:$H$1000,2, FALSE) -> 1687.5 | BF4: / | BG4: =VLOOKUP(BB2,College!$B$4:$H$1000,3, FALSE) -> 3455 | BL4: All-Time: | BM4: =BN4/BP4 -> 0.4829233 | BN4: =VLOOKUP(BK2,College!$B$4:$H$1000,2, FALSE) -> 1668.5 | BO4: / | BP4: =VLOOKUP(BK2,College!$B$4:$H$1000,3, FALSE) -> 3455 | BU4: All-Time: | BV4: =BW4/BY4 -> 0.48163265 | BW4: =VLOOKUP(BT2,College!$B$4:$H$1000,2, FALSE) -> 354 | BX4: / | BY4: =VLOOKUP(BT2,College!$B$4:$H$1000,3, FALSE) -> 735 | CD4: All-Time: | CE4: =CF4/CH4 -> 0.49667149 | CF4: =VLOOKUP(CC2,College!$B$4:$H$1000,2, FALSE) -> 1716 | CG4: / | CH4: =VLOOKUP(CC2,College!$B$4:$H$1000,3, FALSE) -> 3455 | CM4: All-Time: | CN4: =CO4/CQ4 -> 0.49129663 | CO4: =VLOOKUP(CL2,College!$B$4:$H$1000,2, FALSE) -> 1383 | CP4: / | CQ4: =VLOOKUP(CL2,College!$B$4:$H$1000,3, FALSE) -> 2815 | CV4: All-Time: | CW4: =CX4/CZ4 -> 0.49044863 | CX4: =VLOOKUP(CU2,College!$B$4:$H$1000,2, FALSE) -> 1694.5 | CY4: / | CZ4: =VLOOKUP(CU2,College!$B$4:$H$1000,3, FALSE) -> 3455 | DE4: All-Time: | DF4: =DG4/DI4 -> 0.50207254 | DG4: =VLOOKUP(DD2,College!$B$4:$H$1000,2, FALSE) -> 484.5 | DH4: / | DI4: =VLOOKUP(DD2,College!$B$4:$H$1000,3, FALSE) -> 965 | DN4: All-Time: | DO4: =DP4/DR4 -> 0.52688172 | DP4: =VLOOKUP(DM2,College!$B$4:$H$1000,2, FALSE) -> 245 | DQ4: / | DR4: =VLOOKUP(DM2,College!$B$4:$H$1000,3, FALSE) -> 465 | DW4: All-Time: | DX4: =DY4/EA4 -> 0.48265683 | DY4: =VLOOKUP(DV2,College!$B$4:$H$1000,2, FALSE) -> 654 | DZ4: / | EA4: =VLOOKUP(DV2,College!$B$4:$H$1000,3, FALSE) -> 1355 | EF4: All-Time: | EG4: =EH4/EJ4 -> 0.48005698 | EH4: =VLOOKUP(EE2,College!$B$4:$H$1000,2, FALSE) -> 505.5 | EI4: / | EJ4: =VLOOKUP(EE2,College!$B$4:$H$1000,3, FALSE) -> 1053 | EO4: All-Time: | EP4: =EQ4/ES4 -> 0.35 | EQ4: =VLOOKUP(EN2,College!$B$4:$H$1000,2, FALSE) -> 49 | ER4: / | ES4: =VLOOKUP(EN2,College!$B$4:$H$1000,3, FALSE) -> 140 | EX4: All-Time: | EY4: =EZ4/FB4 -> 0.48265683 | EZ4: =VLOOKUP(EW2,College!$B$4:$H$1000,2, FALSE) -> 654 | FA4: / | FB4: =VLOOKUP(EW2,College!$B$4:$H$1000,3, FALSE) -> 1355 | FG4: All-Time: | FH4: =FI4/FK4 -> 0.45023474 | FI4: =VLOOKUP(FF2,College!$B$4:$H$1000,2, FALSE) -> 479.5 | FJ4: / | FK4: =VLOOKUP(FF2,College!$B$4:$H$1000,3, FALSE) -> 1065 | FP4: All-Time: | FQ4: =FR4/FT4 -> 0.49330144 | FR4: =VLOOKUP(FO2,College!$B$4:$H$1000,2, FALSE) -> 515.5 | FS4: / | FT4: =VLOOKUP(FO2,College!$B$4:$H$1000,3, FALSE) -> 1045 | FY4: All-Time: | FZ4: =GA4/GC4 -> 0.46666667 | GA4: =VLOOKUP(FX2,College!$B$4:$H$1000,2, FALSE) -> 84 | GB4: / | GC4: =VLOOKUP(FX2,College!$B$4:$H$1000,3, FALSE) -> 180 | GH4: All-Time: | GI4: =GJ4/GL4 -> 0.4688 | GJ4: =VLOOKUP(GG2,College!$B$4:$H$1000,2, FALSE) -> 293 | GK4: / | GL4: =VLOOKUP(GG2,College!$B$4:$H$1000,3, FALSE) -> 625 | GQ4: All-Time: | GR4: =GS4/GU4 -> 0.43225806 | GS4: =VLOOKUP(GP2,College!$B$4:$H$1000,2, FALSE) -> 201 | GT4: / | GU4: =VLOOKUP(GP2,College!$B$4:$H$1000,3, FALSE) -> 465 | GZ4: All-Time: | HA4: =HB4/HD4 -> 0.48172043 | HB4: =VLOOKUP(GY2,College!$B$4:$H$1000,2, FALSE) -> 224 | HC4: / | HD4: =VLOOKUP(GY2,College!$B$4:$H$1000,3, FALSE) -> 465 | HI4: All-Time: | HJ4: =HK4/HM4 -> 0.50277228 | HK4: =VLOOKUP(HH2,College!$B$4:$H$1000,2, FALSE) -> 1269.5 | HL4: / | HM4: =VLOOKUP(HH2,College!$B$4:$H$1000,3, FALSE) -> 2525 | HR4: All-Time: | HS4: =HT4/HV4 -> 0.50516129 | HT4: =VLOOKUP(HQ2,College!$B$4:$H$1000,2, FALSE) -> 391.5 | HU4: / | HV4: =VLOOKUP(HQ2,College!$B$4:$H$1000,3, FALSE) -> 775
B5: Year | C5: Ranking | D5: % | E5: Correct | F5: / | G5: Total | H5: Guar. | I5: WkWin | R5: Year | S5: Ranking | T5: % | U5: Correct | V5: / | W5: Total | X5: Guar. | Y5: WkWin | AA5: Year | AB5: Ranking | AC5: % | AD5: Correct | AE5: / | AF5: Total | AG5: Guar. | AH5: WkWin | AJ5: Year | AK5: Ranking | AL5: % | AM5: Correct | AN5: / | AO5: Total | AP5: Guar. | AQ5: WkWin | AS5: Year | AT5: Ranking | AU5: % | AV5: Correct | AW5: / | AX5: Total | AY5: Guar. | AZ5: WkWin | BB5: Year | BC5: Ranking | BD5: % | BE5: Correct | BF5: / | BG5: Total | BH5: Guar. | BI5: WkWin | BK5: Year | BL5: Ranking | BM5: % | BN5: Correct | BO5: / | BP5: Total | BQ5: Guar. | BR5: WkWin | BT5: Year | BU5: Ranking | BV5: % | BW5: Correct | BX5: / | BY5: Total | BZ5: Guar. | CA5: WkWin | CC5: Year | CD5: Ranking | CE5: % | CF5: Correct | CG5: / | CH5: Total | CI5: Guar. | CJ5: WkWin | CL5: Year | CM5: Ranking | CN5: % | CO5: Correct | CP5: / | CQ5: Total | CR5: Guar. | CS5: WkWin | CU5: Year | CV5: Ranking | CW5: % | CX5: Correct | CY5: / | CZ5: Total | DA5: Guar. | DB5: WkWin | DD5: Year | DE5: Ranking | DF5: % | DG5: Correct | DH5: / | DI5: Total | DJ5: Guar. | DK5: WkWin | DM5: Year | DN5: Ranking | DO5: % | DP5: Correct | DQ5: / | DR5: Total | DS5: Guar. | DT5: WkWin | DV5: Year | DW5: Ranking | DX5: % | DY5: Correct | DZ5: / | EA5: Total | EB5: Guar. | EC5: WkWin | EE5: Year | EF5: Ranking | EG5: % | EH5: Correct | EI5: / | EJ5: Total | EK5: Guar. | EL5: WkWin | EN5: Year | EO5: Ranking | EP5: % | EQ5: Correct | ER5: / | ES5: Total | ET5: Guar. | EU5: WkWin | EW5: Year | EX5: Ranking | EY5: % | EZ5: Correct | FA5: / | FB5: Total | FC5: Guar. | FD5: WkWin | FF5: Year | FG5: Ranking | FH5: % | FI5: Correct | FJ5: / | FK5: Total | FL5: Guar. | FM5: WkWin | FO5: Year | FP5: Ranking | FQ5: % | FR5: Correct | FS5: / | FT5: Total | FU5: Guar. | FV5: WkWin | FX5: Year | FY5: Ranking | FZ5: % | GA5: Correct | GB5: / | GC5: Total | GD5: Guar. | GE5: WkWin | GG5: Year | GH5: Ranking | GI5: % | GJ5: Correct | GK5: / | GL5: Total | GM5: Guar. | GN5: WkWin | GP5: Year | GQ5: Ranking | GR5: % | GS5: Correct | GT5: / | GU5: Total | GV5: Guar. | GW5: WkWin | GY5: Year | GZ5: Ranking | HA5: % | HB5: Correct | HC5: / | HD5: Total | HE5: Guar. | HF5: WkWin | HH5: Year | HI5: Ranking | HJ5: % | HK5: Correct | HL5: / | HM5: Total | HN5: Guar. | HO5: WkWin | HQ5: Year | HR5: Ranking | HS5: % | HT5: Correct | HU5: / | HV5: Total | HW5: Guar. | HX5: WkWin
B6: 2026 | C6: =INDEX('2026'!$A$2:$A$92,MATCH(B2,'2026'!$B$2:$B$92,0)) -> - | D6: =E6/G6 -> 0.46111111 | E6: =VLOOKUP(B2,'2026'!$B$2:$F$92,2, FALSE) -> 83 | F6: / | G6: =VLOOKUP(B2,'2026'!$B$2:$F$92,3, FALSE) -> 180 | H6: =VLOOKUP(B2,'2026'!$B$2:$F$92,5, FALSE) -> 9 | I6: =VLOOKUP(B2,'Weekly Wins'!$S$3:$T$100,2, FALSE) -> 0 | R6: 2026 | S6: =INDEX('2026'!$A$2:$A$92,MATCH(R2,'2026'!$B$2:$B$92,0)) -> - | T6: =U6/W6 -> 0.28928571 | U6: =VLOOKUP(R2,'2026'!$B$2:$F$92,2, FALSE) -> 40.5 | V6: / | W6: =VLOOKUP(R2,'2026'!$B$2:$F$92,3, FALSE) -> 140 | X6: =VLOOKUP(R2,'2026'!$B$2:$F$92,5, FALSE) -> 2 | Y6: =VLOOKUP(R2,'Weekly Wins'!$S$3:$T$100,2, FALSE) -> 0 | AA6: 2026 | AB6: =INDEX('2026'!$A$2:$A$92,MATCH(AA2,'2026'!$B$2:$B$92,0)) -> - | AC6: =AD6/AF6 -> 0.51111111 | AD6: =VLOOKUP(AA2,'2026'!$B$2:$F$92,2, FALSE) -> 92 | AE6: / | AF6: =VLOOKUP(AA2,'2026'!$B$2:$F$92,3, FALSE) -> 180 | AG6: =VLOOKUP(AA2,'2026'!$B$2:$F$92,5, FALSE) -> 10 | AH6: =VLOOKUP(AA2,'Weekly Wins'!$S$3:$T$100,2, FALSE) -> 0 | AJ6: 2026 | AK6: =INDEX('2026'!$A$2:$A$92,MATCH(AJ2,'2026'!$B$2:$B$92,0)) -> - | AL6: =AM6/AO6 -> 0.49444444 | AM6: =VLOOKUP(AJ2,'2026'!$B$2:$F$92,2, FALSE) -> 89 | AN6: / | AO6: =VLOOKUP(AJ2,'2026'!$B$2:$F$92,3, FALSE) -> 180 | AP6: =VLOOKUP(AJ2,'2026'!$B$2:$F$92,5, FALSE) -> 9.5 | AQ6: =VLOOKUP(AJ2,'Weekly Wins'!$S$3:$T$100,2, FALSE) -> 0 | AS6: 2026 | AT6: =INDEX('2026'!$A$2:$A$92,MATCH(AS2,'2026'!$B$2:$B$92,0)) -> - | AU6: =AV6/AX6 -> 0.47777778 | AV6: =VLOOKUP(AS2,'2026'!$B$2:$F$92,2, FALSE) -> 86 | AW6: / | AX6: =VLOOKUP(AS2,'2026'!$B$2:$F$92,3, FALSE) -> 180 | AY6: =VLOOKUP(AS2,'2026'!$B$2:$F$92,5, FALSE) -> 9 | AZ6: =VLOOKUP(AS2,'Weekly Wins'!$S$3:$T$100,2, FALSE) -> 0 | BB6: 2026 | BC6: =INDEX('2026'!$A$2:$A$92,MATCH(BB2,'2026'!$B$2:$B$92,0)) -> - | BD6: =BE6/BG6 -> 0.45 | BE6: =VLOOKUP(BB2,'2026'!$B$2:$F$92,2, FALSE) -> 81 | BF6: / | BG6: =VLOOKUP(BB2,'2026'!$B$2:$F$92,3, FALSE) -> 180 | BH6: =VLOOKUP(BB2,'2026'!$B$2:$F$92,5, FALSE) -> 7 | BI6: =VLOOKUP(BB2,'Weekly Wins'!$S$3:$T$100,2, FALSE) -> 0 | BK6: 2026 | BL6: =INDEX('2026'!$A$2:$A$92,MATCH(BK2,'2026'!$B$2:$B$92,0)) -> - | BM6: =BN6/BP6 -> 0.47222222 | BN6: =VLOOKUP(BK2,'2026'!$B$2:$F$92,2, FALSE) -> 85 | BO6: / | BP6: =VLOOKUP(BK2,'2026'!$B$2:$F$92,3, FALSE) -> 180 | BQ6: =VLOOKUP(BK2,'2026'!$B$2:$F$92,5, FALSE) -> 9 | BR6: =VLOOKUP(BK2,'Weekly Wins'!$S$3:$T$100,2, FALSE) -> 1 | BT6: 2026 | BU6: =INDEX('2026'!$A$2:$A$92,MATCH(BT2,'2026'!$B$2:$B$92,0)) -> - | BV6: =BW6/BY6 -> 0.45555556 | BW6: =VLOOKUP(BT2,'2026'!$B$2:$F$92,2, FALSE) -> 82 | BX6: / | BY6: =VLOOKUP(BT2,'2026'!$B$2:$F$92,3, FALSE) -> 180 | BZ6: =VLOOKUP(BT2,'2026'!$B$2:$F$92,5, FALSE) -> 11 | CA6: =VLOOKUP(BT2,'Weekly Wins'!$S$3:$T$100,2, FALSE) -> 0 | CC6: 2026 | CD6: =INDEX('2026'!$A$2:$A$92,MATCH(CC2,'2026'!$B$2:$B$92,0)) -> - | CE6: =CF6/CH6 -> 0.46111111 | CF6: =VLOOKUP(CC2,'2026'!$B$2:$F$92,2, FALSE) -> 83 | CG6: / | CH6: =VLOOKUP(CC2,'2026'!$B$2:$F$92,3, FALSE) -> 180 | CI6: =VLOOKUP(CC2,'2026'!$B$2:$F$92,5, FALSE) -> 9 | CJ6: =VLOOKUP(CC2,'Weekly Wins'!$S$3:$T$100,2, FALSE) -> 0 | CL6: 2026 | CM6: =INDEX('2026'!$A$2:$A$92,MATCH(CL2,'2026'!$B$2:$B$92,0)) -> - | CN6: =CO6/CQ6 -> 0.48333333 | CO6: =VLOOKUP(CL2,'2026'!$B$2:$F$92,2, FALSE) -> 87 | CP6: / | CQ6: =VLOOKUP(CL2,'2026'!$B$2:$F$92,3, FALSE) -> 180 | CR6: =VLOOKUP(CL2,'2026'!$B$2:$F$92,5, FALSE) -> 7.5 | CS6: =VLOOKUP(CL2,'Weekly Wins'!$S$3:$T$100,2, FALSE) -> 0 | CU6: 2026 | CV6: =INDEX('2026'!$A$2:$A$92,MATCH(CU2,'2026'!$B$2:$B$92,0)) -> - | CW6: =CX6/CZ6 -> 0.46111111 | CX6: =VLOOKUP(CU2,'2026'!$B$2:$F$92,2, FALSE) -> 83 | CY6: / | CZ6: =VLOOKUP(CU2,'2026'!$B$2:$F$92,3, FALSE) -> 180 | DA6: =VLOOKUP(CU2,'2026'!$B$2:$F$92,5, FALSE) -> 8 | DB6: =VLOOKUP(CU2,'Weekly Wins'!$S$3:$T$100,2, FALSE) -> 0.5 | DD6: 2026 | DE6: =INDEX('2026'!$A$2:$A$92,MATCH(DD2,'2026'!$B$2:$B$92,0)) -> - | DF6: =DG6/DI6 -> 0.45 | DG6: =VLOOKUP(DD2,'2026'!$B$2:$F$92,2, FALSE) -> 81 | DH6: / | DI6: =VLOOKUP(DD2,'2026'!$B$2:$F$92,3, FALSE) -> 180 | DJ6: =VLOOKUP(DD2,'2026'!$B$2:$F$92,5, FALSE) -> 9 | DK6: =VLOOKUP(DD2,'Weekly Wins'!$S$3:$T$100,2, FALSE) -> 0 | DM6: 2026 | DN6: =INDEX('2026'!$A$2:$A$92,MATCH(DM2,'2026'!$B$2:$B$92,0)) -> - | DO6: =DP6/DR6 -> 0.52777778 | DP6: =VLOOKUP(DM2,'2026'!$B$2:$F$92,2, FALSE) -> 95 | DQ6: / | DR6: =VLOOKUP(DM2,'2026'!$B$2:$F$92,3, FALSE) -> 180 | DS6: =VLOOKUP(DM2,'2026'!$B$2:$F$92,5, FALSE) -> 6 | DT6: =VLOOKUP(DM2,'Weekly Wins'!$S$3:$T$100,2, FALSE) -> 0.5 | DV6: 2026 | DW6: =INDEX('2026'!$A$2:$A$92,MATCH(DV2,'2026'!$B$2:$B$92,0)) -> - | DX6: =DY6/EA6 -> 0.52777778 | DY6: =VLOOKUP(DV2,'2026'!$B$2:$F$92,2, FALSE) -> 95 | DZ6: / | EA6: =VLOOKUP(DV2,'2026'!$B$2:$F$92,3, FALSE) -> 180 | EB6: =VLOOKUP(DV2,'2026'!$B$2:$F$92,5, FALSE) -> 10 | EC6: =VLOOKUP(DV2,'Weekly Wins'!$S$3:$T$100,2, FALSE) -> 0.14285714 | EE6: 2026 | EF6: =INDEX('2026'!$A$2:$A$92,MATCH(EE2,'2026'!$B$2:$B$92,0)) -> - | EG6: =EH6/EJ6 -> 0.45555556 | EH6: =VLOOKUP(EE2,'2026'!$B$2:$F$92,2, FALSE) -> 82 | EI6: / | EJ6: =VLOOKUP(EE2,'2026'!$B$2:$F$92,3, FALSE) -> 180 | EK6: =VLOOKUP(EE2,'2026'!$B$2:$F$92,5, FALSE) -> 8 | EL6: =VLOOKUP(EE2,'Weekly Wins'!$S$3:$T$100,2, FALSE) -> 0 | EN6: 2026 | EO6: =INDEX('2026'!$A$2:$A$92,MATCH(EN2,'2026'!$B$2:$B$92,0)) -> - | EP6: =EQ6/ES6 -> 0.35 | EQ6: =VLOOKUP(EN2,'2026'!$B$2:$F$92,2, FALSE) -> 49 | ER6: / | ES6: =VLOOKUP(EN2,'2026'!$B$2:$F$92,3, FALSE) -> 140 | ET6: =VLOOKUP(EN2,'2026'!$B$2:$F$92,5, FALSE) -> 2 | EU6: =VLOOKUP(EN2,'Weekly Wins'!$S$3:$T$100,2, FALSE) -> 0 | EW6: 2026 | EX6: =INDEX('2026'!$A$2:$A$92,MATCH(EW2,'2026'!$B$2:$B$92,0)) -> - | EY6: =EZ6/FB6 -> 0.48333333 | EZ6: =VLOOKUP(EW2,'2026'!$B$2:$F$92,2, FALSE) -> 87 | FA6: / | FB6: =VLOOKUP(EW2,'2026'!$B$2:$F$92,3, FALSE) -> 180 | FC6: =VLOOKUP(EW2,'2026'!$B$2:$F$92,5, FALSE) -> 6.5 | FD6: =VLOOKUP(EW2,'Weekly Wins'!$S$3:$T$100,2, FALSE) -> 0.14285714 | FF6: 2026 | FG6: =INDEX('2026'!$A$2:$A$92,MATCH(FF2,'2026'!$B$2:$B$92,0)) -> - | FH6: =FI6/FK6 -> 0.47777778 | FI6: =VLOOKUP(FF2,'2026'!$B$2:$F$92,2, FALSE) -> 86 | FJ6: / | FK6: =VLOOKUP(FF2,'2026'!$B$2:$F$92,3, FALSE) -> 180 | FL6: =VLOOKUP(FF2,'2026'!$B$2:$F$92,5, FALSE) -> 9.5 | FM6: =VLOOKUP(FF2,'Weekly Wins'!$S$3:$T$100,2, FALSE) -> 0 | FO6: 2026 | FP6: =INDEX('2026'!$A$2:$A$92,MATCH(FO2,'2026'!$B$2:$B$92,0)) -> - | FQ6: =FR6/FT6 -> 0.45625 | FR6: =VLOOKUP(FO2,'2026'!$B$2:$F$92,2, FALSE) -> 73 | FS6: / | FT6: =VLOOKUP(FO2,'2026'!$B$2:$F$92,3, FALSE) -> 160 | FU6: =VLOOKUP(FO2,'2026'!$B$2:$F$92,5, FALSE) -> 5 | FV6: =VLOOKUP(FO2,'Weekly Wins'!$S$3:$T$100,2, FALSE) -> 0 | FX6: 2026 | FY6: =INDEX('2026'!$A$2:$A$92,MATCH(FX2,'2026'!$B$2:$B$92,0)) -> - | FZ6: =GA6/GC6 -> 0.46666667 | GA6: =VLOOKUP(FX2,'2026'!$B$2:$F$92,2, FALSE) -> 84 | GB6: / | GC6: =VLOOKUP(FX2,'2026'!$B$2:$F$92,3, FALSE) -> 180 | GD6: =VLOOKUP(FX2,'2026'!$B$2:$F$92,5, FALSE) -> 7.5 | GE6: =VLOOKUP(FX2,'Weekly Wins'!$S$3:$T$100,2, FALSE) -> 0 | GG6: 2026 | GH6: =INDEX('2026'!$A$2:$A$92,MATCH(GG2,'2026'!$B$2:$B$92,0)) -> - | GI6: =GJ6/GL6 -> 0.50555556 | GJ6: =VLOOKUP(GG2,'2026'!$B$2:$F$92,2, FALSE) -> 91 | GK6: / | GL6: =VLOOKUP(GG2,'2026'!$B$2:$F$92,3, FALSE) -> 180 | GM6: =VLOOKUP(GG2,'2026'!$B$2:$F$92,5, FALSE) -> 7.5 | GN6: =VLOOKUP(GG2,'Weekly Wins'!$S$3:$T$100,2, FALSE) -> 1 | GP6: 2026 | GQ6: =INDEX('2026'!$A$2:$A$92,MATCH(GP2,'2026'!$B$2:$B$92,0)) -> - | GR6: =GS6/GU6 -> 0.47222222 | GS6: =VLOOKUP(GP2,'2026'!$B$2:$F$92,2, FALSE) -> 85 | GT6: / | GU6: =VLOOKUP(GP2,'2026'!$B$2:$F$92,3, FALSE) -> 180 | GV6: =VLOOKUP(GP2,'2026'!$B$2:$F$92,5, FALSE) -> 5 | GW6: =VLOOKUP(GP2,'Weekly Wins'!$S$3:$T$100,2, FALSE) -> 0 | GY6: 2026 | GZ6: =INDEX('2026'!$A$2:$A$92,MATCH(GY2,'2026'!$B$2:$B$92,0)) -> - | HA6: =HB6/HD6 -> 0.53888889 | HB6: =VLOOKUP(GY2,'2026'!$B$2:$F$92,2, FALSE) -> 97 | HC6: / | HD6: =VLOOKUP(GY2,'2026'!$B$2:$F$92,3, FALSE) -> 180 | HE6: =VLOOKUP(GY2,'2026'!$B$2:$F$92,5, FALSE) -> 9 | HF6: =VLOOKUP(GY2,'Weekly Wins'!$S$3:$T$100,2, FALSE) -> 1 | HH6: 2026 | HI6: =INDEX('2026'!$A$2:$A$92,MATCH(HH2,'2026'!$B$2:$B$92,0)) -> - | HJ6: =HK6/HM6 -> 0.51666667 | HK6: =VLOOKUP(HH2,'2026'!$B$2:$F$92,2, FALSE) -> 93 | HL6: / | HM6: =VLOOKUP(HH2,'2026'!$B$2:$F$92,3, FALSE) -> 180 | HN6: =VLOOKUP(HH2,'2026'!$B$2:$F$92,5, FALSE) -> 8 | HO6: =VLOOKUP(HH2,'Weekly Wins'!$S$3:$T$100,2, FALSE) -> 0 | HQ6: 2026 | HR6: =INDEX('2026'!$A$2:$A$92,MATCH(HQ2,'2026'!$B$2:$B$92,0)) -> - | HS6: =HT6/HV6 -> 0.46666667 | HT6: =VLOOKUP(HQ2,'2026'!$B$2:$F$92,2, FALSE) -> 84 | HU6: / | HV6: =VLOOKUP(HQ2,'2026'!$B$2:$F$92,3, FALSE) -> 180 | HW6: =VLOOKUP(HQ2,'2026'!$B$2:$F$92,5, FALSE) -> 8.5 | HX6: =VLOOKUP(HQ2,'Weekly Wins'!$S$3:$T$100,2, FALSE) -> 0.14285714
B7: 2025 | C7: =INDEX('2025'!$A$2:$A$100,MATCH(B2,'2025'!$B$2:$B$100,0)) -> 15th | D7: =E7/G7 -> 0.48421053 | E7: =VLOOKUP(B2,'2025'!$B$2:$F$100,2, FALSE) -> 138 | F7: / | G7: =VLOOKUP(B2,'2025'!$B$2:$F$100,3, FALSE) -> 285 | H7: =VLOOKUP(B2,'2025'!$B$2:$F$100,5, FALSE) -> 21 | I7: =VLOOKUP(B2,'Weekly Wins'!$V$3:$W$100,2, FALSE) -> 0.2 | R7: 2024 | S7: =INDEX('2024'!$A$2:$A$100,MATCH(R2,'2024'!$B$2:$B$100,0)) -> 37th/3rd* | T7: =U7/W7 -> 0.4280303 | U7: =VLOOKUP(R2,'2024'!$B$2:$F$100,2, FALSE) -> 113 | V7: / | W7: =VLOOKUP(R2,'2024'!$B$2:$F$100,3, FALSE) -> 264 | X7: =VLOOKUP(R2,'2024'!$B$2:$F$100,5, FALSE) -> 10 | Y7: =VLOOKUP(R2,'Weekly Wins'!$Y$3:$Z$100,2, FALSE) -> 0 | AA7: 2025 | AB7: =INDEX('2025'!$A$2:$A$100,MATCH(AA2,'2025'!$B$2:$B$100,0)) -> 27th | AC7: =AD7/AF7 -> 0.45614035 | AD7: =VLOOKUP(AA2,'2025'!$B$2:$F$100,2, FALSE) -> 130 | AE7: / | AF7: =VLOOKUP(AA2,'2025'!$B$2:$F$100,3, FALSE) -> 285 | AG7: =VLOOKUP(AA2,'2025'!$B$2:$F$100,5, FALSE) -> 13.5 | AH7: =VLOOKUP(AA2,'Weekly Wins'!$V$3:$W$100,2, FALSE) -> 0 | AJ7: 2025 | AK7: =INDEX('2025'!$A$2:$A$100,MATCH(AJ2,'2025'!$B$2:$B$100,0)) -> 4th | AL7: =AM7/AO7 -> 0.51929825 | AM7: =VLOOKUP(AJ2,'2025'!$B$2:$F$100,2, FALSE) -> 148 | AN7: / | AO7: =VLOOKUP(AJ2,'2025'!$B$2:$F$100,3, FALSE) -> 285 | AP7: =VLOOKUP(AJ2,'2025'!$B$2:$F$100,5, FALSE) -> 15 | AQ7: =VLOOKUP(AJ2,'Weekly Wins'!$V$3:$W$100,2, FALSE) -> 1 | AS7: 2025 | AT7: =INDEX('2025'!$A$2:$A$100,MATCH(AS2,'2025'!$B$2:$B$100,0)) -> 18th | AU7: =AV7/AX7 -> 0.47368421 | AV7: =VLOOKUP(AS2,'2025'!$B$2:$F$100,2, FALSE) -> 135 | AW7: / | AX7: =VLOOKUP(AS2,'2025'!$B$2:$F$100,3, FALSE) -> 285 | AY7: =VLOOKUP(AS2,'2025'!$B$2:$F$100,5, FALSE) -> 18 | AZ7: =VLOOKUP(AS2,'Weekly Wins'!$V$3:$W$100,2, FALSE) -> 0 | BB7: 2025 | BC7: =INDEX('2025'!$A$2:$A$100,MATCH(BB2,'2025'!$B$2:$B$100,0)) -> 7th | BD7: =BE7/BG7 -> 0.50877193 | BE7: =VLOOKUP(BB2,'2025'!$B$2:$F$100,2, FALSE) -> 145 | BF7: / | BG7: =VLOOKUP(BB2,'2025'!$B$2:$F$100,3, FALSE) -> 285 | BH7: =VLOOKUP(BB2,'2025'!$B$2:$F$100,5, FALSE) -> 19 | BI7: =VLOOKUP(BB2,'Weekly Wins'!$V$3:$W$100,2, FALSE) -> 1.1666667 | BK7: 2025 | BL7: =INDEX('2025'!$A$2:$A$100,MATCH(BK2,'2025'!$B$2:$B$100,0)) -> 29th | BM7: =BN7/BP7 -> 0.45263158 | BN7: =VLOOKUP(BK2,'2025'!$B$2:$F$100,2, FALSE) -> 129 | BO7: / | BP7: =VLOOKUP(BK2,'2025'!$B$2:$F$100,3, FALSE) -> 285 | BQ7: =VLOOKUP(BK2,'2025'!$B$2:$F$100,5, FALSE) -> 19 | BR7: =VLOOKUP(BK2,'Weekly Wins'!$V$3:$W$100,2, FALSE) -> 0 | BT7: 2025 | BU7: =INDEX('2025'!$A$2:$A$100,MATCH(BT2,'2025'!$B$2:$B$100,0)) -> 17th | BV7: =BW7/BY7 -> 0.47719298 | BW7: =VLOOKUP(BT2,'2025'!$B$2:$F$100,2, FALSE) -> 136 | BX7: / | BY7: =VLOOKUP(BT2,'2025'!$B$2:$F$100,3, FALSE) -> 285 | BZ7: =VLOOKUP(BT2,'2025'!$B$2:$F$100,5, FALSE) -> 19 | CA7: =VLOOKUP(BT2,'Weekly Wins'!$V$3:$W$100,2, FALSE) -> 0.5 | CC7: 2025 | CD7: =INDEX('2025'!$A$2:$A$100,MATCH(CC2,'2025'!$B$2:$B$100,0)) -> 15th | CE7: =CF7/CH7 -> 0.48421053 | CF7: =VLOOKUP(CC2,'2025'!$B$2:$F$100,2, FALSE) -> 138 | CG7: / | CH7: =VLOOKUP(CC2,'2025'!$B$2:$F$100,3, FALSE) -> 285 | CI7: =VLOOKUP(CC2,'2025'!$B$2:$F$100,5, FALSE) -> 21 | CJ7: =VLOOKUP(CC2,'Weekly Wins'!$V$3:$W$100,2, FALSE) -> 0.2 | CL7: 2025 | CM7: =INDEX('2025'!$A$2:$A$100,MATCH(CL2,'2025'!$B$2:$B$100,0)) -> 20th | CN7: =CO7/CQ7 -> 0.46666667 | CO7: =VLOOKUP(CL2,'2025'!$B$2:$F$100,2, FALSE) -> 133 | CP7: / | CQ7: =VLOOKUP(CL2,'2025'!$B$2:$F$100,3, FALSE) -> 285 | CR7: =VLOOKUP(CL2,'2025'!$B$2:$F$100,5, FALSE) -> 20 | CS7: =VLOOKUP(CL2,'Weekly Wins'!$V$3:$W$100,2, FALSE) -> 0.45 | CU7: 2025 | CV7: =INDEX('2025'!$A$2:$A$100,MATCH(CU2,'2025'!$B$2:$B$100,0)) -> 9th | CW7: =CX7/CZ7 -> 0.50526316 | CX7: =VLOOKUP(CU2,'2025'!$B$2:$F$100,2, FALSE) -> 144 | CY7: / | CZ7: =VLOOKUP(CU2,'2025'!$B$2:$F$100,3, FALSE) -> 285 | DA7: =VLOOKUP(CU2,'2025'!$B$2:$F$100,5, FALSE) -> 17.5 | DB7: =VLOOKUP(CU2,'Weekly Wins'!$V$3:$W$100,2, FALSE) -> 0 | DD7: 2025 | DE7: =INDEX('2025'!$A$2:$A$100,MATCH(DD2,'2025'!$B$2:$B$100,0)) -> 16th | DF7: =DG7/DI7 -> 0.48070175 | DG7: =VLOOKUP(DD2,'2025'!$B$2:$F$100,2, FALSE) -> 137 | DH7: / | DI7: =VLOOKUP(DD2,'2025'!$B$2:$F$100,3, FALSE) -> 285 | DJ7: =VLOOKUP(DD2,'2025'!$B$2:$F$100,5, FALSE) -> 20 | DK7: =VLOOKUP(DD2,'Weekly Wins'!$V$3:$W$100,2, FALSE) -> 0 | DM7: 2025 | DN7: =INDEX('2025'!$A$2:$A$100,MATCH(DM2,'2025'!$B$2:$B$100,0)) -> 3rd | DO7: =DP7/DR7 -> 0.52631579 | DP7: =VLOOKUP(DM2,'2025'!$B$2:$F$100,2, FALSE) -> 150 | DQ7: / | DR7: =VLOOKUP(DM2,'2025'!$B$2:$F$100,3, FALSE) -> 285 | DS7: =VLOOKUP(DM2,'2025'!$B$2:$F$100,5, FALSE) -> 24 | DT7: =VLOOKUP(DM2,'Weekly Wins'!$V$3:$W$100,2, FALSE) -> 1.6666667 | DV7: 2025 | DW7: =INDEX('2025'!$A$2:$A$100,MATCH(DV2,'2025'!$B$2:$B$100,0)) -> 35th | DX7: =DY7/EA7 -> 0.41754386 | DY7: =VLOOKUP(DV2,'2025'!$B$2:$F$100,2, FALSE) -> 119 | DZ7: / | EA7: =VLOOKUP(DV2,'2025'!$B$2:$F$100,3, FALSE) -> 285 | EB7: =VLOOKUP(DV2,'2025'!$B$2:$F$100,5, FALSE) -> 16.5 | EC7: =VLOOKUP(DV2,'Weekly Wins'!$V$3:$W$100,2, FALSE) -> 0 | EE7: 2024 | EF7: =INDEX('2024'!$A$2:$A$100,MATCH(EE2,'2024'!$B$2:$B$100,0)) -> 22nd | EG7: =EH7/EJ7 -> 0.48064516 | EH7: =VLOOKUP(EE2,'2024'!$B$2:$F$100,2, FALSE) -> 149 | EI7: / | EJ7: =VLOOKUP(EE2,'2024'!$B$2:$F$100,3, FALSE) -> 310 | EK7: =VLOOKUP(EE2,'2024'!$B$2:$F$100,5, FALSE) -> 12 | EL7: =VLOOKUP(EE2,'Weekly Wins'!$Y$3:$Z$100,2, FALSE) -> 0 | EN7: =COUNT(EN5:EN6) -> 1 | EO7: Seasons | EP7: =EQ7/ES7 -> 0.35 | EQ7: =SUM(EQ5:EQ6) -> 49 | ER7: / | ES7: =SUM(ES5:ES6) -> 140 | ET7: =SUM(ET5:ET6) -> 2 | EU7: =SUM(EU5:EU6) -> 0 | EW7: 2025 | EX7: =INDEX('2025'!$A$2:$A$100,MATCH(EW2,'2025'!$B$2:$B$100,0)) -> 25th | EY7: =EZ7/FB7 -> 0.46315789 | EZ7: =VLOOKUP(EW2,'2025'!$B$2:$F$100,2, FALSE) -> 132 | FA7: / | FB7: =VLOOKUP(EW2,'2025'!$B$2:$F$100,3, FALSE) -> 285 | FC7: =VLOOKUP(EW2,'2025'!$B$2:$F$100,5, FALSE) -> 16.5 | FD7: =VLOOKUP(EW2,'Weekly Wins'!$V$3:$W$100,2, FALSE) -> 0 | FF7: 2025 | FG7: =INDEX('2025'!$A$2:$A$100,MATCH(FF2,'2025'!$B$2:$B$100,0)) -> 36th | FH7: =FI7/FK7 -> 0.40701754 | FI7: =VLOOKUP(FF2,'2025'!$B$2:$F$100,2, FALSE) -> 116 | FJ7: / | FK7: =VLOOKUP(FF2,'2025'!$B$2:$F$100,3, FALSE) -> 285 | FL7: =VLOOKUP(FF2,'2025'!$B$2:$F$100,5, FALSE) -> 14 | FM7: =VLOOKUP(FF2,'Weekly Wins'!$V$3:$W$100,2, FALSE) -> 0 | FO7: 2025 | FP7: =INDEX('2025'!$A$2:$A$100,MATCH(FO2,'2025'!$B$2:$B$100,0)) -> 19th | FQ7: =FR7/FT7 -> 0.46666667 | FR7: =VLOOKUP(FO2,'2025'!$B$2:$F$100,2, FALSE) -> 133 | FS7: / | FT7: =VLOOKUP(FO2,'2025'!$B$2:$F$100,3, FALSE) -> 285 | FU7: =VLOOKUP(FO2,'2025'!$B$2:$F$100,5, FALSE) -> 21 | FV7: =VLOOKUP(FO2,'Weekly Wins'!$V$3:$W$100,2, FALSE) -> 0 | FX7: =COUNT(FX5:FX6) -> 1 | FY7: Seasons | FZ7: =GA7/GC7 -> 0.46666667 | GA7: =SUM(GA5:GA6) -> 84 | GB7: / | GC7: =SUM(GC5:GC6) -> 180 | GD7: =SUM(GD5:GD6) -> 7.5 | GE7: =SUM(GE5:GE6) -> 0 | GG7: 2025 | GH7: =INDEX('2025'!$A$2:$A$100,MATCH(GG2,'2025'!$B$2:$B$100,0)) -> 14th | GI7: =GJ7/GL7 -> 0.4877193 | GJ7: =VLOOKUP(GG2,'2025'!$B$2:$F$100,2, FALSE) -> 139 | GK7: / | GL7: =VLOOKUP(GG2,'2025'!$B$2:$F$100,3, FALSE) -> 285 | GM7: =VLOOKUP(GG2,'2025'!$B$2:$F$100,5, FALSE) -> 15 | GN7: =VLOOKUP(GG2,'Weekly Wins'!$V$3:$W$100,2, FALSE) -> 0 | GP7: 2025 | GQ7: =INDEX('2025'!$A$2:$A$100,MATCH(GP2,'2025'!$B$2:$B$100,0)) -> 37th | GR7: =GS7/GU7 -> 0.40701754 | GS7: =VLOOKUP(GP2,'2025'!$B$2:$F$100,2, FALSE) -> 116 | GT7: / | GU7: =VLOOKUP(GP2,'2025'!$B$2:$F$100,3, FALSE) -> 285 | GV7: =VLOOKUP(GP2,'2025'!$B$2:$F$100,5, FALSE) -> 12 | GW7: =VLOOKUP(GP2,'Weekly Wins'!$V$3:$W$100,2, FALSE) -> 0 | GY7: 2025 | GZ7: =INDEX('2025'!$A$2:$A$100,MATCH(GY2,'2025'!$B$2:$B$100,0)) -> 31st | HA7: =HB7/HD7 -> 0.44561404 | HB7: =VLOOKUP(GY2,'2025'!$B$2:$F$100,2, FALSE) -> 127 | HC7: / | HD7: =VLOOKUP(GY2,'2025'!$B$2:$F$100,3, FALSE) -> 285 | HE7: =VLOOKUP(GY2,'2025'!$B$2:$F$100,5, FALSE) -> 19 | HF7: =VLOOKUP(GY2,'Weekly Wins'!$V$3:$W$100,2, FALSE) -> 0 | HH7: 2025 | HI7: =INDEX('2025'!$A$2:$A$100,MATCH(HH2,'2025'!$B$2:$B$100,0)) -> 5th | HJ7: =HK7/HM7 -> 0.5122807 | HK7: =VLOOKUP(HH2,'2025'!$B$2:$F$100,2, FALSE) -> 146 | HL7: / | HM7: =VLOOKUP(HH2,'2025'!$B$2:$F$100,3, FALSE) -> 285 | HN7: =VLOOKUP(HH2,'2025'!$B$2:$F$100,5, FALSE) -> 18.5 | HO7: =VLOOKUP(HH2,'Weekly Wins'!$V$3:$W$100,2, FALSE) -> 0.36666667 | HQ7: 2025 | HR7: =INDEX('2025'!$A$2:$A$100,MATCH(HQ2,'2025'!$B$2:$B$100,0)) -> 1st | HS7: =HT7/HV7 -> 0.54035088 | HT7: =VLOOKUP(HQ2,'2025'!$B$2:$F$100,2, FALSE) -> 154 | HU7: / | HV7: =VLOOKUP(HQ2,'2025'!$B$2:$F$100,3, FALSE) -> 285 | HW7: =VLOOKUP(HQ2,'2025'!$B$2:$F$100,5, FALSE) -> 21 | HX7: =VLOOKUP(HQ2,'Weekly Wins'!$V$3:$W$100,2, FALSE) -> 1.45
B8: 2024 | C8: =INDEX('2024'!$A$2:$A$100,MATCH(B2,'2024'!$B$2:$B$100,0)) -> 3rd | D8: =E8/G8 -> 0.51935484 | E8: =VLOOKUP(B2,'2024'!$B$2:$F$100,2, FALSE) -> 161 | F8: / | G8: =VLOOKUP(B2,'2024'!$B$2:$F$100,3, FALSE) -> 310 | H8: =VLOOKUP(B2,'2024'!$B$2:$F$100,5, FALSE) -> 18.5 | I8: =VLOOKUP(B2,'Weekly Wins'!$Y$3:$Z$100,2, FALSE) -> 0 | R8: =COUNT(R5:R7) -> 2 | S8: Seasons | T8: =U8/W8 -> 0.3799505 | U8: =SUM(U5:U7) -> 153.5 | V8: / | W8: =SUM(W5:W7) -> 404 | X8: =SUM(X5:X7) -> 12 | Y8: =SUM(Y5:Y7) -> 0 | AA8: =COUNT(AA5:AA7) -> 2 | AB8: Seasons | AC8: =AD8/AF8 -> 0.47741935 | AD8: =SUM(AD5:AD7) -> 222 | AE8: / | AF8: =SUM(AF5:AF7) -> 465 | AG8: =SUM(AG5:AG7) -> 23.5 | AH8: =SUM(AH5:AH7) -> 0 | AJ8: 2024 | AK8: =INDEX('2024'!$A$2:$A$100,MATCH(AJ2,'2024'!$B$2:$B$100,0)) -> 19th | AL8: =AM8/AO8 -> 0.48709677 | AM8: =VLOOKUP(AJ2,'2024'!$B$2:$F$100,2, FALSE) -> 151 | AN8: / | AO8: =VLOOKUP(AJ2,'2024'!$B$2:$F$100,3, FALSE) -> 310 | AP8: =VLOOKUP(AJ2,'2024'!$B$2:$F$100,5, FALSE) -> 13.5 | AQ8: =VLOOKUP(AJ2,'Weekly Wins'!$Y$3:$Z$100,2, FALSE) -> 1 | AS8: 2024 | AT8: =INDEX('2024'!$A$2:$A$100,MATCH(AS2,'2024'!$B$2:$B$100,0)) -> 23rd | AU8: =AV8/AX8 -> 0.47741935 | AV8: =VLOOKUP(AS2,'2024'!$B$2:$F$100,2, FALSE) -> 148 | AW8: / | AX8: =VLOOKUP(AS2,'2024'!$B$2:$F$100,3, FALSE) -> 310 | AY8: 18 | AZ8: =VLOOKUP(AS2,'Weekly Wins'!$Y$3:$Z$100,2, FALSE) -> 0.5 | BB8: 2024 | BC8: =INDEX('2024'!$A$2:$A$100,MATCH(BB2,'2024'!$B$2:$B$100,0)) -> 16th | BD8: =BE8/BG8 -> 0.49032258 | BE8: =VLOOKUP(BB2,'2024'!$B$2:$F$100,2, FALSE) -> 152 | BF8: / | BG8: =VLOOKUP(BB2,'2024'!$B$2:$F$100,3, FALSE) -> 310 | BH8: =VLOOKUP(BB2,'2024'!$B$2:$F$100,5, FALSE) -> 20 | BI8: =VLOOKUP(BB2,'Weekly Wins'!$Y$3:$Z$100,2, FALSE) -> 1 | BK8: 2024 | BL8: =INDEX('2024'!$A$2:$A$100,MATCH(BK2,'2024'!$B$2:$B$100,0)) -> 20th | BM8: =BN8/BP8 -> 0.48387097 | BN8: =VLOOKUP(BK2,'2024'!$B$2:$F$100,2, FALSE) -> 150 | BO8: / | BP8: =VLOOKUP(BK2,'2024'!$B$2:$F$100,3, FALSE) -> 310 | BQ8: =VLOOKUP(BK2,'2024'!$B$2:$F$100,5, FALSE) -> 16 | BR8: =VLOOKUP(BK2,'Weekly Wins'!$Y$3:$Z$100,2, FALSE) -> 0 | BT8: 2024 | BU8: =INDEX('2024'!$A$2:$A$100,MATCH(BT2,'2024'!$B$2:$B$100,0)) -> 34th/2nd* | BV8: =BW8/BY8 -> 0.5037037 | BW8: =VLOOKUP(BT2,'2024'!$B$2:$F$100,2, FALSE) -> 136 | BX8: / | BY8: =VLOOKUP(BT2,'2024'!$B$2:$F$100,3, FALSE) -> 270 | BZ8: =VLOOKUP(BT2,'2024'!$B$2:$F$100,5, FALSE) -> 17 | CA8: =VLOOKUP(BT2,'Weekly Wins'!$Y$3:$Z$100,2, FALSE) -> 1 | CC8: 2024 | CD8: =INDEX('2024'!$A$2:$A$100,MATCH(CC2,'2024'!$B$2:$B$100,0)) -> 3rd | CE8: =CF8/CH8 -> 0.51935484 | CF8: =VLOOKUP(CC2,'2024'!$B$2:$F$100,2, FALSE) -> 161 | CG8: / | CH8: =VLOOKUP(CC2,'2024'!$B$2:$F$100,3, FALSE) -> 310 | CI8: =VLOOKUP(CC2,'2024'!$B$2:$F$100,5, FALSE) -> 18.5 | CJ8: =VLOOKUP(CC2,'Weekly Wins'!$Y$3:$Z$100,2, FALSE) -> 0 | CL8: 2024 | CM8: =INDEX('2024'!$A$2:$A$100,MATCH(CL2,'2024'!$B$2:$B$100,0)) -> 6th | CN8: =CO8/CQ8 -> 0.50645161 | CO8: =VLOOKUP(CL2,'2024'!$B$2:$F$100,2, FALSE) -> 157 | CP8: / | CQ8: =VLOOKUP(CL2,'2024'!$B$2:$F$100,3, FALSE) -> 310 | CR8: =VLOOKUP(CL2,'2024'!$B$2:$F$100,5, FALSE) -> 20.5 | CS8: =VLOOKUP(CL2,'Weekly Wins'!$Y$3:$Z$100,2, FALSE) -> 1 | CU8: 2024 | CV8: =INDEX('2024'!$A$2:$A$100,MATCH(CU2,'2024'!$B$2:$B$100,0)) -> 31st | CW8: =CX8/CZ8 -> 0.4483871 | CX8: =VLOOKUP(CU2,'2024'!$B$2:$F$100,2, FALSE) -> 139 | CY8: / | CZ8: =VLOOKUP(CU2,'2024'!$B$2:$F$100,3, FALSE) -> 310 | DA8: =VLOOKUP(CU2,'2024'!$B$2:$F$100,5, FALSE) -> 12 | DB8: =VLOOKUP(CU2,'Weekly Wins'!$Y$3:$Z$100,2, FALSE) -> 0.45 | DD8: 2024 | DE8: =INDEX('2024'!$A$2:$A$100,MATCH(DD2,'2024'!$B$2:$B$100,0)) -> 2nd | DF8: =DG8/DI8 -> 0.52903226 | DG8: =VLOOKUP(DD2,'2024'!$B$2:$F$100,2, FALSE) -> 164 | DH8: / | DI8: =VLOOKUP(DD2,'2024'!$B$2:$F$100,3, FALSE) -> 310 | DJ8: =VLOOKUP(DD2,'2024'!$B$2:$F$100,5, FALSE) -> 17 | DK8: =VLOOKUP(DD2,'Weekly Wins'!$Y$3:$Z$100,2, FALSE) -> 1 | DM8: =COUNT(DM5:DM7) -> 2 | DN8: Seasons | DO8: =DP8/DR8 -> 0.52688172 | DP8: =SUM(DP5:DP7) -> 245 | DQ8: / | DR8: =SUM(DR5:DR7) -> 465 | DS8: =SUM(DS5:DS7) -> 30 | DT8: =SUM(DT5:DT7) -> 2.1666667 | DV8: 2024 | DW8: =INDEX('2024'!$A$2:$A$100,MATCH(DV2,'2024'!$B$2:$B$100,0)) -> 25th | DX8: =DY8/EA8 -> 0.47741935 | DY8: =VLOOKUP(DV2,'2024'!$B$2:$F$100,2, FALSE) -> 148 | DZ8: / | EA8: =VLOOKUP(DV2,'2024'!$B$2:$F$100,3, FALSE) -> 310 | EB8: =VLOOKUP(DV2,'2024'!$B$2:$F$100,5, FALSE) -> 15 | EC8: =VLOOKUP(DV2,'Weekly Wins'!$Y$3:$Z$100,2, FALSE) -> 0 | EE8: 2023 | EF8: =INDEX('2023'!$A$2:$A$100,MATCH(EE2,'2023'!$B$2:$B$100,0)) -> 31st | EG8: =EH8/EJ8 -> 0.49482759 | EH8: =VLOOKUP(EE2,'2023'!$B$2:$F$100,2, FALSE) -> 143.5 | EI8: / | EJ8: =VLOOKUP(EE2,'2023'!$B$2:$F$100,3, FALSE) -> 290 | EK8: =VLOOKUP(EE2,'2023'!$B$2:$F$100,5, FALSE) -> 14 | EL8: =VLOOKUP(EE2,'Weekly Wins'!$AB$3:$AC$100,2, FALSE) -> 0 | EW8: 2024 | EX8: =INDEX('2024'!$A$2:$A$100,MATCH(EW2,'2024'!$B$2:$B$100,0)) -> 1st | EY8: =EZ8/FB8 -> 0.53225806 | EZ8: =VLOOKUP(EW2,'2024'!$B$2:$F$100,2, FALSE) -> 165 | FA8: / | FB8: =VLOOKUP(EW2,'2024'!$B$2:$F$100,3, FALSE) -> 310 | FC8: =VLOOKUP(EW2,'2024'!$B$2:$F$100,5, FALSE) -> 18 | FD8: =VLOOKUP(EW2,'Weekly Wins'!$Y$3:$Z$100,2, FALSE) -> 0.7 | FF8: 2024 | FG8: =INDEX('2024'!$A$2:$A$100,MATCH(FF2,'2024'!$B$2:$B$100,0)) -> 26th | FH8: =FI8/FK8 -> 0.46774194 | FI8: =VLOOKUP(FF2,'2024'!$B$2:$F$100,2, FALSE) -> 145 | FJ8: / | FK8: =VLOOKUP(FF2,'2024'!$B$2:$F$100,3, FALSE) -> 310 | FL8: =VLOOKUP(FF2,'2024'!$B$2:$F$100,5, FALSE) -> 18.5 | FM8: =VLOOKUP(FF2,'Weekly Wins'!$Y$3:$Z$100,2, FALSE) -> 0.25 | FO8: 2024 | FP8: =INDEX('2024'!$A$2:$A$100,MATCH(FO2,'2024'!$B$2:$B$100,0)) -> 4th | FQ8: =FR8/FT8 -> 0.51290323 | FR8: =VLOOKUP(FO2,'2024'!$B$2:$F$100,2, FALSE) -> 159 | FS8: / | FT8: =VLOOKUP(FO2,'2024'!$B$2:$F$100,3, FALSE) -> 310 | FU8: =VLOOKUP(FO2,'2024'!$B$2:$F$100,5, FALSE) -> 16.5 | FV8: =VLOOKUP(FO2,'Weekly Wins'!$Y$3:$Z$100,2, FALSE) -> 0.58333333 | GG8: 2023 | GH8: =INDEX('2023'!$A$2:$A$100,MATCH(GG2,'2023'!$B$2:$B$100,0)) -> 36th** | GI8: =GJ8/GL8 -> 0.39375 | GJ8: =VLOOKUP(GG2,'2023'!$B$2:$F$100,2, FALSE) -> 63 | GK8: / | GL8: =VLOOKUP(GG2,'2023'!$B$2:$F$100,3, FALSE) -> 160 | GM8: =VLOOKUP(GG2,'2023'!$B$2:$F$100,5, FALSE) -> 2 | GN8: =VLOOKUP(GG2,'Weekly Wins'!$AB$3:$AC$100,2, FALSE) -> 0 | GP8: =COUNT(GP5:GP7) -> 2 | GQ8: Seasons | GR8: =GS8/GU8 -> 0.43225806 | GS8: =SUM(GS5:GS7) -> 201 | GT8: / | GU8: =SUM(GU5:GU7) -> 465 | GV8: =SUM(GV5:GV7) -> 17 | GW8: =SUM(GW5:GW7) -> 0 | GY8: =COUNT(GY5:GY7) -> 2 | GZ8: Seasons | HA8: =HB8/HD8 -> 0.48172043 | HB8: =SUM(HB5:HB7) -> 224 | HC8: / | HD8: =SUM(HD5:HD7) -> 465 | HE8: =SUM(HE5:HE7) -> 28 | HF8: =SUM(HF5:HF7) -> 1 | HH8: 2024 | HI8: =INDEX('2024'!$A$2:$A$100,MATCH(HH2,'2024'!$B$2:$B$100,0)) -> 12th | HJ8: =HK8/HM8 -> 0.49354839 | HK8: =VLOOKUP(HH2,'2024'!$B$2:$F$100,2, FALSE) -> 153 | HL8: / | HM8: =VLOOKUP(HH2,'2024'!$B$2:$F$100,3, FALSE) -> 310 | HN8: =VLOOKUP(HH2,'2024'!$B$2:$F$100,5, FALSE) -> 21 | HO8: =VLOOKUP(HH2,'Weekly Wins'!$Y$3:$Z$100,2, FALSE) -> 0 | HQ8: 2024 | HR8: =INDEX('2024'!$A$2:$A$100,MATCH(HQ2,'2024'!$B$2:$B$100,0)) -> 11th | HS8: =HT8/HV8 -> 0.49516129 | HT8: =VLOOKUP(HQ2,'2024'!$B$2:$F$100,2, FALSE) -> 153.5 | HU8: / | HV8: =VLOOKUP(HQ2,'2024'!$B$2:$F$100,3, FALSE) -> 310 | HW8: =VLOOKUP(HQ2,'2024'!$B$2:$F$100,5, FALSE) -> 20.5 | HX8: =VLOOKUP(HQ2,'Weekly Wins'!$Y$3:$Z$100,2, FALSE) -> 0.2
B9: 2023 | C9: =INDEX('2023'!$A$2:$A$100,MATCH(B2,'2023'!$B$2:$B$100,0)) -> 27th | D9: =E9/G9 -> 0.50172414 | E9: =VLOOKUP(B2,'2023'!$B$2:$F$100,2, FALSE) -> 145.5 | F9: / | G9: =VLOOKUP(B2,'2023'!$B$2:$F$100,3, FALSE) -> 290 | H9: =VLOOKUP(B2,'2023'!$B$2:$F$100,5, FALSE) -> 13 | I9: =VLOOKUP(B2,'Weekly Wins'!$AB$3:$AC$100,2, FALSE) -> 0 | AJ9: 2023 | AK9: =INDEX('2023'!$A$2:$A$100,MATCH(AJ2,'2023'!$B$2:$B$100,0)) -> 25th | AL9: =AM9/AO9 -> 0.50172414 | AM9: =VLOOKUP(AJ2,'2023'!$B$2:$F$100,2, FALSE) -> 145.5 | AN9: / | AO9: =VLOOKUP(AJ2,'2023'!$B$2:$F$100,3, FALSE) -> 290 | AP9: =VLOOKUP(AJ2,'2023'!$B$2:$F$100,5, FALSE) -> 19 | AQ9: =VLOOKUP(AJ2,'Weekly Wins'!$AB$3:$AC$100,2, FALSE) -> 1 | AS9: 2023 | AT9: =INDEX('2023'!$A$2:$A$100,MATCH(AS2,'2023'!$B$2:$B$100,0)) -> 22nd | AU9: =AV9/AX9 -> 0.50862069 | AV9: =VLOOKUP(AS2,'2023'!$B$2:$F$100,2, FALSE) -> 147.5 | AW9: / | AX9: =VLOOKUP(AS2,'2023'!$B$2:$F$100,3, FALSE) -> 290 | AY9: =VLOOKUP(AS2,'2023'!$B$2:$F$100,5, FALSE) -> 15 | AZ9: =VLOOKUP(AS2,'Weekly Wins'!$AB$3:$AC$100,2, FALSE) -> 0.33333333 | BB9: 2023 | BC9: =INDEX('2023'!$A$2:$A$100,MATCH(BB2,'2023'!$B$2:$B$100,0)) -> 19th | BD9: =BE9/BG9 -> 0.51206897 | BE9: =VLOOKUP(BB2,'2023'!$B$2:$F$100,2, FALSE) -> 148.5 | BF9: / | BG9: =VLOOKUP(BB2,'2023'!$B$2:$F$100,3, FALSE) -> 290 | BH9: =VLOOKUP(BB2,'2023'!$B$2:$F$100,5, FALSE) -> 19.5 | BI9: =VLOOKUP(BB2,'Weekly Wins'!$AB$3:$AC$100,2, FALSE) -> 2 | BK9: 2023 | BL9: =INDEX('2023'!$A$2:$A$100,MATCH(BK2,'2023'!$B$2:$B$100,0)) -> 23rd | BM9: =BN9/BP9 -> 0.50517241 | BN9: =VLOOKUP(BK2,'2023'!$B$2:$F$100,2, FALSE) -> 146.5 | BO9: / | BP9: =VLOOKUP(BK2,'2023'!$B$2:$F$100,3, FALSE) -> 290 | BQ9: =VLOOKUP(BK2,'2023'!$B$2:$F$100,5, FALSE) -> 18 | BR9: =VLOOKUP(BK2,'Weekly Wins'!$AB$3:$AC$100,2, FALSE) -> 0.33333333 | BT9: =COUNT(BT5:BT8) -> 3 | BU9: Seasons | BV9: =BW9/BY9 -> 0.48163265 | BW9: =SUM(BW5:BW8) -> 354 | BX9: / | BY9: =SUM(BY5:BY8) -> 735 | BZ9: =SUM(BZ5:BZ8) -> 47 | CA9: =SUM(CA5:CA8) -> 1.5 | CC9: 2023 | CD9: =INDEX('2023'!$A$2:$A$100,MATCH(CC2,'2023'!$B$2:$B$100,0)) -> 27th | CE9: =CF9/CH9 -> 0.50172414 | CF9: =VLOOKUP(CC2,'2023'!$B$2:$F$100,2, FALSE) -> 145.5 | CG9: / | CH9: =VLOOKUP(CC2,'2023'!$B$2:$F$100,3, FALSE) -> 290 | CI9: =VLOOKUP(CC2,'2023'!$B$2:$F$100,5, FALSE) -> 13 | CJ9: =VLOOKUP(CC2,'Weekly Wins'!$AB$3:$AC$100,2, FALSE) -> 0 | CL9: 2023 | CM9: =INDEX('2023'!$A$2:$A$100,MATCH(CL2,'2023'!$B$2:$B$100,0)) -> 26th | CN9: =CO9/CQ9 -> 0.50172414 | CO9: =VLOOKUP(CL2,'2023'!$B$2:$F$100,2, FALSE) -> 145.5 | CP9: / | CQ9: =VLOOKUP(CL2,'2023'!$B$2:$F$100,3, FALSE) -> 290 | CR9: =VLOOKUP(CL2,'2023'!$B$2:$F$100,5, FALSE) -> 15 | CS9: =VLOOKUP(CL2,'Weekly Wins'!$AB$3:$AC$100,2, FALSE) -> 0.33333333 | CU9: 2023 | CV9: =INDEX('2023'!$A$2:$A$100,MATCH(CU2,'2023'!$B$2:$B$100,0)) -> 17th | CW9: =CX9/CZ9 -> 0.51551724 | CX9: =VLOOKUP(CU2,'2023'!$B$2:$F$100,2, FALSE) -> 149.5 | CY9: / | CZ9: =VLOOKUP(CU2,'2023'!$B$2:$F$100,3, FALSE) -> 290 | DA9: =VLOOKUP(CU2,'2023'!$B$2:$F$100,5, FALSE) -> 19 | DB9: =VLOOKUP(CU2,'Weekly Wins'!$AB$3:$AC$100,2, FALSE) -> 0 | DD9: 2023 | DE9: =INDEX('2023'!$A$2:$A$100,MATCH(DD2,'2023'!$B$2:$B$100,0)) -> 35th/1st* | DF9: =DG9/DI9 -> 0.53947368 | DG9: =VLOOKUP(DD2,'2023'!$B$2:$F$100,2, FALSE) -> 102.5 | DH9: / | DI9: =VLOOKUP(DD2,'2023'!$B$2:$F$100,3, FALSE) -> 190 | DJ9: =VLOOKUP(DD2,'2023'!$B$2:$F$100,5, FALSE) -> 11 | DK9: =VLOOKUP(DD2,'Weekly Wins'!$AB$3:$AC$100,2, FALSE) -> 1 | DV9: 2023 | DW9: =INDEX('2023'!$A$2:$A$100,MATCH(DV2,'2023'!$B$2:$B$100,0)) -> 12th | DX9: =DY9/EA9 -> 0.52241379 | DY9: =VLOOKUP(DV2,'2023'!$B$2:$F$100,2, FALSE) -> 151.5 | DZ9: / | EA9: =VLOOKUP(DV2,'2023'!$B$2:$F$100,3, FALSE) -> 290 | EB9: 15 | EC9: =VLOOKUP(DV2,'Weekly Wins'!$AB$3:$AC$100,2, FALSE) -> 0 | EE9: 2022 | EF9: =INDEX('2022'!$A$2:$A$100,MATCH(EE2,'2022'!$B$2:$B$100,0)) -> 28th/2nd* | EG9: =EH9/EJ9 -> 0.47985348 | EH9: =VLOOKUP(EE2,'2022'!$B$2:$F$100,2, FALSE) -> 131 | EI9: / | EJ9: =VLOOKUP(EE2,'2022'!$B$2:$F$100,3, FALSE) -> 273 | EK9: =VLOOKUP(EE2,'2022'!$B$2:$F$100,5, FALSE) -> 12.5 | EL9: =VLOOKUP(EE2,'Weekly Wins'!$AE$3:$AF$100,2, FALSE) -> 0 | EW9: 2023 | EX9: =INDEX('2023'!$A$2:$A$100,MATCH(EW2,'2023'!$B$2:$B$100,0)) -> 32nd | EY9: =EZ9/FB9 -> 0.48103448 | EZ9: =VLOOKUP(EW2,'2023'!$B$2:$F$100,2, FALSE) -> 139.5 | FA9: / | FB9: =VLOOKUP(EW2,'2023'!$B$2:$F$100,3, FALSE) -> 290 | FC9: =VLOOKUP(EW2,'2023'!$B$2:$F$100,5, FALSE) -> 15 | FD9: =VLOOKUP(EW2,'Weekly Wins'!$AB$3:$AC$100,2, FALSE) -> 0 | FF9: 2023 | FG9: =INDEX('2023'!$A$2:$A$100,MATCH(FF2,'2023'!$B$2:$B$100,0)) -> 34th | FH9: =FI9/FK9 -> 0.45689655 | FI9: =VLOOKUP(FF2,'2023'!$B$2:$F$100,2, FALSE) -> 132.5 | FJ9: / | FK9: =VLOOKUP(FF2,'2023'!$B$2:$F$100,3, FALSE) -> 290 | FL9: =VLOOKUP(FF2,'2023'!$B$2:$F$100,5, FALSE) -> 12 | FM9: =VLOOKUP(FF2,'Weekly Wins'!$AB$3:$AC$100,2, FALSE) -> 0 | FO9: 2023 | FP9: =INDEX('2023'!$A$2:$A$100,MATCH(FO2,'2023'!$B$2:$B$100,0)) -> 15th | FQ9: =FR9/FT9 -> 0.51896552 | FR9: =VLOOKUP(FO2,'2023'!$B$2:$F$100,2, FALSE) -> 150.5 | FS9: / | FT9: =VLOOKUP(FO2,'2023'!$B$2:$F$100,3, FALSE) -> 290 | FU9: =VLOOKUP(FO2,'2023'!$B$2:$F$100,5, FALSE) -> 15 | FV9: =VLOOKUP(FO2,'Weekly Wins'!$AB$3:$AC$100,2, FALSE) -> 0.25 | GG9: =COUNT(GG5:GG8) -> 3 | GH9: Seasons | GI9: =GJ9/GL9 -> 0.4688 | GJ9: =SUM(GJ5:GJ8) -> 293 | GK9: / | GL9: =SUM(GL5:GL8) -> 625 | GM9: =SUM(GM5:GM8) -> 24.5 | GN9: =SUM(GN5:GN8) -> 1 | HH9: 2023 | HI9: =INDEX('2023'!$A$2:$A$100,MATCH(HH2,'2023'!$B$2:$B$100,0)) -> 16th | HJ9: =HK9/HM9 -> 0.51551724 | HK9: =VLOOKUP(HH2,'2023'!$B$2:$F$100,2, FALSE) -> 149.5 | HL9: / | HM9: =VLOOKUP(HH2,'2023'!$B$2:$F$100,3, FALSE) -> 290 | HN9: =VLOOKUP(HH2,'2023'!$B$2:$F$100,5, FALSE) -> 21.5 | HO9: =VLOOKUP(HH2,'Weekly Wins'!$AB$3:$AC$100,2, FALSE) -> 0.33333333 | HQ9: =COUNT(HQ5:HQ8) -> 3 | HR9: Seasons | HS9: =HT9/HV9 -> 0.50516129 | HT9: =SUM(HT5:HT8) -> 391.5 | HU9: / | HV9: =SUM(HV5:HV8) -> 775 | HW9: =SUM(HW5:HW8) -> 50 | HX9: =SUM(HX5:HX8) -> 1.7928571
B10: 2022 | C10: =INDEX('2022'!$A$2:$A$100,MATCH(B2,'2022'!$B$2:$B$100,0)) -> 12th | D10: =E10/G10 -> 0.48793103 | E10: =VLOOKUP(B2,'2022'!$B$2:$F$100,2, FALSE) -> 141.5 | F10: / | G10: =VLOOKUP(B2,'2022'!$B$2:$F$100,3, FALSE) -> 290 | H10: =VLOOKUP(B2,'2022'!$B$2:$F$100,5, FALSE) -> 17.5 | I10: =VLOOKUP(B2,'Weekly Wins'!$AE$3:$AF$100,2, FALSE) -> 0 | AJ10: 2022 | AK10: =INDEX('2022'!$A$2:$A$100,MATCH(AJ2,'2022'!$B$2:$B$100,0)) -> 27th | AL10: =AM10/AO10 -> 0.45689655 | AM10: =VLOOKUP(AJ2,'2022'!$B$2:$F$100,2, FALSE) -> 132.5 | AN10: / | AO10: =VLOOKUP(AJ2,'2022'!$B$2:$F$100,3, FALSE) -> 290 | AP10: =VLOOKUP(AJ2,'2022'!$B$2:$F$100,5, FALSE) -> 11.5 | AQ10: =VLOOKUP(AJ2,'Weekly Wins'!$AE$3:$AF$100,2, FALSE) -> 1 | AS10: 2022 | AT10: =INDEX('2022'!$A$2:$A$100,MATCH(AS2,'2022'!$B$2:$B$100,0)) -> 2nd | AU10: =AV10/AX10 -> 0.52586207 | AV10: =VLOOKUP(AS2,'2022'!$B$2:$F$100,2, FALSE) -> 152.5 | AW10: / | AX10: =VLOOKUP(AS2,'2022'!$B$2:$F$100,3, FALSE) -> 290 | AY10: =VLOOKUP(AS2,'2022'!$B$2:$F$100,5, FALSE) -> 19 | AZ10: =VLOOKUP(AS2,'Weekly Wins'!$AE$3:$AF$100,2, FALSE) -> 1.3333333 | BB10: 2022 | BC10: =INDEX('2022'!$A$2:$A$100,MATCH(BB2,'2022'!$B$2:$B$100,0)) -> 22nd | BD10: =BE10/BG10 -> 0.46034483 | BE10: =VLOOKUP(BB2,'2022'!$B$2:$F$100,2, FALSE) -> 133.5 | BF10: / | BG10: =VLOOKUP(BB2,'2022'!$B$2:$F$100,3, FALSE) -> 290 | BH10: =VLOOKUP(BB2,'2022'!$B$2:$F$100,5, FALSE) -> 17.5 | BI10: =VLOOKUP(BB2,'Weekly Wins'!$AE$3:$AF$100,2, FALSE) -> 0.5 | BK10: 2022 | BL10: =INDEX('2022'!$A$2:$A$100,MATCH(BK2,'2022'!$B$2:$B$100,0)) -> 24th | BM10: =BN10/BP10 -> 0.45689655 | BN10: =VLOOKUP(BK2,'2022'!$B$2:$F$100,2, FALSE) -> 132.5 | BO10: / | BP10: =VLOOKUP(BK2,'2022'!$B$2:$F$100,3, FALSE) -> 290 | BQ10: =VLOOKUP(BK2,'2022'!$B$2:$F$100,5, FALSE) -> 17 | BR10: =VLOOKUP(BK2,'Weekly Wins'!$AE$3:$AF$100,2, FALSE) -> 0 | CC10: 2022 | CD10: =INDEX('2022'!$A$2:$A$100,MATCH(CC2,'2022'!$B$2:$B$100,0)) -> 12th | CE10: =CF10/CH10 -> 0.48793103 | CF10: =VLOOKUP(CC2,'2022'!$B$2:$F$100,2, FALSE) -> 141.5 | CG10: / | CH10: =VLOOKUP(CC2,'2022'!$B$2:$F$100,3, FALSE) -> 290 | CI10: =VLOOKUP(CC2,'2022'!$B$2:$F$100,5, FALSE) -> 17.5 | CJ10: =VLOOKUP(CC2,'Weekly Wins'!$AE$3:$AF$100,2, FALSE) -> 0 | CL10: 2022 | CM10: =INDEX('2022'!$A$2:$A$100,MATCH(CL2,'2022'!$B$2:$B$100,0)) -> 25th | CN10: =CO10/CQ10 -> 0.45689655 | CO10: =VLOOKUP(CL2,'2022'!$B$2:$F$100,2, FALSE) -> 132.5 | CP10: / | CQ10: =VLOOKUP(CL2,'2022'!$B$2:$F$100,3, FALSE) -> 290 | CR10: =VLOOKUP(CL2,'2022'!$B$2:$F$100,5, FALSE) -> 14.5 | CS10: =VLOOKUP(CL2,'Weekly Wins'!$AE$3:$AF$100,2, FALSE) -> 1.3333333 | CU10: 2022 | CV10: =INDEX('2022'!$A$2:$A$100,MATCH(CU2,'2022'!$B$2:$B$100,0)) -> 29th | CW10: =CX10/CZ10 -> 0.45 | CX10: =VLOOKUP(CU2,'2022'!$B$2:$F$100,2, FALSE) -> 130.5 | CY10: / | CZ10: =VLOOKUP(CU2,'2022'!$B$2:$F$100,3, FALSE) -> 290 | DA10: =VLOOKUP(CU2,'2022'!$B$2:$F$100,5, FALSE) -> 19.5 | DB10: =VLOOKUP(CU2,'Weekly Wins'!$AE$3:$AF$100,2, FALSE) -> 0 | DD10: =COUNT(DD5:DD9) -> 4 | DE10: Seasons | DF10: =DG10/DI10 -> 0.50207254 | DG10: =SUM(DG5:DG9) -> 484.5 | DH10: / | DI10: =SUM(DI5:DI9) -> 965 | DJ10: =SUM(DJ5:DJ9) -> 57 | DK10: =SUM(DK5:DK9) -> 2 | DV10: 2022 | DW10: =INDEX('2022'!$A$2:$A$100,MATCH(DV2,'2022'!$B$2:$B$100,0)) -> 14th | DX10: =DY10/EA10 -> 0.48448276 | DY10: =VLOOKUP(DV2,'2022'!$B$2:$F$100,2, FALSE) -> 140.5 | DZ10: / | EA10: =VLOOKUP(DV2,'2022'!$B$2:$F$100,3, FALSE) -> 290 | EB10: =VLOOKUP(DV2,'2022'!$B$2:$F$100,5, FALSE) -> 16 | EC10: =VLOOKUP(DV2,'Weekly Wins'!$AE$3:$AF$100,2, FALSE) -> 0 | EE10: =COUNT(EE5:EE9) -> 4 | EF10: Seasons | EG10: =EH10/EJ10 -> 0.48005698 | EH10: =SUM(EH5:EH9) -> 505.5 | EI10: / | EJ10: =SUM(EJ5:EJ9) -> 1053 | EK10: =SUM(EK5:EK9) -> 46.5 | EL10: =SUM(EL5:EL9) -> 0 | EW10: 2022 | EX10: =INDEX('2022'!$A$2:$A$100,MATCH(EW2,'2022'!$B$2:$B$100,0)) -> 30th | EY10: =EZ10/FB10 -> 0.45 | EZ10: =VLOOKUP(EW2,'2022'!$B$2:$F$100,2, FALSE) -> 130.5 | FA10: / | FB10: =VLOOKUP(EW2,'2022'!$B$2:$F$100,3, FALSE) -> 290 | FC10: =VLOOKUP(EW2,'2022'!$B$2:$F$100,5, FALSE) -> 13.5 | FD10: =VLOOKUP(EW2,'Weekly Wins'!$AE$3:$AF$100,2, FALSE) -> 0 | FF10: =COUNT(FF5:FF9) -> 4 | FG10: Seasons | FH10: =FI10/FK10 -> 0.45023474 | FI10: =SUM(FI5:FI9) -> 479.5 | FJ10: / | FK10: =SUM(FK5:FK9) -> 1065 | FL10: =SUM(FL5:FL9) -> 54 | FM10: =SUM(FM5:FM9) -> 0.25 | FO10: =COUNT(FO5:FO9) -> 4 | FP10: Seasons | FQ10: =FR10/FT10 -> 0.49330144 | FR10: =SUM(FR5:FR9) -> 515.5 | FS10: / | FT10: =SUM(FT5:FT9) -> 1045 | FU10: =SUM(FU5:FU9) -> 57.5 | FV10: =SUM(FV5:FV9) -> 0.83333333 | HH10: 2022 | HI10: =INDEX('2022'!$A$2:$A$100,MATCH(HH2,'2022'!$B$2:$B$100,0)) -> 19th | HJ10: =HK10/HM10 -> 0.47413793 | HK10: =VLOOKUP(HH2,'2022'!$B$2:$F$100,2, FALSE) -> 137.5 | HL10: / | HM10: =VLOOKUP(HH2,'2022'!$B$2:$F$100,3, FALSE) -> 290 | HN10: =VLOOKUP(HH2,'2022'!$B$2:$F$100,5, FALSE) -> 11 | HO10: =VLOOKUP(HH2,'Weekly Wins'!$AE$3:$AF$100,2, FALSE) -> 0
B11: 2021 | C11: =INDEX('2021'!$A$2:$A$100,MATCH(B2,'2021'!$B$2:$B$100,0)) -> 11th | D11: =E11/G11 -> 0.50520833 | E11: =VLOOKUP(B2,'2021'!$B$2:$F$100,2, FALSE) -> 145.5 | F11: / | G11: =VLOOKUP(B2,'2021'!$B$2:$F$100,3, FALSE) -> 288 | H11: =VLOOKUP(B2,'2021'!$B$2:$F$100,5, FALSE) -> 14 | I11: =VLOOKUP(B2,'Weekly Wins'!$AH$3:$AI$100,2, FALSE) -> 0 | AJ11: 2021 | AK11: =INDEX('2021'!$A$2:$A$100,MATCH(AJ2,'2021'!$B$2:$B$100,0)) -> 26th | AL11: =AM11/AO11 -> 0.43576389 | AM11: =VLOOKUP(AJ2,'2021'!$B$2:$F$100,2, FALSE) -> 125.5 | AN11: / | AO11: =VLOOKUP(AJ2,'2021'!$B$2:$F$100,3, FALSE) -> 288 | AP11: =VLOOKUP(AJ2,'2021'!$B$2:$F$100,5, FALSE) -> 12.5 | AQ11: =VLOOKUP(AJ2,'Weekly Wins'!$AH$3:$AI$100,2, FALSE) -> 0 | AS11: 2021 | AT11: =INDEX('2021'!$A$2:$A$100,MATCH(AS2,'2021'!$B$2:$B$100,0)) -> 3rd | AU11: =AV11/AX11 -> 0.53298611 | AV11: =VLOOKUP(AS2,'2021'!$B$2:$F$100,2, FALSE) -> 153.5 | AW11: / | AX11: =VLOOKUP(AS2,'2021'!$B$2:$F$100,3, FALSE) -> 288 | AY11: =VLOOKUP(AS2,'2021'!$B$2:$F$100,5, FALSE) -> 14.5 | AZ11: =VLOOKUP(AS2,'Weekly Wins'!$AH$3:$AI$100,2, FALSE) -> 1 | BB11: 2021 | BC11: =INDEX('2021'!$A$2:$A$100,MATCH(BB2,'2021'!$B$2:$B$100,0)) -> 12th | BD11: =BE11/BG11 -> 0.50173611 | BE11: =VLOOKUP(BB2,'2021'!$B$2:$F$100,2, FALSE) -> 144.5 | BF11: / | BG11: =VLOOKUP(BB2,'2021'!$B$2:$F$100,3, FALSE) -> 288 | BH11: =VLOOKUP(BB2,'2021'!$B$2:$F$100,5, FALSE) -> 21 | BI11: =VLOOKUP(BB2,'Weekly Wins'!$AH$3:$AI$100,2, FALSE) -> 0.5 | BK11: 2021 | BL11: =INDEX('2021'!$A$2:$A$100,MATCH(BK2,'2021'!$B$2:$B$100,0)) -> 21st | BM11: =BN11/BP11 -> 0.484375 | BN11: =VLOOKUP(BK2,'2021'!$B$2:$F$100,2, FALSE) -> 139.5 | BO11: / | BP11: =VLOOKUP(BK2,'2021'!$B$2:$F$100,3, FALSE) -> 288 | BQ11: =VLOOKUP(BK2,'2021'!$B$2:$F$100,5, FALSE) -> 11 | BR11: =VLOOKUP(BK2,'Weekly Wins'!$AH$3:$AI$100,2, FALSE) -> 0.5 | CC11: 2021 | CD11: =INDEX('2021'!$A$2:$A$100,MATCH(CC2,'2021'!$B$2:$B$100,0)) -> 11th | CE11: =CF11/CH11 -> 0.50520833 | CF11: =VLOOKUP(CC2,'2021'!$B$2:$F$100,2, FALSE) -> 145.5 | CG11: / | CH11: =VLOOKUP(CC2,'2021'!$B$2:$F$100,3, FALSE) -> 288 | CI11: =VLOOKUP(CC2,'2021'!$B$2:$F$100,5, FALSE) -> 14 | CJ11: =VLOOKUP(CC2,'Weekly Wins'!$AH$3:$AI$100,2, FALSE) -> 0 | CL11: 2021 | CM11: =INDEX('2021'!$A$2:$A$100,MATCH(CL2,'2021'!$B$2:$B$100,0)) -> 23rd | CN11: =CO11/CQ11 -> 0.47048611 | CO11: =VLOOKUP(CL2,'2021'!$B$2:$F$100,2, FALSE) -> 135.5 | CP11: / | CQ11: =VLOOKUP(CL2,'2021'!$B$2:$F$100,3, FALSE) -> 288 | CR11: =VLOOKUP(CL2,'2021'!$B$2:$F$100,5, FALSE) -> 15.5 | CS11: =VLOOKUP(CL2,'Weekly Wins'!$AH$3:$AI$100,2, FALSE) -> 0 | CU11: 2021 | CV11: =INDEX('2021'!$A$2:$A$100,MATCH(CU2,'2021'!$B$2:$B$100,0)) -> 2nd | CW11: =CX11/CZ11 -> 0.53993056 | CX11: =VLOOKUP(CU2,'2021'!$B$2:$F$100,2, FALSE) -> 155.5 | CY11: / | CZ11: =VLOOKUP(CU2,'2021'!$B$2:$F$100,3, FALSE) -> 288 | DA11: =VLOOKUP(CU2,'2021'!$B$2:$F$100,5, FALSE) -> 15 | DB11: =VLOOKUP(CU2,'Weekly Wins'!$AH$3:$AI$100,2, FALSE) -> 1.5 | DV11: =COUNT(DV5:DV10) -> 5 | DW11: Seasons | DX11: =DY11/EA11 -> 0.48265683 | DY11: =SUM(DY5:DY10) -> 654 | DZ11: / | EA11: =SUM(EA5:EA10) -> 1355 | EB11: =SUM(EB5:EB10) -> 72.5 | EC11: =SUM(EC5:EC10) -> 0.14285714 | EW11: =COUNT(EW5:EW10) -> 5 | EX11: Seasons | EY11: =EZ11/FB11 -> 0.48265683 | EZ11: =SUM(EZ5:EZ10) -> 654 | FA11: / | FB11: =SUM(FB5:FB10) -> 1355 | FC11: =SUM(FC5:FC10) -> 69.5 | FD11: =SUM(FD5:FD10) -> 0.84285714 | HH11: 2021 | HI11: =INDEX('2021'!$A$2:$A$100,MATCH(HH2,'2021'!$B$2:$B$100,0)) -> 15th | HJ11: =HK11/HM11 -> 0.49826389 | HK11: =VLOOKUP(HH2,'2021'!$B$2:$F$100,2, FALSE) -> 143.5 | HL11: / | HM11: =VLOOKUP(HH2,'2021'!$B$2:$F$100,3, FALSE) -> 288 | HN11: 16.5 | HO11: =VLOOKUP(HH2,'Weekly Wins'!$AH$3:$AI$100,2, FALSE) -> 0
B12: 2020 | C12: =INDEX('2020'!$A$2:$A$100,MATCH(B2,'2020'!$B$2:$B$100,0)) -> 14th | D12: =E12/G12 -> 0.48630137 | E12: =VLOOKUP(B2,'2020'!$B$2:$F$100,2, FALSE) -> 142 | F12: / | G12: =VLOOKUP(B2,'2020'!$B$2:$F$100,3, FALSE) -> 292 | H12: =VLOOKUP(B2,'2020'!$B$2:$F$100,5, FALSE) -> 14 | I12: =VLOOKUP(B2,'Weekly Wins'!$AK$3:$AL$100,2, FALSE) -> 0.33333333 | AJ12: 2020 | AK12: =INDEX('2020'!$A$2:$A$100,MATCH(AJ2,'2020'!$B$2:$B$100,0)) -> 2nd | AL12: =AM12/AO12 -> 0.54452055 | AM12: =VLOOKUP(AJ2,'2020'!$B$2:$F$100,2, FALSE) -> 159 | AN12: / | AO12: =VLOOKUP(AJ2,'2020'!$B$2:$F$100,3, FALSE) -> 292 | AP12: =VLOOKUP(AJ2,'2020'!$B$2:$F$100,5, FALSE) -> 16 | AQ12: =VLOOKUP(AJ2,'Weekly Wins'!$AK$3:$AL$100,2, FALSE) -> 0.83333333 | AS12: 2020 | AT12: =INDEX('2020'!$A$2:$A$100,MATCH(AS2,'2020'!$B$2:$B$100,0)) -> 20th | AU12: =AV12/AX12 -> 0.45890411 | AV12: =VLOOKUP(AS2,'2020'!$B$2:$F$100,2, FALSE) -> 134 | AW12: / | AX12: =VLOOKUP(AS2,'2020'!$B$2:$F$100,3, FALSE) -> 292 | AY12: =VLOOKUP(AS2,'2020'!$B$2:$F$100,5, FALSE) -> 15 | AZ12: =VLOOKUP(AS2,'Weekly Wins'!$AK$3:$AL$100,2, FALSE) -> 1.5 | BB12: 2020 | BC12: =INDEX('2020'!$A$2:$A$100,MATCH(BB2,'2020'!$B$2:$B$100,0)) -> 11th | BD12: =BE12/BG12 -> 0.49315068 | BE12: =VLOOKUP(BB2,'2020'!$B$2:$F$100,2, FALSE) -> 144 | BF12: / | BG12: =VLOOKUP(BB2,'2020'!$B$2:$F$100,3, FALSE) -> 292 | BH12: =VLOOKUP(BB2,'2020'!$B$2:$F$100,5, FALSE) -> 14 | BI12: =VLOOKUP(BB2,'Weekly Wins'!$AK$3:$AL$100,2, FALSE) -> 2.3333333 | BK12: 2020 | BL12: =INDEX('2020'!$A$2:$A$100,MATCH(BK2,'2020'!$B$2:$B$100,0)) -> 9th | BM12: =BN12/BP12 -> 0.49315068 | BN12: =VLOOKUP(BK2,'2020'!$B$2:$F$100,2, FALSE) -> 144 | BO12: / | BP12: =VLOOKUP(BK2,'2020'!$B$2:$F$100,3, FALSE) -> 292 | BQ12: 16 | BR12: =VLOOKUP(BK2,'Weekly Wins'!$AK$3:$AL$100,2, FALSE) -> 0.33333333 | CC12: 2020 | CD12: =INDEX('2020'!$A$2:$A$100,MATCH(CC2,'2020'!$B$2:$B$100,0)) -> 14th | CE12: =CF12/CH12 -> 0.48630137 | CF12: =VLOOKUP(CC2,'2020'!$B$2:$F$100,2, FALSE) -> 142 | CG12: / | CH12: =VLOOKUP(CC2,'2020'!$B$2:$F$100,3, FALSE) -> 292 | CI12: =VLOOKUP(CC2,'2020'!$B$2:$F$100,5, FALSE) -> 14 | CJ12: =VLOOKUP(CC2,'Weekly Wins'!$AK$3:$AL$100,2, FALSE) -> 0.33333333 | CL12: 2020 | CM12: =INDEX('2020'!$A$2:$A$100,MATCH(CL2,'2020'!$B$2:$B$100,0)) -> 17th | CN12: =CO12/CQ12 -> 0.4760274 | CO12: =VLOOKUP(CL2,'2020'!$B$2:$F$100,2, FALSE) -> 139 | CP12: / | CQ12: =VLOOKUP(CL2,'2020'!$B$2:$F$100,3, FALSE) -> 292 | CR12: =VLOOKUP(CL2,'2020'!$B$2:$F$100,5, FALSE) -> 16 | CS12: =VLOOKUP(CL2,'Weekly Wins'!$AK$3:$AL$100,2, FALSE) -> 0 | CU12: 2020 | CV12: =INDEX('2020'!$A$2:$A$100,MATCH(CU2,'2020'!$B$2:$B$100,0)) -> 6th | CW12: =CX12/CZ12 -> 0.50342466 | CX12: =VLOOKUP(CU2,'2020'!$B$2:$F$100,2, FALSE) -> 147 | CY12: / | CZ12: =VLOOKUP(CU2,'2020'!$B$2:$F$100,3, FALSE) -> 292 | DA12: =VLOOKUP(CU2,'2020'!$B$2:$F$100,5, FALSE) -> 17 | DB12: =VLOOKUP(CU2,'Weekly Wins'!$AK$3:$AL$100,2, FALSE) -> 1.5 | HH12: 2020 | HI12: =INDEX('2020'!$A$2:$A$100,MATCH(HH2,'2020'!$B$2:$B$100,0)) -> 5th | HJ12: =HK12/HM12 -> 0.50684932 | HK12: =VLOOKUP(HH2,'2020'!$B$2:$F$100,2, FALSE) -> 148 | HL12: / | HM12: =VLOOKUP(HH2,'2020'!$B$2:$F$100,3, FALSE) -> 292 | HN12: =VLOOKUP(HH2,'2020'!$B$2:$F$100,5, FALSE) -> 16 | HO12: =VLOOKUP(HH2,'Weekly Wins'!$AK$3:$AL$100,2, FALSE) -> 0
B13: 2019 | C13: =INDEX('2019'!$A$2:$A$100,MATCH(B2,'2019'!$B$2:$B$100,0)) -> 3rd | D13: =E13/G13 -> 0.53833333 | E13: =VLOOKUP(B2,'2019'!$B$2:$F$100,2, FALSE) -> 161.5 | F13: / | G13: =VLOOKUP(B2,'2019'!$B$2:$F$100,3, FALSE) -> 300 | H13: =VLOOKUP(B2,'2019'!$B$2:$F$100,5, FALSE) -> 21.5 | I13: =VLOOKUP(B2,'Weekly Wins'!$AN$3:$AO$100,2, FALSE) -> 0.125 | AJ13: 2017 | AK13: =INDEX('2017'!$A$2:$A$100,MATCH(AJ2,'2017'!$B$2:$B$100,0)) -> 20th | AL13: =AM13/AO13 -> 0.47758621 | AM13: =VLOOKUP(AJ2,'2017'!$B$2:$F$100,2, FALSE) -> 138.5 | AN13: / | AO13: =VLOOKUP(AJ2,'2017'!$B$2:$F$100,3, FALSE) -> 290 | AP13: =VLOOKUP(AJ2,'2017'!$B$2:$F$100,5, FALSE) -> 15.5 | AQ13: =VLOOKUP(AJ2,'Weekly Wins'!$AT$3:$AU$100,2, FALSE) -> 0 | AS13: 2019 | AT13: =INDEX('2019'!$A$2:$A$100,MATCH(AS2,'2019'!$B$2:$B$100,0)) -> 1st | AU13: =AV13/AX13 -> 0.55833333 | AV13: =VLOOKUP(AS2,'2019'!$B$2:$F$100,2, FALSE) -> 167.5 | AW13: / | AX13: =VLOOKUP(AS2,'2019'!$B$2:$F$100,3, FALSE) -> 300 | AY13: =VLOOKUP(AS2,'2019'!$B$2:$F$100,5, FALSE) -> 24.5 | AZ13: =VLOOKUP(AS2,'Weekly Wins'!$AN$3:$AO$100,2, FALSE) -> 1.125 | BB13: 2019 | BC13: =INDEX('2019'!$A$2:$A$100,MATCH(BB2,'2019'!$B$2:$B$100,0)) -> 19th | BD13: =BE13/BG13 -> 0.47166667 | BE13: =VLOOKUP(BB2,'2019'!$B$2:$F$100,2, FALSE) -> 141.5 | BF13: / | BG13: =VLOOKUP(BB2,'2019'!$B$2:$F$100,3, FALSE) -> 300 | BH13: =VLOOKUP(BB2,'2019'!$B$2:$F$100,5, FALSE) -> 18.5 | BI13: =VLOOKUP(BB2,'Weekly Wins'!$AN$3:$AO$100,2, FALSE) -> 0.875 | BK13: 2019 | BL13: =INDEX('2019'!$A$2:$A$100,MATCH(BK2,'2019'!$B$2:$B$100,0)) -> 22nd | BM13: =BN13/BP13 -> 0.445 | BN13: =VLOOKUP(BK2,'2019'!$B$2:$F$100,2, FALSE) -> 133.5 | BO13: / | BP13: =VLOOKUP(BK2,'2019'!$B$2:$F$100,3, FALSE) -> 300 | BQ13: =VLOOKUP(BK2,'2019'!$B$2:$F$100,5, FALSE) -> 13.5 | BR13: =VLOOKUP(BK2,'Weekly Wins'!$AN$3:$AO$100,2, FALSE) -> 0 | CC13: 2019 | CD13: =INDEX('2019'!$A$2:$A$100,MATCH(CC2,'2019'!$B$2:$B$100,0)) -> 3rd | CE13: =CF13/CH13 -> 0.53833333 | CF13: =VLOOKUP(CC2,'2019'!$B$2:$F$100,2, FALSE) -> 161.5 | CG13: / | CH13: =VLOOKUP(CC2,'2019'!$B$2:$F$100,3, FALSE) -> 300 | CI13: =VLOOKUP(CC2,'2019'!$B$2:$F$100,5, FALSE) -> 21.5 | CJ13: =VLOOKUP(CC2,'Weekly Wins'!$AN$3:$AO$100,2, FALSE) -> 0.125 | CL13: 2019 | CM13: =INDEX('2019'!$A$2:$A$100,MATCH(CL2,'2019'!$B$2:$B$100,0)) -> 9th | CN13: =CO13/CQ13 -> 0.51833333 | CO13: =VLOOKUP(CL2,'2019'!$B$2:$F$100,2, FALSE) -> 155.5 | CP13: / | CQ13: =VLOOKUP(CL2,'2019'!$B$2:$F$100,3, FALSE) -> 300 | CR13: =VLOOKUP(CL2,'2019'!$B$2:$F$100,5, FALSE) -> 17 | CS13: =VLOOKUP(CL2,'Weekly Wins'!$AN$3:$AO$100,2, FALSE) -> 1 | CU13: 2019 | CV13: =INDEX('2019'!$A$2:$A$100,MATCH(CU2,'2019'!$B$2:$B$100,0)) -> 16th | CW13: =CX13/CZ13 -> 0.485 | CX13: =VLOOKUP(CU2,'2019'!$B$2:$F$100,2, FALSE) -> 145.5 | CY13: / | CZ13: =VLOOKUP(CU2,'2019'!$B$2:$F$100,3, FALSE) -> 300 | DA13: =VLOOKUP(CU2,'2019'!$B$2:$F$100,5, FALSE) -> 18 | DB13: =VLOOKUP(CU2,'Weekly Wins'!$AN$3:$AO$100,2, FALSE) -> 0.25 | HH13: 2019 | HI13: =INDEX('2019'!$A$2:$A$100,MATCH(HH2,'2019'!$B$2:$B$100,0)) -> 5th | HJ13: =HK13/HM13 -> 0.53166667 | HK13: =VLOOKUP(HH2,'2019'!$B$2:$F$100,2, FALSE) -> 159.5 | HL13: / | HM13: =VLOOKUP(HH2,'2019'!$B$2:$F$100,3, FALSE) -> 300 | HN13: =VLOOKUP(HH2,'2019'!$B$2:$F$100,5, FALSE) -> 18.5 | HO13: =VLOOKUP(HH2,'Weekly Wins'!$AN$3:$AO$100,2, FALSE) -> 1
B14: 2018 | C14: =INDEX('2018'!$A$2:$A$100,MATCH(B2,'2018'!$B$2:$B$100,0)) -> 11th | D14: =E14/G14 -> 0.45689655 | E14: =VLOOKUP(B2,'2018'!$B$2:$F$100,2, FALSE) -> 132.5 | F14: / | G14: =VLOOKUP(B2,'2018'!$B$2:$F$100,3, FALSE) -> 290 | H14: =VLOOKUP(B2,'2018'!$B$2:$F$100,5, FALSE) -> 10.5 | I14: =VLOOKUP(B2,'Weekly Wins'!$AQ$3:$AR$100,2, FALSE) -> 0 | AJ14: 2016 | AK14: =INDEX('2016'!$A$2:$A$100,MATCH(AJ2,'2016'!$B$2:$B$100,0)) -> 6th | AL14: =AM14/AO14 -> 0.47586207 | AM14: =VLOOKUP(AJ2,'2016'!$B$2:$F$100,2, FALSE) -> 138 | AN14: / | AO14: =VLOOKUP(AJ2,'2016'!$B$2:$F$100,3, FALSE) -> 290 | AP14: =VLOOKUP(AJ2,'2016'!$B$2:$F$100,5, FALSE) -> 18 | AQ14: =VLOOKUP(AJ2,'Weekly Wins'!$AW$3:$AX$100,2, FALSE) -> 1 | AS14: 2018 | AT14: =INDEX('2018'!$A$2:$A$100,MATCH(AS2,'2018'!$B$2:$B$100,0)) -> 5th | AU14: =AV14/AX14 -> 0.48448276 | AV14: =VLOOKUP(AS2,'2018'!$B$2:$F$100,2, FALSE) -> 140.5 | AW14: / | AX14: =VLOOKUP(AS2,'2018'!$B$2:$F$100,3, FALSE) -> 290 | AY14: =VLOOKUP(AS2,'2018'!$B$2:$F$100,5, FALSE) -> 15 | AZ14: =VLOOKUP(AS2,'Weekly Wins'!$AQ$3:$AR$100,2, FALSE) -> 2 | BB14: 2018 | BC14: =INDEX('2018'!$A$2:$A$100,MATCH(BB2,'2018'!$B$2:$B$100,0)) -> 12th | BD14: =BE14/BG14 -> 0.45689655 | BE14: =VLOOKUP(BB2,'2018'!$B$2:$F$100,2, FALSE) -> 132.5 | BF14: / | BG14: =VLOOKUP(BB2,'2018'!$B$2:$F$100,3, FALSE) -> 290 | BH14: =VLOOKUP(BB2,'2018'!$B$2:$F$100,5, FALSE) -> 8 | BI14: =VLOOKUP(BB2,'Weekly Wins'!$AQ$3:$AR$100,2, FALSE) -> 2.5 | BK14: 2018 | BL14: =INDEX('2018'!$A$2:$A$100,MATCH(BK2,'2018'!$B$2:$B$100,0)) -> 18th | BM14: =BN14/BP14 -> 0.44655172 | BN14: =VLOOKUP(BK2,'2018'!$B$2:$F$100,2, FALSE) -> 129.5 | BO14: / | BP14: =VLOOKUP(BK2,'2018'!$B$2:$F$100,3, FALSE) -> 290 | BQ14: =VLOOKUP(BK2,'2018'!$B$2:$F$100,5, FALSE) -> 12.5 | BR14: =VLOOKUP(BK2,'Weekly Wins'!$AQ$3:$AR$100,2, FALSE) -> 1 | CC14: 2018 | CD14: =INDEX('2018'!$A$2:$A$100,MATCH(CC2,'2018'!$B$2:$B$100,0)) -> 11th | CE14: =CF14/CH14 -> 0.45689655 | CF14: =VLOOKUP(CC2,'2018'!$B$2:$F$100,2, FALSE) -> 132.5 | CG14: / | CH14: =VLOOKUP(CC2,'2018'!$B$2:$F$100,3, FALSE) -> 290 | CI14: =VLOOKUP(CC2,'2018'!$B$2:$F$100,5, FALSE) -> 10.5 | CJ14: =VLOOKUP(CC2,'Weekly Wins'!$AQ$3:$AR$100,2, FALSE) -> 0 | CL14: 2018 | CM14: =INDEX('2018'!$A$2:$A$100,MATCH(CL2,'2018'!$B$2:$B$100,0)) -> 2nd | CN14: =CO14/CQ14 -> 0.50517241 | CO14: =VLOOKUP(CL2,'2018'!$B$2:$F$100,2, FALSE) -> 146.5 | CP14: / | CQ14: =VLOOKUP(CL2,'2018'!$B$2:$F$100,3, FALSE) -> 290 | CR14: =VLOOKUP(CL2,'2018'!$B$2:$F$100,5, FALSE) -> 12 | CS14: =VLOOKUP(CL2,'Weekly Wins'!$AQ$3:$AR$100,2, FALSE) -> 0 | CU14: 2018 | CV14: =INDEX('2018'!$A$2:$A$100,MATCH(CU2,'2018'!$B$2:$B$100,0)) -> 1st | CW14: =CX14/CZ14 -> 0.52241379 | CX14: =VLOOKUP(CU2,'2018'!$B$2:$F$100,2, FALSE) -> 151.5 | CY14: / | CZ14: =VLOOKUP(CU2,'2018'!$B$2:$F$100,3, FALSE) -> 290 | DA14: =VLOOKUP(CU2,'2018'!$B$2:$F$100,5, FALSE) -> 16 | DB14: =VLOOKUP(CU2,'Weekly Wins'!$AQ$3:$AR$100,2, FALSE) -> 2.5 | HH14: 2017 | HI14: =INDEX('2017'!$A$2:$A$100,MATCH(HH2,'2017'!$B$2:$B$100,0)) -> 18th | HJ14: =HK14/HM14 -> 0.48103448 | HK14: =VLOOKUP(HH2,'2017'!$B$2:$F$100,2, FALSE) -> 139.5 | HL14: / | HM14: =VLOOKUP(HH2,'2017'!$B$2:$F$100,3, FALSE) -> 290 | HN14: =VLOOKUP(HH2,'2017'!$B$2:$F$100,5, FALSE) -> 17 | HO14: =VLOOKUP(HH2,'Weekly Wins'!$AT$3:$AU$100,2, FALSE) -> 1.1428571
