Workbook

Sheet College
B1: College All-Time
B2: (last edited 11/2/2026)
B4: Name | C4: Correct | D4: Total | E4: % | F4: S# | G4: ATC | H4: AT% | J4: 2026 Correct | K4: 2026 Total | L4: 2025 Correct | M4: 2025 Total | N4: 2024 Correct | O4: 2024 Total | P4: 2023 Correct | Q4: 2023 Total | R4: 2022 Correct | S4: 2022 Total | T4: 2021 Correct | U4: 2021 Total | V4: 2020 Correct | W4: 2020 Total | X4: 2019 Correct | Y4: 2019 Total | Z4: 2018 Correct | AA4: 2018 Total | AB4: 2017 Correct | AC4: 2017 Total | AD4: 2016 Correct | AE4: 2016 Total | AF4: 2015 Correct | AG4: 2015 Total
A5: 1 | B5: Alsobrook, Luke | C5: =J5+L5+N5+P5+R5+T5+V5+X5+Z5+AB5+AD5+AF5 -> 1118.5 | D5: =K5+M5+O5+Q5+S5+U5+W5+Y5+AA5+AC5+AE5+AG5 -> 2283 | E5: =C5/D5 -> 0.48992554 | F5: =COUNT(J5:AAM5)/2 -> 8 | G5: =INDEX(Records!$B$4:$D$102,MATCH(B5,Records!$C$4:$C$102,0),1) -> 21st | H5: =INDEX(Records!$F$4:$H$102,MATCH(B5,Records!$G$4:$G$102,0),1) -> 27th | J5: =VLOOKUP(B5,'2026'!$B$3:$F$92,2, FALSE) -> 83 | K5: =VLOOKUP(B5,'2026'!$B$3:$F$92,3, FALSE) -> 180 | L5: =VLOOKUP(B5,'2025'!$B$3:$F$100,2, FALSE) -> 133 | M5: =VLOOKUP(B5,'2025'!$B$3:$F$100,3, FALSE) -> 285 | N5: =VLOOKUP(B5,'2024'!$B$3:$F$100,2, FALSE) -> 151 | O5: =VLOOKUP(B5,'2024'!$B$3:$F$100,3, FALSE) -> 310 | P5: =VLOOKUP(B5,'2023'!$B$3:$F$100,2, FALSE) -> 150.5 | Q5: =VLOOKUP(B5,'2023'!$B$3:$F$100,3, FALSE) -> 290 | R5: =VLOOKUP(B5,'2022'!$B$3:$F$100,2, FALSE) -> 133.5 | S5: =VLOOKUP(B5,'2022'!$B$3:$F$100,3, FALSE) -> 290 | T5: =VLOOKUP(B5,'2021'!$B$3:$F$100,2, FALSE) -> 150.5 | U5: =VLOOKUP(B5,'2021'!$B$3:$F$100,3, FALSE) -> 288 | AB5: =VLOOKUP(B5,'2017'!$B$3:$F$100,2, FALSE) -> 141.5 | AC5: =VLOOKUP(B5,'2017'!$B$3:$F$100,3, FALSE) -> 290 | AF5: =VLOOKUP(B5,'2015'!$B$3:$F$100,2, FALSE) -> 175.5 | AG5: =VLOOKUP(B5,'2015'!$B$3:$F$100,3, FALSE) -> 350
A6: 2 | B6: Alvarez, Justin | C6: =J6+L6+N6+P6+R6+T6+V6+X6+Z6+AB6+AD6+AF6 -> 487 | D6: =K6+M6+O6+Q6+S6+U6+W6+Y6+AA6+AC6+AE6+AG6 -> 1082 | E6: =C6/D6 -> 0.45009242 | F6: =COUNT(J6:AAM6)/2 -> 4 | G6: =INDEX(Records!$B$4:$D$102,MATCH(B6,Records!$C$4:$C$102,0),1) -> 35th-T | H6: =INDEX(Records!$F$4:$H$102,MATCH(B6,Records!$G$4:$G$102,0),1) -> 60th | V6: =VLOOKUP(B6,'2020'!$B$3:$F$100,2, FALSE) -> 126 | W6: =VLOOKUP(B6,'2020'!$B$3:$F$100,3, FALSE) -> 292 | X6: =VLOOKUP(B6,'2019'!$B$3:$F$100,2, FALSE) -> 146.5 | Y6: =VLOOKUP(B6,'2019'!$B$3:$F$100,3, FALSE) -> 300 | Z6: =VLOOKUP(B6,'2018'!$B$3:$F$100,2, FALSE) -> 76 | AA6: =VLOOKUP(B6,'2018'!$B$3:$F$100,3, FALSE) -> 200 | AB6: =VLOOKUP(B6,'2017'!$B$3:$F$100,2, FALSE) -> 138.5 | AC6: =VLOOKUP(B6,'2017'!$B$3:$F$100,3, FALSE) -> 290
A7: 3 | B7: Anthis, Michael | C7: =J7+L7+N7+P7+R7+T7+V7+X7+Z7+AB7+AD7+AF7 -> 137 | D7: =K7+M7+O7+Q7+S7+U7+W7+Y7+AA7+AC7+AE7+AG7 -> 310 | E7: =C7/D7 -> 0.44193548 | F7: =COUNT(J7:AAM7)/2 -> 1 | G7: =INDEX(Records!$B$4:$D$102,MATCH(B7,Records!$C$4:$C$102,0),1) -> 64th | H7: =INDEX(Records!$F$4:$H$102,MATCH(B7,Records!$G$4:$G$102,0),1) -> 62nd | N7: =VLOOKUP(B7,'2024'!$B$3:$F$100,2, FALSE) -> 137 | O7: =VLOOKUP(B7,'2024'!$B$3:$F$100,3, FALSE) -> 310
A8: 4 | B8: Baze, Drew | C8: =J8+L8+N8+P8+R8+T8+V8+X8+Z8+AB8+AD8+AF8 -> 1525 | D8: =K8+M8+O8+Q8+S8+U8+W8+Y8+AA8+AC8+AE8+AG8 -> 3105 | E8: =C8/D8 -> 0.49114332 | F8: =COUNT(J8:AAM8)/2 -> 11 | G8: =INDEX(Records!$B$4:$D$102,MATCH(B8,Records!$C$4:$C$102,0),1) -> 9th | H8: =INDEX(Records!$F$4:$H$102,MATCH(B8,Records!$G$4:$G$102,0),1) -> 23rd | J8: =VLOOKUP(B8,'2026'!$B$3:$F$92,2, FALSE) -> 86 | K8: =VLOOKUP(B8,'2026'!$B$3:$F$92,3, FALSE) -> 180 | L8: =VLOOKUP(B8,'2025'!$B$3:$F$100,2, FALSE) -> 132 | M8: =VLOOKUP(B8,'2025'!$B$3:$F$100,3, FALSE) -> 285 | N8: =VLOOKUP(B8,'2024'!$B$3:$F$100,2, FALSE) -> 152 | O8: =VLOOKUP(B8,'2024'!$B$3:$F$100,3, FALSE) -> 310 | P8: =VLOOKUP(B8,'2023'!$B$3:$F$100,2, FALSE) -> 156.5 | Q8: =VLOOKUP(B8,'2023'!$B$3:$F$100,3, FALSE) -> 290 | R8: =VLOOKUP(B8,'2022'!$B$3:$F$100,2, FALSE) -> 138.5 | S8: =VLOOKUP(B8,'2022'!$B$3:$F$100,3, FALSE) -> 290 | T8: =VLOOKUP(B8,'2021'!$B$3:$F$100,2, FALSE) -> 142.5 | U8: =VLOOKUP(B8,'2021'!$B$3:$F$100,3, FALSE) -> 288 | V8: =VLOOKUP(B8,'2020'!$B$3:$F$100,2, FALSE) -> 141 | W8: =VLOOKUP(B8,'2020'!$B$3:$F$100,3, FALSE) -> 292 | X8: =VLOOKUP(B8,'2019'!$B$3:$F$100,2, FALSE) -> 160.5 | Y8: =VLOOKUP(B8,'2019'!$B$3:$F$100,3, FALSE) -> 300 | Z8: =VLOOKUP(B8,'2018'!$B$3:$F$100,2, FALSE) -> 134.5 | AA8: =VLOOKUP(B8,'2018'!$B$3:$F$100,3, FALSE) -> 290 | AB8: =VLOOKUP(B8,'2017'!$B$3:$F$100,2, FALSE) -> 145.5 | AC8: =VLOOKUP(B8,'2017'!$B$3:$F$100,3, FALSE) -> 290 | AD8: =VLOOKUP(B8,'2016'!$B$3:$F$100,2, FALSE) -> 136 | AE8: =VLOOKUP(B8,'2016'!$B$3:$F$100,3, FALSE) -> 290
A9: 5 | B9: Beene, Jordan | C9: =J9+L9+N9+P9+R9+T9+V9+X9+Z9+AB9+AD9+AF9 -> 165.5 | D9: =K9+M9+O9+Q9+S9+U9+W9+Y9+AA9+AC9+AE9+AG9 -> 350 | E9: =C9/D9 -> 0.47285714 | F9: =COUNT(J9:AAM9)/2 -> 1 | G9: =INDEX(Records!$B$4:$D$102,MATCH(B9,Records!$C$4:$C$102,0),1) -> 54th | H9: =INDEX(Records!$F$4:$H$102,MATCH(B9,Records!$G$4:$G$102,0),1) -> 47th | AF9: =VLOOKUP(B9,'2015'!$B$3:$F$100,2, FALSE) -> 165.5 | AG9: =VLOOKUP(B9,'2015'!$B$3:$F$100,3, FALSE) -> 350
A10: 6 | B10: Beene, Virgil | C10: =J10+L10+N10+P10+R10+T10+V10+X10+Z10+AB10+AD10+AF10 -> 361 | D10: =K10+M10+O10+Q10+S10+U10+W10+Y10+AA10+AC10+AE10+AG10 -> 779 | E10: =C10/D10 -> 0.46341463 | F10: =COUNT(J10:AAM10)/2 -> 3 | G10: =INDEX(Records!$B$4:$D$102,MATCH(B10,Records!$C$4:$C$102,0),1) -> 40th | H10: =INDEX(Records!$F$4:$H$102,MATCH(B10,Records!$G$4:$G$102,0),1) -> 52nd | Z10: =VLOOKUP(B10,'2018'!$B$3:$F$100,2, FALSE) -> 131.5 | AA10: =VLOOKUP(B10,'2018'!$B$3:$F$100,3, FALSE) -> 290 | AD10: =VLOOKUP(B10,'2016'!$B$3:$F$100,2, FALSE) -> 49 | AE10: =VLOOKUP(B10,'2016'!$B$3:$F$100,3, FALSE) -> 139 | AF10: =VLOOKUP(B10,'2015'!$B$3:$F$100,2, FALSE) -> 180.5 | AG10: =VLOOKUP(B10,'2015'!$B$3:$F$100,3, FALSE) -> 350
A11: 7 | B11: Bradley, Eden | C11: =J11+L11+N11+P11+R11+T11+V11+X11+Z11+AB11+AD11+AF11 -> 125.5 | D11: =K11+M11+O11+Q11+S11+U11+W11+Y11+AA11+AC11+AE11+AG11 -> 290 | E11: =C11/D11 -> 0.43275862 | F11: =COUNT(J11:AAM11)/2 -> 1 | G11: =INDEX(Records!$B$4:$D$102,MATCH(B11,Records!$C$4:$C$102,0),1) -> 66th | H11: =INDEX(Records!$F$4:$H$102,MATCH(B11,Records!$G$4:$G$102,0),1) -> 65th | Z11: =VLOOKUP(B11,'2018'!$B$3:$F$100,2, FALSE) -> 125.5 | AA11: =VLOOKUP(B11,'2018'!$B$3:$F$100,3, FALSE) -> 290
A12: 8 | B12: Bradley, Ken | C12: =J12+L12+N12+P12+R12+T12+V12+X12+Z12+AB12+AD12+AF12 -> 1714.5 | D12: =K12+M12+O12+Q12+S12+U12+W12+Y12+AA12+AC12+AE12+AG12 -> 3455 | E12: =C12/D12 -> 0.49623734 | F12: =COUNT(J12:AAM12)/2 -> 12 | G12: =INDEX(Records!$B$4:$D$102,MATCH(B12,Records!$C$4:$C$102,0),1) -> 2nd | H12: =INDEX(Records!$F$4:$H$102,MATCH(B12,Records!$G$4:$G$102,0),1) -> 14th | J12: =VLOOKUP(B12,'2026'!$B$3:$F$92,2, FALSE) -> 87 | K12: =VLOOKUP(B12,'2026'!$B$3:$F$92,3, FALSE) -> 180 | L12: =VLOOKUP(B12,'2025'!$B$3:$F$100,2, FALSE) -> 129 | M12: =VLOOKUP(B12,'2025'!$B$3:$F$100,3, FALSE) -> 285 | N12: =VLOOKUP(B12,'2024'!$B$3:$F$100,2, FALSE) -> 158 | O12: =VLOOKUP(B12,'2024'!$B$3:$F$100,3, FALSE) -> 310 | P12: =VLOOKUP(B12,'2023'!$B$3:$F$100,2, FALSE) -> 153.5 | Q12: =VLOOKUP(B12,'2023'!$B$3:$F$100,3, FALSE) -> 290 | R12: =VLOOKUP(B12,'2022'!$B$3:$F$100,2, FALSE) -> 139.5 | S12: =VLOOKUP(B12,'2022'!$B$3:$F$100,3, FALSE) -> 290 | T12: =VLOOKUP(B12,'2021'!$B$3:$F$100,2, FALSE) -> 138.5 | U12: =VLOOKUP(B12,'2021'!$B$3:$F$100,3, FALSE) -> 288 | V12: =VLOOKUP(B12,'2020'!$B$3:$F$100,2, FALSE) -> 144 | W12: =VLOOKUP(B12,'2020'!$B$3:$F$100,3, FALSE) -> 292 | X12: =VLOOKUP(B12,'2019'!$B$3:$F$100,2, FALSE) -> 156.5 | Y12: =VLOOKUP(B12,'2019'!$B$3:$F$100,3, FALSE) -> 300 | Z12: =VLOOKUP(B12,'2018'!$B$3:$F$100,2, FALSE) -> 137.5 | AA12: =VLOOKUP(B12,'2018'!$B$3:$F$100,3, FALSE) -> 290 | AB12: =VLOOKUP(B12,'2017'!$B$3:$F$100,2, FALSE) -> 149.5 | AC12: =VLOOKUP(B12,'2017'!$B$3:$F$100,3, FALSE) -> 290 | AD12: =VLOOKUP(B12,'2016'!$B$3:$F$100,2, FALSE) -> 135 | AE12: =VLOOKUP(B12,'2016'!$B$3:$F$100,3, FALSE) -> 290 | AF12: =VLOOKUP(B12,'2015'!$B$3:$F$100,2, FALSE) -> 186.5 | AG12: =VLOOKUP(B12,'2015'!$B$3:$F$100,3, FALSE) -> 350
A13: 9 | B13: Bradley, Mason | C13: =J13+L13+N13+P13+R13+T13+V13+X13+Z13+AB13+AD13+AF13 -> 278 | D13: =K13+M13+O13+Q13+S13+U13+W13+Y13+AA13+AC13+AE13+AG13 -> 580 | E13: =C13/D13 -> 0.47931034 | F13: =COUNT(J13:AAM13)/2 -> 2 | G13: =INDEX(Records!$B$4:$D$102,MATCH(B13,Records!$C$4:$C$102,0),1) -> 44th | H13: =INDEX(Records!$F$4:$H$102,MATCH(B13,Records!$G$4:$G$102,0),1) -> 42nd | Z13: =VLOOKUP(B13,'2018'!$B$3:$F$100,2, FALSE) -> 130.5 | AA13: =VLOOKUP(B13,'2018'!$B$3:$F$100,3, FALSE) -> 290 | AB13: =VLOOKUP(B13,'2017'!$B$3:$F$100,2, FALSE) -> 147.5 | AC13: =VLOOKUP(B13,'2017'!$B$3:$F$100,3, FALSE) -> 290
A14: 10 | B14: Brown, Brandel | C14: =J14+L14+N14+P14+R14+T14+V14+X14+Z14+AB14+AD14+AF14 -> 140.5 | D14: =K14+M14+O14+Q14+S14+U14+W14+Y14+AA14+AC14+AE14+AG14 -> 290 | E14: =C14/D14 -> 0.48448276 | F14: =COUNT(J14:AAM14)/2 -> 1 | G14: =INDEX(Records!$B$4:$D$102,MATCH(B14,Records!$C$4:$C$102,0),1) -> 60th-T | H14: =INDEX(Records!$F$4:$H$102,MATCH(B14,Records!$G$4:$G$102,0),1) -> 34th | AB14: =VLOOKUP(B14,'2017'!$B$3:$F$100,2, FALSE) -> 140.5 | AC14: =VLOOKUP(B14,'2017'!$B$3:$F$100,3, FALSE) -> 290
A15: 11 | B15: Clarke, Benjamin | C15: =J15+L15+N15+P15+R15+T15+V15+X15+Z15+AB15+AD15+AF15 -> 1249.5 | D15: =K15+M15+O15+Q15+S15+U15+W15+Y15+AA15+AC15+AE15+AG15 -> 2525 | E15: =C15/D15 -> 0.49485149 | F15: =COUNT(J15:AAM15)/2 -> 9 | G15: =INDEX(Records!$B$4:$D$102,MATCH(B15,Records!$C$4:$C$102,0),1) -> 18th | H15: =INDEX(Records!$F$4:$H$102,MATCH(B15,Records!$G$4:$G$102,0),1) -> 17th | J15: =VLOOKUP(B15,'2026'!$B$3:$F$92,2, FALSE) -> 81 | K15: =VLOOKUP(B15,'2026'!$B$3:$F$92,3, FALSE) -> 180 | L15: =VLOOKUP(B15,'2025'!$B$3:$F$100,2, FALSE) -> 144 | M15: =VLOOKUP(B15,'2025'!$B$3:$F$100,3, FALSE) -> 285 | N15: =VLOOKUP(B15,'2024'!$B$3:$F$100,2, FALSE) -> 141 | O15: =VLOOKUP(B15,'2024'!$B$3:$F$100,3, FALSE) -> 310 | P15: =VLOOKUP(B15,'2023'!$B$3:$F$100,2, FALSE) -> 159.5 | Q15: =VLOOKUP(B15,'2023'!$B$3:$F$100,3, FALSE) -> 290 | R15: =VLOOKUP(B15,'2022'!$B$3:$F$100,2, FALSE) -> 156.5 | S15: =VLOOKUP(B15,'2022'!$B$3:$F$100,3, FALSE) -> 290 | T15: =VLOOKUP(B15,'2021'!$B$3:$F$100,2, FALSE) -> 149.5 | U15: =VLOOKUP(B15,'2021'!$B$3:$F$100,3, FALSE) -> 288 | V15: =VLOOKUP(B15,'2020'!$B$3:$F$100,2, FALSE) -> 132 | W15: =VLOOKUP(B15,'2020'!$B$3:$F$100,3, FALSE) -> 292 | X15: =VLOOKUP(B15,'2019'!$B$3:$F$100,2, FALSE) -> 144.5 | Y15: =VLOOKUP(B15,'2019'!$B$3:$F$100,3, FALSE) -> 300 | Z15: =VLOOKUP(B15,'2018'!$B$3:$F$100,2, FALSE) -> 141.5 | AA15: =VLOOKUP(B15,'2018'!$B$3:$F$100,3, FALSE) -> 290
A16: 12 | B16: Conklin, Don | C16: =J16+L16+N16+P16+R16+T16+V16+X16+Z16+AB16+AD16+AF16 -> 757 | D16: =K16+M16+O16+Q16+S16+U16+W16+Y16+AA16+AC16+AE16+AG16 -> 1529 | E16: =C16/D16 -> 0.49509483 | F16: =COUNT(J16:AAM16)/2 -> 6 | G16: =INDEX(Records!$B$4:$D$102,MATCH(B16,Records!$C$4:$C$102,0),1) -> 23rd | H16: =INDEX(Records!$F$4:$H$102,MATCH(B16,Records!$G$4:$G$102,0),1) -> 16th | J16: =VLOOKUP(B16,'2026'!$B$3:$F$92,2, FALSE) -> 85 | K16: =VLOOKUP(B16,'2026'!$B$3:$F$92,3, FALSE) -> 180 | L16: =VLOOKUP(B16,'2025'!$B$3:$F$100,2, FALSE) -> 123 | M16: =VLOOKUP(B16,'2025'!$B$3:$F$100,3, FALSE) -> 285 | N16: =VLOOKUP(B16,'2024'!$B$3:$F$100,2, FALSE) -> 145 | O16: =VLOOKUP(B16,'2024'!$B$3:$F$100,3, FALSE) -> 310 | P16: =VLOOKUP(B16,'2023'!$B$3:$F$100,2, FALSE) -> 148.5 | Q16: =VLOOKUP(B16,'2023'!$B$3:$F$100,3, FALSE) -> 290 | R16: =VLOOKUP(B16,'2022'!$B$3:$F$100,2, FALSE) -> 134 | S16: =VLOOKUP(B16,'2022'!$B$3:$F$100,3, FALSE) -> 256 | T16: =VLOOKUP(B16,'2021'!$B$3:$F$100,2, FALSE) -> 121.5 | U16: =VLOOKUP(B16,'2021'!$B$3:$F$100,3, FALSE) -> 208
A17: 13 | B17: Curran, Haley | C17: =J17+L17+N17+P17+R17+T17+V17+X17+Z17+AB17+AD17+AF17 -> 531 | D17: =K17+M17+O17+Q17+S17+U17+W17+Y17+AA17+AC17+AE17+AG17 -> 1170 | E17: =C17/D17 -> 0.45384615 | F17: =COUNT(J17:AAM17)/2 -> 4 | G17: =INDEX(Records!$B$4:$D$102,MATCH(B17,Records!$C$4:$C$102,0),1) -> 32nd | H17: =INDEX(Records!$F$4:$H$102,MATCH(B17,Records!$G$4:$G$102,0),1) -> 58th | Z17: =VLOOKUP(B17,'2018'!$B$3:$F$100,2, FALSE) -> 92 | AA17: =VLOOKUP(B17,'2018'!$B$3:$F$100,3, FALSE) -> 240 | AB17: =VLOOKUP(B17,'2017'!$B$3:$F$100,2, FALSE) -> 129.5 | AC17: =VLOOKUP(B17,'2017'!$B$3:$F$100,3, FALSE) -> 290 | AD17: =VLOOKUP(B17,'2016'!$B$3:$F$100,2, FALSE) -> 136 | AE17: =VLOOKUP(B17,'2016'!$B$3:$F$100,3, FALSE) -> 290 | AF17: =VLOOKUP(B17,'2015'!$B$3:$F$100,2, FALSE) -> 173.5 | AG17: =VLOOKUP(B17,'2015'!$B$3:$F$100,3, FALSE) -> 350
A18: 14 | B18: Curran, Kevin | C18: =J18+L18+N18+P18+R18+T18+V18+X18+Z18+AB18+AD18+AF18 -> 1711.5 | D18: =K18+M18+O18+Q18+S18+U18+W18+Y18+AA18+AC18+AE18+AG18 -> 3455 | E18: =C18/D18 -> 0.49536903 | F18: =COUNT(J18:AAM18)/2 -> 12 | G18: =INDEX(Records!$B$4:$D$102,MATCH(B18,Records!$C$4:$C$102,0),1) -> 3rd | H18: =INDEX(Records!$F$4:$H$102,MATCH(B18,Records!$G$4:$G$102,0),1) -> 15th | J18: =VLOOKUP(B18,'2026'!$B$3:$F$92,2, FALSE) -> 97 | K18: =VLOOKUP(B18,'2026'!$B$3:$F$92,3, FALSE) -> 180 | L18: =VLOOKUP(B18,'2025'!$B$3:$F$100,2, FALSE) -> 141 | M18: =VLOOKUP(B18,'2025'!$B$3:$F$100,3, FALSE) -> 285 | N18: =VLOOKUP(B18,'2024'!$B$3:$F$100,2, FALSE) -> 148 | O18: =VLOOKUP(B18,'2024'!$B$3:$F$100,3, FALSE) -> 310 | P18: =VLOOKUP(B18,'2023'!$B$3:$F$100,2, FALSE) -> 161.5 | Q18: =VLOOKUP(B18,'2023'!$B$3:$F$100,3, FALSE) -> 290 | R18: =VLOOKUP(B18,'2022'!$B$3:$F$100,2, FALSE) -> 141.5 | S18: =VLOOKUP(B18,'2022'!$B$3:$F$100,3, FALSE) -> 290 | T18: =VLOOKUP(B18,'2021'!$B$3:$F$100,2, FALSE) -> 141.5 | U18: =VLOOKUP(B18,'2021'!$B$3:$F$100,3, FALSE) -> 288 | V18: =VLOOKUP(B18,'2020'!$B$3:$F$100,2, FALSE) -> 145 | W18: =VLOOKUP(B18,'2020'!$B$3:$F$100,3, FALSE) -> 292 | X18: =VLOOKUP(B18,'2019'!$B$3:$F$100,2, FALSE) -> 138.5 | Y18: =VLOOKUP(B18,'2019'!$B$3:$F$100,3, FALSE) -> 300 | Z18: =VLOOKUP(B18,'2018'!$B$3:$F$100,2, FALSE) -> 138.5 | AA18: =VLOOKUP(B18,'2018'!$B$3:$F$100,3, FALSE) -> 290 | AB18: =VLOOKUP(B18,'2017'!$B$3:$F$100,2, FALSE) -> 144.5 | AC18: =VLOOKUP(B18,'2017'!$B$3:$F$100,3, FALSE) -> 290 | AD18: =VLOOKUP(B18,'2016'!$B$3:$F$100,2, FALSE) -> 137 | AE18: =VLOOKUP(B18,'2016'!$B$3:$F$100,3, FALSE) -> 290 | AF18: =VLOOKUP(B18,'2015'!$B$3:$F$100,2, FALSE) -> 177.5 | AG18: =VLOOKUP(B18,'2015'!$B$3:$F$100,3, FALSE) -> 350
A19: 15 | B19: Curran, Taylor | C19: =J19+L19+N19+P19+R19+T19+V19+X19+Z19+AB19+AD19+AF19 -> 1410.5 | D19: =K19+M19+O19+Q19+S19+U19+W19+Y19+AA19+AC19+AE19+AG19 -> 2815 | E19: =C19/D19 -> 0.50106572 | F19: =COUNT(J19:AAM19)/2 -> 10 | G19: =INDEX(Records!$B$4:$D$102,MATCH(B19,Records!$C$4:$C$102,0),1) -> 11th | H19: =INDEX(Records!$F$4:$H$102,MATCH(B19,Records!$G$4:$G$102,0),1) -> 9th | J19: =VLOOKUP(B19,'2026'!$B$3:$F$92,2, FALSE) -> 87 | K19: =VLOOKUP(B19,'2026'!$B$3:$F$92,3, FALSE) -> 180 | L19: =VLOOKUP(B19,'2025'!$B$3:$F$100,2, FALSE) -> 132 | M19: =VLOOKUP(B19,'2025'!$B$3:$F$100,3, FALSE) -> 285 | N19: =VLOOKUP(B19,'2024'!$B$3:$F$100,2, FALSE) -> 149 | O19: =VLOOKUP(B19,'2024'!$B$3:$F$100,3, FALSE) -> 310 | P19: =VLOOKUP(B19,'2023'!$B$3:$F$100,2, FALSE) -> 154.5 | Q19: =VLOOKUP(B19,'2023'!$B$3:$F$100,3, FALSE) -> 290 | R19: =VLOOKUP(B19,'2022'!$B$3:$F$100,2, FALSE) -> 146.5 | S19: =VLOOKUP(B19,'2022'!$B$3:$F$100,3, FALSE) -> 290 | T19: =VLOOKUP(B19,'2021'!$B$3:$F$100,2, FALSE) -> 152.5 | U19: =VLOOKUP(B19,'2021'!$B$3:$F$100,3, FALSE) -> 288 | V19: =VLOOKUP(B19,'2020'!$B$3:$F$100,2, FALSE) -> 143 | W19: =VLOOKUP(B19,'2020'!$B$3:$F$100,3, FALSE) -> 292 | X19: =VLOOKUP(B19,'2019'!$B$3:$F$100,2, FALSE) -> 154.5 | Y19: =VLOOKUP(B19,'2019'!$B$3:$F$100,3, FALSE) -> 300 | AB19: =VLOOKUP(B19,'2017'!$B$3:$F$100,2, FALSE) -> 146.5 | AC19: =VLOOKUP(B19,'2017'!$B$3:$F$100,3, FALSE) -> 290 | AD19: =VLOOKUP(B19,'2016'!$B$3:$F$100,2, FALSE) -> 145 | AE19: =VLOOKUP(B19,'2016'!$B$3:$F$100,3, FALSE) -> 290
A20: 16 | B20: Easley, Jordan | C20: =J20+L20+N20+P20+R20+T20+V20+X20+Z20+AB20+AD20+AF20 -> 1185.5 | D20: =K20+M20+O20+Q20+S20+U20+W20+Y20+AA20+AC20+AE20+AG20 -> 2419 | E20: =C20/D20 -> 0.49007854 | F20: =COUNT(J20:AAM20)/2 -> 9 | G20: =INDEX(Records!$B$4:$D$102,MATCH(B20,Records!$C$4:$C$102,0),1) -> 20th | H20: =INDEX(Records!$F$4:$H$102,MATCH(B20,Records!$G$4:$G$102,0),1) -> 25th | J20: =VLOOKUP(B20,'2026'!$B$3:$F$92,2, FALSE) -> 91 | K20: =VLOOKUP(B20,'2026'!$B$3:$F$92,3, FALSE) -> 180 | L20: =VLOOKUP(B20,'2025'!$B$3:$F$100,2, FALSE) -> 65.5 | M20: =VLOOKUP(B20,'2025'!$B$3:$F$100,3, FALSE) -> 139 | P20: =VLOOKUP(B20,'2023'!$B$3:$F$100,2, FALSE) -> 152.5 | Q20: =VLOOKUP(B20,'2023'!$B$3:$F$100,3, FALSE) -> 290 | R20: =VLOOKUP(B20,'2022'!$B$3:$F$100,2, FALSE) -> 144.5 | S20: =VLOOKUP(B20,'2022'!$B$3:$F$100,3, FALSE) -> 290 | T20: =VLOOKUP(B20,'2021'!$B$3:$F$100,2, FALSE) -> 152.5 | U20: =VLOOKUP(B20,'2021'!$B$3:$F$100,3, FALSE) -> 288 | V20: =VLOOKUP(B20,'2020'!$B$3:$F$100,2, FALSE) -> 142 | W20: =VLOOKUP(B20,'2020'!$B$3:$F$100,3, FALSE) -> 292 | X20: =VLOOKUP(B20,'2019'!$B$3:$F$100,2, FALSE) -> 125.5 | Y20: =VLOOKUP(B20,'2019'!$B$3:$F$100,3, FALSE) -> 300 | AB20: =VLOOKUP(B20,'2017'!$B$3:$F$100,2, FALSE) -> 134.5 | AC20: =VLOOKUP(B20,'2017'!$B$3:$F$100,3, FALSE) -> 290 | AF20: =VLOOKUP(B20,'2015'!$B$3:$F$100,2, FALSE) -> 177.5 | AG20: =VLOOKUP(B20,'2015'!$B$3:$F$100,3, FALSE) -> 350
A21: 17 | B21: Folmar, James | C21: =J21+L21+N21+P21+R21+T21+V21+X21+Z21+AB21+AD21+AF21 -> 1314 | D21: =K21+M21+O21+Q21+S21+U21+W21+Y21+AA21+AC21+AE21+AG21 -> 2735 | E21: =C21/D21 -> 0.48043876 | F21: =COUNT(J21:AAM21)/2 -> 10 | G21: =INDEX(Records!$B$4:$D$102,MATCH(B21,Records!$C$4:$C$102,0),1) -> 14th | H21: =INDEX(Records!$F$4:$H$102,MATCH(B21,Records!$G$4:$G$102,0),1) -> 40th | J21: =VLOOKUP(B21,'2026'!$B$3:$F$92,2, FALSE) -> 80 | K21: =VLOOKUP(B21,'2026'!$B$3:$F$92,3, FALSE) -> 180 | L21: =VLOOKUP(B21,'2025'!$B$3:$F$100,2, FALSE) -> 128 | M21: =VLOOKUP(B21,'2025'!$B$3:$F$100,3, FALSE) -> 285 | N21: =VLOOKUP(B21,'2024'!$B$3:$F$100,2, FALSE) -> 153 | O21: =VLOOKUP(B21,'2024'!$B$3:$F$100,3, FALSE) -> 310 | P21: =VLOOKUP(B21,'2023'!$B$3:$F$100,2, FALSE) -> 136.5 | Q21: =VLOOKUP(B21,'2023'!$B$3:$F$100,3, FALSE) -> 290 | R21: =VLOOKUP(B21,'2022'!$B$3:$F$100,2, FALSE) -> 134.5 | S21: =VLOOKUP(B21,'2022'!$B$3:$F$100,3, FALSE) -> 290 | T21: =VLOOKUP(B21,'2021'!$B$3:$F$100,2, FALSE) -> 134.5 | U21: =VLOOKUP(B21,'2021'!$B$3:$F$100,3, FALSE) -> 288 | V21: =VLOOKUP(B21,'2020'!$B$3:$F$100,2, FALSE) -> 149 | W21: =VLOOKUP(B21,'2020'!$B$3:$F$100,3, FALSE) -> 292 | X21: =VLOOKUP(B21,'2019'!$B$3:$F$100,2, FALSE) -> 166.5 | Y21: =VLOOKUP(B21,'2019'!$B$3:$F$100,3, FALSE) -> 300 | Z21: =VLOOKUP(B21,'2018'!$B$3:$F$100,2, FALSE) -> 129.5 | AA21: =VLOOKUP(B21,'2018'!$B$3:$F$100,3, FALSE) -> 290 | AB21: =VLOOKUP(B21,'2017'!$B$3:$F$100,2, FALSE) -> 102.5 | AC21: =VLOOKUP(B21,'2017'!$B$3:$F$100,3, FALSE) -> 210
A22: 18 | B22: Fortner, Eric | C22: =J22+L22+N22+P22+R22+T22+V22+X22+Z22+AB22+AD22+AF22 -> 487 | D22: =K22+M22+O22+Q22+S22+U22+W22+Y22+AA22+AC22+AE22+AG22 -> 1019 | E22: =C22/D22 -> 0.47791953 | F22: =COUNT(J22:AAM22)/2 -> 4 | G22: =INDEX(Records!$B$4:$D$102,MATCH(B22,Records!$C$4:$C$102,0),1) -> 35th-T | H22: =INDEX(Records!$F$4:$H$102,MATCH(B22,Records!$G$4:$G$102,0),1) -> 44th | J22: =VLOOKUP(B22,'2026'!$B$3:$F$92,2, FALSE) -> 98 | K22: =VLOOKUP(B22,'2026'!$B$3:$F$92,3, FALSE) -> 180 | AB22: =VLOOKUP(B22,'2017'!$B$3:$F$100,2, FALSE) -> 134.5 | AC22: =VLOOKUP(B22,'2017'!$B$3:$F$100,3, FALSE) -> 290 | AD22: =VLOOKUP(B22,'2016'!$B$3:$F$100,2, FALSE) -> 77 | AE22: =VLOOKUP(B22,'2016'!$B$3:$F$100,3, FALSE) -> 199 | AF22: =VLOOKUP(B22,'2015'!$B$3:$F$100,2, FALSE) -> 177.5 | AG22: =VLOOKUP(B22,'2015'!$B$3:$F$100,3, FALSE) -> 350
A23: 19 | B23: Fortner, Glenn | C23: =J23+L23+N23+P23+R23+T23+V23+X23+Z23+AB23+AD23+AF23 -> 1303 | D23: =K23+M23+O23+Q23+S23+U23+W23+Y23+AA23+AC23+AE23+AG23 -> 2640 | E23: =C23/D23 -> 0.49356061 | F23: =COUNT(J23:AAM23)/2 -> 9 | G23: =INDEX(Records!$B$4:$D$102,MATCH(B23,Records!$C$4:$C$102,0),1) -> 15th | H23: =INDEX(Records!$F$4:$H$102,MATCH(B23,Records!$G$4:$G$102,0),1) -> 19th | N23: =VLOOKUP(B23,'2024'!$B$3:$F$100,2, FALSE) -> 157 | O23: =VLOOKUP(B23,'2024'!$B$3:$F$100,3, FALSE) -> 310 | P23: =VLOOKUP(B23,'2023'!$B$3:$F$100,2, FALSE) -> 147.5 | Q23: =VLOOKUP(B23,'2023'!$B$3:$F$100,3, FALSE) -> 290 | R23: =VLOOKUP(B23,'2022'!$B$3:$F$100,2, FALSE) -> 137.5 | S23: =VLOOKUP(B23,'2022'!$B$3:$F$100,3, FALSE) -> 290 | T23: =VLOOKUP(B23,'2021'!$B$3:$F$100,2, FALSE) -> 144.5 | U23: =VLOOKUP(B23,'2021'!$B$3:$F$100,3, FALSE) -> 288 | V23: =VLOOKUP(B23,'2020'!$B$3:$F$100,2, FALSE) -> 136 | W23: =VLOOKUP(B23,'2020'!$B$3:$F$100,3, FALSE) -> 292 | X23: =VLOOKUP(B23,'2019'!$B$3:$F$100,2, FALSE) -> 147.5 | Y23: =VLOOKUP(B23,'2019'!$B$3:$F$100,3, FALSE) -> 300 | Z23: =VLOOKUP(B23,'2018'!$B$3:$F$100,2, FALSE) -> 142.5 | AA23: =VLOOKUP(B23,'2018'!$B$3:$F$100,3, FALSE) -> 290 | AB23: =VLOOKUP(B23,'2017'!$B$3:$F$100,2, FALSE) -> 149.5 | AC23: =VLOOKUP(B23,'2017'!$B$3:$F$100,3, FALSE) -> 290 | AD23: =VLOOKUP(B23,'2016'!$B$3:$F$100,2, FALSE) -> 141 | AE23: =VLOOKUP(B23,'2016'!$B$3:$F$100,3, FALSE) -> 290
A24: 20 | B24: Fortner, Jason | C24: =J24+L24+N24+P24+R24+T24+V24+X24+Z24+AB24+AD24+AF24 -> 1505 | D24: =K24+M24+O24+Q24+S24+U24+W24+Y24+AA24+AC24+AE24+AG24 -> 3105 | E24: =C24/D24 -> 0.48470209 | F24: =COUNT(J24:AAM24)/2 -> 11 | G24: =INDEX(Records!$B$4:$D$102,MATCH(B24,Records!$C$4:$C$102,0),1) -> 10th | H24: =INDEX(Records!$F$4:$H$102,MATCH(B24,Records!$G$4:$G$102,0),1) -> 33rd | J24: =VLOOKUP(B24,'2026'!$B$3:$F$92,2, FALSE) -> 81 | K24: =VLOOKUP(B24,'2026'!$B$3:$F$92,3, FALSE) -> 180 | L24: =VLOOKUP(B24,'2025'!$B$3:$F$100,2, FALSE) -> 133 | M24: =VLOOKUP(B24,'2025'!$B$3:$F$100,3, FALSE) -> 285 | N24: =VLOOKUP(B24,'2024'!$B$3:$F$100,2, FALSE) -> 145 | O24: =VLOOKUP(B24,'2024'!$B$3:$F$100,3, FALSE) -> 310 | P24: =VLOOKUP(B24,'2023'!$B$3:$F$100,2, FALSE) -> 151.5 | Q24: =VLOOKUP(B24,'2023'!$B$3:$F$100,3, FALSE) -> 290 | R24: =VLOOKUP(B24,'2022'!$B$3:$F$100,2, FALSE) -> 141.5 | S24: =VLOOKUP(B24,'2022'!$B$3:$F$100,3, FALSE) -> 290 | T24: =VLOOKUP(B24,'2021'!$B$3:$F$100,2, FALSE) -> 144.5 | U24: =VLOOKUP(B24,'2021'!$B$3:$F$100,3, FALSE) -> 288 | V24: =VLOOKUP(B24,'2020'!$B$3:$F$100,2, FALSE) -> 145 | W24: =VLOOKUP(B24,'2020'!$B$3:$F$100,3, FALSE) -> 292 | X24: =VLOOKUP(B24,'2019'!$B$3:$F$100,2, FALSE) -> 154.5 | Y24: =VLOOKUP(B24,'2019'!$B$3:$F$100,3, FALSE) -> 300 | Z24: =VLOOKUP(B24,'2018'!$B$3:$F$100,2, FALSE) -> 131.5 | AA24: =VLOOKUP(B24,'2018'!$B$3:$F$100,3, FALSE) -> 290 | AB24: =VLOOKUP(B24,'2017'!$B$3:$F$100,2, FALSE) -> 147.5 | AC24: =VLOOKUP(B24,'2017'!$B$3:$F$100,3, FALSE) -> 290 | AD24: =VLOOKUP(B24,'2016'!$B$3:$F$100,2, FALSE) -> 130 | AE24: =VLOOKUP(B24,'2016'!$B$3:$F$100,3, FALSE) -> 290
A25: 21 | B25: Fortner, Mara | C25: =J25+L25+N25+P25+R25+T25+V25+X25+Z25+AB25+AD25+AF25 -> 1688.5 | D25: =K25+M25+O25+Q25+S25+U25+W25+Y25+AA25+AC25+AE25+AG25 -> 3455 | E25: =C25/D25 -> 0.48871201 | F25: =COUNT(J25:AAM25)/2 -> 12 | G25: =INDEX(Records!$B$4:$D$102,MATCH(B25,Records!$C$4:$C$102,0),1) -> 5th | H25: =INDEX(Records!$F$4:$H$102,MATCH(B25,Records!$G$4:$G$102,0),1) -> 28th | J25: =VLOOKUP(B25,'2026'!$B$3:$F$92,2, FALSE) -> 82 | K25: =VLOOKUP(B25,'2026'!$B$3:$F$92,3, FALSE) -> 180 | L25: =VLOOKUP(B25,'2025'!$B$3:$F$100,2, FALSE) -> 153 | M25: =VLOOKUP(B25,'2025'!$B$3:$F$100,3, FALSE) -> 285 | N25: =VLOOKUP(B25,'2024'!$B$3:$F$100,2, FALSE) -> 129 | O25: =VLOOKUP(B25,'2024'!$B$3:$F$100,3, FALSE) -> 310 | P25: =VLOOKUP(B25,'2023'!$B$3:$F$100,2, FALSE) -> 144.5 | Q25: =VLOOKUP(B25,'2023'!$B$3:$F$100,3, FALSE) -> 290 | R25: =VLOOKUP(B25,'2022'!$B$3:$F$100,2, FALSE) -> 145.5 | S25: =VLOOKUP(B25,'2022'!$B$3:$F$100,3, FALSE) -> 290 | T25: =VLOOKUP(B25,'2021'!$B$3:$F$100,2, FALSE) -> 130.5 | U25: =VLOOKUP(B25,'2021'!$B$3:$F$100,3, FALSE) -> 288 | V25: =VLOOKUP(B25,'2020'!$B$3:$F$100,2, FALSE) -> 161 | W25: =VLOOKUP(B25,'2020'!$B$3:$F$100,3, FALSE) -> 292 | X25: =VLOOKUP(B25,'2019'!$B$3:$F$100,2, FALSE) -> 140.5 | Y25: =VLOOKUP(B25,'2019'!$B$3:$F$100,3, FALSE) -> 300 | Z25: =VLOOKUP(B25,'2018'!$B$3:$F$100,2, FALSE) -> 124.5 | AA25: =VLOOKUP(B25,'2018'!$B$3:$F$100,3, FALSE) -> 290 | AB25: =VLOOKUP(B25,'2017'!$B$3:$F$100,2, FALSE) -> 144.5 | AC25: =VLOOKUP(B25,'2017'!$B$3:$F$100,3, FALSE) -> 290 | AD25: =VLOOKUP(B25,'2016'!$B$3:$F$100,2, FALSE) -> 150 | AE25: =VLOOKUP(B25,'2016'!$B$3:$F$100,3, FALSE) -> 290 | AF25: =VLOOKUP(B25,'2015'!$B$3:$F$100,2, FALSE) -> 183.5 | AG25: =VLOOKUP(B25,'2015'!$B$3:$F$100,3, FALSE) -> 350
A26: 22 | B26: Greenwood, Douglas | C26: =J26+L26+N26+P26+R26+T26+V26+X26+Z26+AB26+AD26+AF26 -> 1225.5 | D26: =K26+M26+O26+Q26+S26+U26+W26+Y26+AA26+AC26+AE26+AG26 -> 2525 | E26: =C26/D26 -> 0.48534653 | F26: =COUNT(J26:AAM26)/2 -> 9 | G26: =INDEX(Records!$B$4:$D$102,MATCH(B26,Records!$C$4:$C$102,0),1) -> 19th | H26: =INDEX(Records!$F$4:$H$102,MATCH(B26,Records!$G$4:$G$102,0),1) -> 32nd | J26: =VLOOKUP(B26,'2026'!$B$3:$F$92,2, FALSE) -> 86 | K26: =VLOOKUP(B26,'2026'!$B$3:$F$92,3, FALSE) -> 180 | L26: =VLOOKUP(B26,'2025'!$B$3:$F$100,2, FALSE) -> 125 | M26: =VLOOKUP(B26,'2025'!$B$3:$F$100,3, FALSE) -> 285 | N26: =VLOOKUP(B26,'2024'!$B$3:$F$100,2, FALSE) -> 141 | O26: =VLOOKUP(B26,'2024'!$B$3:$F$100,3, FALSE) -> 310 | P26: =VLOOKUP(B26,'2023'!$B$3:$F$100,2, FALSE) -> 155.5 | Q26: =VLOOKUP(B26,'2023'!$B$3:$F$100,3, FALSE) -> 290 | R26: =VLOOKUP(B26,'2022'!$B$3:$F$100,2, FALSE) -> 146.5 | S26: =VLOOKUP(B26,'2022'!$B$3:$F$100,3, FALSE) -> 290 | T26: =VLOOKUP(B26,'2021'!$B$3:$F$100,2, FALSE) -> 158.5 | U26: =VLOOKUP(B26,'2021'!$B$3:$F$100,3, FALSE) -> 288 | V26: =VLOOKUP(B26,'2020'!$B$3:$F$100,2, FALSE) -> 135 | W26: =VLOOKUP(B26,'2020'!$B$3:$F$100,3, FALSE) -> 292 | X26: =VLOOKUP(B26,'2019'!$B$3:$F$100,2, FALSE) -> 143.5 | Y26: =VLOOKUP(B26,'2019'!$B$3:$F$100,3, FALSE) -> 300 | Z26: =VLOOKUP(B26,'2018'!$B$3:$F$100,2, FALSE) -> 134.5 | AA26: =VLOOKUP(B26,'2018'!$B$3:$F$100,3, FALSE) -> 290
A27: 23 | B27: Greenwood, Nathan | C27: =J27+L27+N27+P27+R27+T27+V27+X27+Z27+AB27+AD27+AF27 -> 691 | D27: =K27+M27+O27+Q27+S27+U27+W27+Y27+AA27+AC27+AE27+AG27 -> 1355 | E27: =C27/D27 -> 0.5099631 | F27: =COUNT(J27:AAM27)/2 -> 5 | G27: =INDEX(Records!$B$4:$D$102,MATCH(B27,Records!$C$4:$C$102,0),1) -> 26th | H27: =INDEX(Records!$F$4:$H$102,MATCH(B27,Records!$G$4:$G$102,0),1) -> 3rd | J27: =VLOOKUP(B27,'2026'!$B$3:$F$92,2, FALSE) -> 91 | K27: =VLOOKUP(B27,'2026'!$B$3:$F$92,3, FALSE) -> 180 | L27: =VLOOKUP(B27,'2025'!$B$3:$F$100,2, FALSE) -> 145 | M27: =VLOOKUP(B27,'2025'!$B$3:$F$100,3, FALSE) -> 285 | N27: =VLOOKUP(B27,'2024'!$B$3:$F$100,2, FALSE) -> 153 | O27: =VLOOKUP(B27,'2024'!$B$3:$F$100,3, FALSE) -> 310 | P27: =VLOOKUP(B27,'2023'!$B$3:$F$100,2, FALSE) -> 151.5 | Q27: =VLOOKUP(B27,'2023'!$B$3:$F$100,3, FALSE) -> 290 | R27: =VLOOKUP(B27,'2022'!$B$3:$F$100,2, FALSE) -> 150.5 | S27: =VLOOKUP(B27,'2022'!$B$3:$F$100,3, FALSE) -> 290
A28: 24 | B28: Hamilton, Hunter | C28: =J28+L28+N28+P28+R28+T28+V28+X28+Z28+AB28+AD28+AF28 -> 550.5 | D28: =K28+M28+O28+Q28+S28+U28+W28+Y28+AA28+AC28+AE28+AG28 -> 1065 | E28: =C28/D28 -> 0.51690141 | F28: =COUNT(J28:AAM28)/2 -> 4 | G28: =INDEX(Records!$B$4:$D$102,MATCH(B28,Records!$C$4:$C$102,0),1) -> 31st | H28: =INDEX(Records!$F$4:$H$102,MATCH(B28,Records!$G$4:$G$102,0),1) -> 2nd | J28: =VLOOKUP(B28,'2026'!$B$3:$F$92,2, FALSE) -> 87 | K28: =VLOOKUP(B28,'2026'!$B$3:$F$92,3, FALSE) -> 180 | L28: =VLOOKUP(B28,'2025'!$B$3:$F$100,2, FALSE) -> 145 | M28: =VLOOKUP(B28,'2025'!$B$3:$F$100,3, FALSE) -> 285 | N28: =VLOOKUP(B28,'2024'!$B$3:$F$100,2, FALSE) -> 154 | O28: =VLOOKUP(B28,'2024'!$B$3:$F$100,3, FALSE) -> 310 | P28: =VLOOKUP(B28,'2023'!$B$3:$F$100,2, FALSE) -> 164.5 | Q28: =VLOOKUP(B28,'2023'!$B$3:$F$100,3, FALSE) -> 290
A29: 25 | B29: Harper, Kenneth | C29: =J29+L29+N29+P29+R29+T29+V29+X29+Z29+AB29+AD29+AF29 -> 627 | D29: =K29+M29+O29+Q29+S29+U29+W29+Y29+AA29+AC29+AE29+AG29 -> 1315 | E29: =C29/D29 -> 0.47680608 | F29: =COUNT(J29:AAM29)/2 -> 5 | G29: =INDEX(Records!$B$4:$D$102,MATCH(B29,Records!$C$4:$C$102,0),1) -> 30th | H29: =INDEX(Records!$F$4:$H$102,MATCH(B29,Records!$G$4:$G$102,0),1) -> 46th | J29: =VLOOKUP(B29,'2026'!$B$3:$F$92,2, FALSE) -> 85 | K29: =VLOOKUP(B29,'2026'!$B$3:$F$92,3, FALSE) -> 180 | L29: =VLOOKUP(B29,'2025'!$B$3:$F$100,2, FALSE) -> 122 | M29: =VLOOKUP(B29,'2025'!$B$3:$F$100,3, FALSE) -> 285 | N29: =VLOOKUP(B29,'2024'!$B$3:$F$100,2, FALSE) -> 136 | O29: =VLOOKUP(B29,'2024'!$B$3:$F$100,3, FALSE) -> 270 | P29: =VLOOKUP(B29,'2023'!$B$3:$F$100,2, FALSE) -> 155.5 | Q29: =VLOOKUP(B29,'2023'!$B$3:$F$100,3, FALSE) -> 290 | R29: =VLOOKUP(B29,'2022'!$B$3:$F$100,2, FALSE) -> 128.5 | S29: =VLOOKUP(B29,'2022'!$B$3:$F$100,3, FALSE) -> 290
A30: 26 | B30: Honeycutt, Terry | C30: =J30+L30+N30+P30+R30+T30+V30+X30+Z30+AB30+AD30+AF30 -> 668.5 | D30: =K30+M30+O30+Q30+S30+U30+W30+Y30+AA30+AC30+AE30+AG30 -> 1333 | E30: =C30/D30 -> 0.50150038 | F30: =COUNT(J30:AAM30)/2 -> 5 | G30: =INDEX(Records!$B$4:$D$102,MATCH(B30,Records!$C$4:$C$102,0),1) -> 27th | H30: =INDEX(Records!$F$4:$H$102,MATCH(B30,Records!$G$4:$G$102,0),1) -> 8th | J30: =VLOOKUP(B30,'2026'!$B$3:$F$92,2, FALSE) -> 87 | K30: =VLOOKUP(B30,'2026'!$B$3:$F$92,3, FALSE) -> 180 | L30: =VLOOKUP(B30,'2025'!$B$3:$F$100,2, FALSE) -> 140 | M30: =VLOOKUP(B30,'2025'!$B$3:$F$100,3, FALSE) -> 285 | P30: =VLOOKUP(B30,'2023'!$B$3:$F$100,2, FALSE) -> 144.5 | Q30: =VLOOKUP(B30,'2023'!$B$3:$F$100,3, FALSE) -> 290 | R30: =VLOOKUP(B30,'2022'!$B$3:$F$100,2, FALSE) -> 146.5 | S30: =VLOOKUP(B30,'2022'!$B$3:$F$100,3, FALSE) -> 290 | T30: =VLOOKUP(B30,'2021'!$B$3:$F$100,2, FALSE) -> 150.5 | U30: =VLOOKUP(B30,'2021'!$B$3:$F$100,3, FALSE) -> 288
A31: 27 | B31: Howard, Bill | C31: =J31+L31+N31+P31+R31+T31+V31+X31+Z31+AB31+AD31+AF31 -> 712 | D31: =K31+M31+O31+Q31+S31+U31+W31+Y31+AA31+AC31+AE31+AG31 -> 1520 | E31: =C31/D31 -> 0.46842105 | F31: =COUNT(J31:AAM31)/2 -> 5 | G31: =INDEX(Records!$B$4:$D$102,MATCH(B31,Records!$C$4:$C$102,0),1) -> 25th | H31: =INDEX(Records!$F$4:$H$102,MATCH(B31,Records!$G$4:$G$102,0),1) -> 49th | X31: =VLOOKUP(B31,'2019'!$B$3:$F$100,2, FALSE) -> 157.5 | Y31: =VLOOKUP(B31,'2019'!$B$3:$F$100,3, FALSE) -> 300 | Z31: =VLOOKUP(B31,'2018'!$B$3:$F$100,2, FALSE) -> 131.5 | AA31: =VLOOKUP(B31,'2018'!$B$3:$F$100,3, FALSE) -> 290 | AB31: =VLOOKUP(B31,'2017'!$B$3:$F$100,2, FALSE) -> 111.5 | AC31: =VLOOKUP(B31,'2017'!$B$3:$F$100,3, FALSE) -> 290 | AD31: =VLOOKUP(B31,'2016'!$B$3:$F$100,2, FALSE) -> 130 | AE31: =VLOOKUP(B31,'2016'!$B$3:$F$100,3, FALSE) -> 290 | AF31: =VLOOKUP(B31,'2015'!$B$3:$F$100,2, FALSE) -> 181.5 | AG31: =VLOOKUP(B31,'2015'!$B$3:$F$100,3, FALSE) -> 350
A32: 28 | B32: Kraus, Will | C32: =J32+L32+N32+P32+R32+T32+V32+X32+Z32+AB32+AD32+AF32 -> 153.5 | D32: =K32+M32+O32+Q32+S32+U32+W32+Y32+AA32+AC32+AE32+AG32 -> 404 | E32: =C32/D32 -> 0.3799505 | F32: =COUNT(J32:AAM32)/2 -> 2 | G32: =INDEX(Records!$B$4:$D$102,MATCH(B32,Records!$C$4:$C$102,0),1) -> 56th | H32: =INDEX(Records!$F$4:$H$102,MATCH(B32,Records!$G$4:$G$102,0),1) -> 70th | J32: =VLOOKUP(B32,'2026'!$B$3:$F$92,2, FALSE) -> 40.5 | K32: =VLOOKUP(B32,'2026'!$B$3:$F$92,3, FALSE) -> 140 | N32: =VLOOKUP(B32,'2024'!$B$3:$F$100,2, FALSE) -> 113 | O32: =VLOOKUP(B32,'2024'!$B$3:$F$100,3, FALSE) -> 264
A33: 29 | B33: Mackey, Doyle | C33: =J33+L33+N33+P33+R33+T33+V33+X33+Z33+AB33+AD33+AF33 -> 726 | D33: =K33+M33+O33+Q33+S33+U33+W33+Y33+AA33+AC33+AE33+AG33 -> 1550 | E33: =C33/D33 -> 0.4683871 | F33: =COUNT(J33:AAM33)/2 -> 6 | G33: =INDEX(Records!$B$4:$D$102,MATCH(B33,Records!$C$4:$C$102,0),1) -> 24th | H33: =INDEX(Records!$F$4:$H$102,MATCH(B33,Records!$G$4:$G$102,0),1) -> 50th | P33: =VLOOKUP(B33,'2023'!$B$3:$F$100,2, FALSE) -> 144.5 | Q33: =VLOOKUP(B33,'2023'!$B$3:$F$100,3, FALSE) -> 290 | R33: =VLOOKUP(B33,'2022'!$B$3:$F$100,2, FALSE) -> 128.5 | S33: =VLOOKUP(B33,'2022'!$B$3:$F$100,3, FALSE) -> 290 | T33: =VLOOKUP(B33,'2021'!$B$3:$F$100,2, FALSE) -> 146.5 | U33: =VLOOKUP(B33,'2021'!$B$3:$F$100,3, FALSE) -> 288 | V33: =VLOOKUP(B33,'2020'!$B$3:$F$100,2, FALSE) -> 121 | W33: =VLOOKUP(B33,'2020'!$B$3:$F$100,3, FALSE) -> 292 | X33: =VLOOKUP(B33,'2019'!$B$3:$F$100,2, FALSE) -> 148.5 | Y33: =VLOOKUP(B33,'2019'!$B$3:$F$100,3, FALSE) -> 300 | AB33: =VLOOKUP(B33,'2017'!$B$3:$F$100,2, FALSE) -> 37 | AC33: =VLOOKUP(B33,'2017'!$B$3:$F$100,3, FALSE) -> 90
A34: 30 | B34: Manuel, Greg | C34: =J34+L34+N34+P34+R34+T34+V34+X34+Z34+AB34+AD34+AF34 -> 857.5 | D34: =K34+M34+O34+Q34+S34+U34+W34+Y34+AA34+AC34+AE34+AG34 -> 1755 | E34: =C34/D34 -> 0.48860399 | F34: =COUNT(J34:AAM34)/2 -> 6 | G34: =INDEX(Records!$B$4:$D$102,MATCH(B34,Records!$C$4:$C$102,0),1) -> 22nd | H34: =INDEX(Records!$F$4:$H$102,MATCH(B34,Records!$G$4:$G$102,0),1) -> 29th | L34: =VLOOKUP(B34,'2025'!$B$3:$F$100,2, FALSE) -> 133 | M34: =VLOOKUP(B34,'2025'!$B$3:$F$100,3, FALSE) -> 285 | N34: =VLOOKUP(B34,'2024'!$B$3:$F$100,2, FALSE) -> 154 | O34: =VLOOKUP(B34,'2024'!$B$3:$F$100,3, FALSE) -> 310 | P34: =VLOOKUP(B34,'2023'!$B$3:$F$100,2, FALSE) -> 146.5 | Q34: =VLOOKUP(B34,'2023'!$B$3:$F$100,3, FALSE) -> 290 | R34: =VLOOKUP(B34,'2022'!$B$3:$F$100,2, FALSE) -> 142.5 | S34: =VLOOKUP(B34,'2022'!$B$3:$F$100,3, FALSE) -> 290 | T34: =VLOOKUP(B34,'2021'!$B$3:$F$100,2, FALSE) -> 140.5 | U34: =VLOOKUP(B34,'2021'!$B$3:$F$100,3, FALSE) -> 288 | V34: =VLOOKUP(B34,'2020'!$B$3:$F$100,2, FALSE) -> 141 | W34: =VLOOKUP(B34,'2020'!$B$3:$F$100,3, FALSE) -> 292
A35: 31 | B35: Mattson, Nick | C35: =J35+L35+N35+P35+R35+T35+V35+X35+Z35+AB35+AD35+AF35 -> 222 | D35: =K35+M35+O35+Q35+S35+U35+W35+Y35+AA35+AC35+AE35+AG35 -> 465 | E35: =C35/D35 -> 0.47741935 | F35: =COUNT(J35:AAM35)/2 -> 2 | G35: =INDEX(Records!$B$4:$D$102,MATCH(B35,Records!$C$4:$C$102,0),1) -> 49th | H35: =INDEX(Records!$F$4:$H$102,MATCH(B35,Records!$G$4:$G$102,0),1) -> 45th | J35: =VLOOKUP(B35,'2026'!$B$3:$F$92,2, FALSE) -> 92 | K35: =VLOOKUP(B35,'2026'!$B$3:$F$92,3, FALSE) -> 180 | L35: =VLOOKUP(B35,'2025'!$B$3:$F$100,2, FALSE) -> 130 | M35: =VLOOKUP(B35,'2025'!$B$3:$F$100,3, FALSE) -> 285
A36: 32 | B36: McMullen, Dan | C36: =J36+L36+N36+P36+R36+T36+V36+X36+Z36+AB36+AD36+AF36 -> 171.5 | D36: =K36+M36+O36+Q36+S36+U36+W36+Y36+AA36+AC36+AE36+AG36 -> 350 | E36: =C36/D36 -> 0.49 | F36: =COUNT(J36:AAM36)/2 -> 1 | G36: =INDEX(Records!$B$4:$D$102,MATCH(B36,Records!$C$4:$C$102,0),1) -> 53rd | H36: =INDEX(Records!$F$4:$H$102,MATCH(B36,Records!$G$4:$G$102,0),1) -> 26th | AF36: =VLOOKUP(B36,'2015'!$B$3:$F$100,2, FALSE) -> 171.5 | AG36: =VLOOKUP(B36,'2015'!$B$3:$F$100,3, FALSE) -> 350
A37: 33 | B37: Meyer, Austen | C37: =J37+L37+N37+P37+R37+T37+V37+X37+Z37+AB37+AD37+AF37 -> 1276 | D37: =K37+M37+O37+Q37+S37+U37+W37+Y37+AA37+AC37+AE37+AG37 -> 2665 | E37: =C37/D37 -> 0.47879925 | F37: =COUNT(J37:AAM37)/2 -> 10 | G37: =INDEX(Records!$B$4:$D$102,MATCH(B37,Records!$C$4:$C$102,0),1) -> 16th | H37: =INDEX(Records!$F$4:$H$102,MATCH(B37,Records!$G$4:$G$102,0),1) -> 43rd | J37: =VLOOKUP(B37,'2026'!$B$3:$F$92,2, FALSE) -> 89 | K37: =VLOOKUP(B37,'2026'!$B$3:$F$92,3, FALSE) -> 180 | L37: =VLOOKUP(B37,'2025'!$B$3:$F$100,2, FALSE) -> 148 | M37: =VLOOKUP(B37,'2025'!$B$3:$F$100,3, FALSE) -> 285 | N37: =VLOOKUP(B37,'2024'!$B$3:$F$100,2, FALSE) -> 151 | O37: =VLOOKUP(B37,'2024'!$B$3:$F$100,3, FALSE) -> 310 | P37: =VLOOKUP(B37,'2023'!$B$3:$F$100,2, FALSE) -> 145.5 | Q37: =VLOOKUP(B37,'2023'!$B$3:$F$100,3, FALSE) -> 290 | R37: =VLOOKUP(B37,'2022'!$B$3:$F$100,2, FALSE) -> 132.5 | S37: =VLOOKUP(B37,'2022'!$B$3:$F$100,3, FALSE) -> 290 | T37: =VLOOKUP(B37,'2021'!$B$3:$F$100,2, FALSE) -> 125.5 | U37: =VLOOKUP(B37,'2021'!$B$3:$F$100,3, FALSE) -> 288 | V37: =VLOOKUP(B37,'2020'!$B$3:$F$100,2, FALSE) -> 159 | W37: =VLOOKUP(B37,'2020'!$B$3:$F$100,3, FALSE) -> 292 | AB37: =VLOOKUP(B37,'2017'!$B$3:$F$100,2, FALSE) -> 138.5 | AC37: =VLOOKUP(B37,'2017'!$B$3:$F$100,3, FALSE) -> 290 | AD37: =VLOOKUP(B37,'2016'!$B$3:$F$100,2, FALSE) -> 138 | AE37: =VLOOKUP(B37,'2016'!$B$3:$F$100,3, FALSE) -> 290 | AF37: =VLOOKUP(B37,'2015'!$B$3:$F$100,2, FALSE) -> 49 | AG37: =VLOOKUP(B37,'2015'!$B$3:$F$100,3, FALSE) -> 150
A38: 34 | B38: Meyer, Brennan | C38: =J38+L38+N38+P38+R38+T38+V38+X38+Z38+AB38+AD38+AF38 -> 140.5 | D38: =K38+M38+O38+Q38+S38+U38+W38+Y38+AA38+AC38+AE38+AG38 -> 288 | E38: =C38/D38 -> 0.48784722 | F38: =COUNT(J38:AAM38)/2 -> 1 | G38: =INDEX(Records!$B$4:$D$102,MATCH(B38,Records!$C$4:$C$102,0),1) -> 60th-T | H38: =INDEX(Records!$F$4:$H$102,MATCH(B38,Records!$G$4:$G$102,0),1) -> 31st | T38: =VLOOKUP(B38,'2021'!$B$3:$F$100,2, FALSE) -> 140.5 | U38: =VLOOKUP(B38,'2021'!$B$3:$F$100,3, FALSE) -> 288
A39: 35 | B39: Meyer, Dave | C39: =J39+L39+N39+P39+R39+T39+V39+X39+Z39+AB39+AD39+AF39 -> 1391 | D39: =K39+M39+O39+Q39+S39+U39+W39+Y39+AA39+AC39+AE39+AG39 -> 2777 | E39: =C39/D39 -> 0.50090025 | F39: =COUNT(J39:AAM39)/2 -> 10 | G39: =INDEX(Records!$B$4:$D$102,MATCH(B39,Records!$C$4:$C$102,0),1) -> 12th | H39: =INDEX(Records!$F$4:$H$102,MATCH(B39,Records!$G$4:$G$102,0),1) -> 10th | J39: =VLOOKUP(B39,'2026'!$B$3:$F$92,2, FALSE) -> 86 | K39: =VLOOKUP(B39,'2026'!$B$3:$F$92,3, FALSE) -> 180 | L39: =VLOOKUP(B39,'2025'!$B$3:$F$100,2, FALSE) -> 135 | M39: =VLOOKUP(B39,'2025'!$B$3:$F$100,3, FALSE) -> 285 | N39: =VLOOKUP(B39,'2024'!$B$3:$F$100,2, FALSE) -> 148 | O39: =VLOOKUP(B39,'2024'!$B$3:$F$100,3, FALSE) -> 310 | P39: =VLOOKUP(B39,'2023'!$B$3:$F$100,2, FALSE) -> 147.5 | Q39: =VLOOKUP(B39,'2023'!$B$3:$F$100,3, FALSE) -> 290 | R39: =VLOOKUP(B39,'2022'!$B$3:$F$100,2, FALSE) -> 152.5 | S39: =VLOOKUP(B39,'2022'!$B$3:$F$100,3, FALSE) -> 290 | T39: =VLOOKUP(B39,'2021'!$B$3:$F$100,2, FALSE) -> 153.5 | U39: =VLOOKUP(B39,'2021'!$B$3:$F$100,3, FALSE) -> 288 | V39: =VLOOKUP(B39,'2020'!$B$3:$F$100,2, FALSE) -> 134 | W39: =VLOOKUP(B39,'2020'!$B$3:$F$100,3, FALSE) -> 292 | X39: =VLOOKUP(B39,'2019'!$B$3:$F$100,2, FALSE) -> 167.5 | Y39: =VLOOKUP(B39,'2019'!$B$3:$F$100,3, FALSE) -> 300 | Z39: =VLOOKUP(B39,'2018'!$B$3:$F$100,2, FALSE) -> 140.5 | AA39: =VLOOKUP(B39,'2018'!$B$3:$F$100,3, FALSE) -> 290 | AB39: =VLOOKUP(B39,'2017'!$B$3:$F$100,2, FALSE) -> 126.5 | AC39: =VLOOKUP(B39,'2017'!$B$3:$F$100,3, FALSE) -> 252
A40: 36 | B40: Meyer, Pat | C40: =J40+L40+N40+P40+R40+T40+V40+X40+Z40+AB40+AD40+AF40 -> 1687.5 | D40: =K40+M40+O40+Q40+S40+U40+W40+Y40+AA40+AC40+AE40+AG40 -> 3455 | E40: =C40/D40 -> 0.48842258 | F40: =COUNT(J40:AAM40)/2 -> 12 | G40: =INDEX(Records!$B$4:$D$102,MATCH(B40,Records!$C$4:$C$102,0),1) -> 6th | H40: =INDEX(Records!$F$4:$H$102,MATCH(B40,Records!$G$4:$G$102,0),1) -> 30th | J40: =VLOOKUP(B40,'2026'!$B$3:$F$92,2, FALSE) -> 81 | K40: =VLOOKUP(B40,'2026'!$B$3:$F$92,3, FALSE) -> 180 | L40: =VLOOKUP(B40,'2025'!$B$3:$F$100,2, FALSE) -> 145 | M40: =VLOOKUP(B40,'2025'!$B$3:$F$100,3, FALSE) -> 285 | N40: =VLOOKUP(B40,'2024'!$B$3:$F$100,2, FALSE) -> 152 | O40: =VLOOKUP(B40,'2024'!$B$3:$F$100,3, FALSE) -> 310 | P40: =VLOOKUP(B40,'2023'!$B$3:$F$100,2, FALSE) -> 148.5 | Q40: =VLOOKUP(B40,'2023'!$B$3:$F$100,3, FALSE) -> 290 | R40: =VLOOKUP(B40,'2022'!$B$3:$F$100,2, FALSE) -> 133.5 | S40: =VLOOKUP(B40,'2022'!$B$3:$F$100,3, FALSE) -> 290 | T40: =VLOOKUP(B40,'2021'!$B$3:$F$100,2, FALSE) -> 144.5 | U40: =VLOOKUP(B40,'2021'!$B$3:$F$100,3, FALSE) -> 288 | V40: =VLOOKUP(B40,'2020'!$B$3:$F$100,2, FALSE) -> 144 | W40: =VLOOKUP(B40,'2020'!$B$3:$F$100,3, FALSE) -> 292 | X40: =VLOOKUP(B40,'2019'!$B$3:$F$100,2, FALSE) -> 141.5 | Y40: =VLOOKUP(B40,'2019'!$B$3:$F$100,3, FALSE) -> 300 | Z40: =VLOOKUP(B40,'2018'!$B$3:$F$100,2, FALSE) -> 132.5 | AA40: =VLOOKUP(B40,'2018'!$B$3:$F$100,3, FALSE) -> 290 | AB40: =VLOOKUP(B40,'2017'!$B$3:$F$100,2, FALSE) -> 137.5 | AC40: =VLOOKUP(B40,'2017'!$B$3:$F$100,3, FALSE) -> 290 | AD40: =VLOOKUP(B40,'2016'!$B$3:$F$100,2, FALSE) -> 152 | AE40: =VLOOKUP(B40,'2016'!$B$3:$F$100,3, FALSE) -> 290 | AF40: =VLOOKUP(B40,'2015'!$B$3:$F$100,2, FALSE) -> 175.5 | AG40: =VLOOKUP(B40,'2015'!$B$3:$F$100,3, FALSE) -> 350
A41: 37 | B41: Middleton, Jason | C41: =J41+L41+N41+P41+R41+T41+V41+X41+Z41+AB41+AD41+AF41 -> 132.5 | D41: =K41+M41+O41+Q41+S41+U41+W41+Y41+AA41+AC41+AE41+AG41 -> 290 | E41: =C41/D41 -> 0.45689655 | F41: =COUNT(J41:AAM41)/2 -> 1 | G41: =INDEX(Records!$B$4:$D$102,MATCH(B41,Records!$C$4:$C$102,0),1) -> 65th | H41: =INDEX(Records!$F$4:$H$102,MATCH(B41,Records!$G$4:$G$102,0),1) -> 57th | R41: =VLOOKUP(B41,'2022'!$B$3:$F$100,2, FALSE) -> 132.5 | S41: =VLOOKUP(B41,'2022'!$B$3:$F$100,3, FALSE) -> 290
...

Sheet Records
C1: 500+ increment cutoffs | D1: no 2026 | K1: Best Yearly Percentage : (Top 25) | S1: Best Non-Yearly Percentage : (Top 10) | AA1: 50%+ Consecutive Years | AG1: All-Time Correct Milestones | AO1: Most Weekly Wins in a Year | AT1: Update each Week | AW1: Best Guarantee % (Full Season)
C3: All-Time Correct | D3: Cor. | G3: All-Time % | H3: % | K3: Name | L3: % | M3: Correct | O3: Total | P3: Year | S3: Name | T3: % | U3: Correct | W3: Total | X3: Year | AA3: Name | AB3: #Yrs | AC3: Years | AD3: Streak Alive? | AG3: 1500+ All-Time Correct | AH3: % | AO3: Name | AP3: WW | AQ3: Year | AT3: All-Time Weekly Wins | AU3: WW | AW3: Best Guarantee Percentage: | BB3: Year
B4: 1st | C4: Roberts, Jeff | D4: =VLOOKUP(C4,College!$B$5:$E$124,2, FALSE) -> 1716 | F4: 1st | G4: Seamands, Nathan | H4: =VLOOKUP(G4,College!$B$5:$E$124,4, FALSE) -> 0.52688172 | J4: 1st | K4: Hamilton, Hunter | L4: 0.56724138 | M4: 164.5 | N4: / | O4: 290 | P4: 2023 | R4: 1st | S4: Conklin, Don | T4: 0.58413462 | U4: 121.5 | V4: / | W4: 208 | X4: 2021 | Z4: 1st-T | AA4: Clarke, Benjamin | AB4: 3 | AC4: (2021-2023) | AD4: No | AF4: 1st | AG4: Bradley, Ken | AH4: =AI4/AK4 -> 0.50016622 | AI4: 1504.5 | AJ4: / | AK4: 3008 | AL4: (Week 1 - 2025) | AN4: 1st | AO4: Meyer, Pat | AP4: 4.1666667 | AQ4: 2016 | AS4: 1st | AT4: Meyer, Pat | AU4: =VLOOKUP(AT4,'Weekly Wins'!$B$3:$C$1002,2, FALSE) -> 17.041667 | AW4: Meyer, Dave | AX4: =AY4/BA4 -> 0.72058824 | AY4: 24.5 | AZ4: / | BA4: 34 | BB4: 2019
B5: 2nd | C5: Bradley, Ken | D5: =VLOOKUP(C5,College!$B$5:$E$124,2, FALSE) -> 1714.5 | F5: 2nd | G5: Hamilton, Hunter | H5: =VLOOKUP(G5,College!$B$5:$E$124,4, FALSE) -> 0.51690141 | J5: 2nd | K5: Meyer, Dave | L5: 0.55833333 | M5: 167.5 | N5: / | O5: 300 | P5: 2019 | R5: 2nd | S5: Seamands, Natalie | T5: 0.53947368 | U5: 102.5 | V5: / | W5: 190 | X5: 2023 | Z5: 1st-T | AA5: Curran, Taylor | AB5: 3 | AC5: (2021-2023) | AD5: No | AF5: 2nd | AG5: Roberts, Jeff | AH5: =AI5/AK5 -> 0.49900266 | AI5: 1501 | AJ5: / | AK5: 3008 | AL5: (Week 1 - 2025) | AN5: 2nd | AO5: Fortner, Mara | AP5: 3.2 | AQ5: 2025 | AS5: 2nd | AT5: Fortner, Mara | AU5: =VLOOKUP(AT5,'Weekly Wins'!$B$3:$C$1002,2, FALSE) -> 11.783333 | AW5: Bradley, Ken | AX5: =AY5/BA5 -> 0.71428571 | AY5: 25 | AZ5: / | BA5: 35 | BB5: 2025
B6: 3rd | C6: Curran, Kevin | D6: =VLOOKUP(C6,College!$B$5:$E$124,2, FALSE) -> 1711.5 | F6: 3rd | G6: Greenwood, Nathan | H6: =VLOOKUP(G6,College!$B$5:$E$124,4, FALSE) -> 0.5099631 | J6: 3rd | K6: Curran, Kevin | L6: 0.55689655 | M6: 161.5 | N6: / | O6: 290 | P6: 2023 | R6: 3rd | S6: Conklin, Don | T6: 0.5234375 | U6: 134 | V6: / | W6: 256 | X6: 2022 | Z6: 1st-T | AA6: Greenwood, Douglas | AB6: 3 | AC6: (2021-2023) | AD6: No | AF6: 3rd | AG6: Seamands, Byron | AH6: =AI6/AK6 -> 0.49392247 | AI6: 1503.5 | AJ6: / | AK6: 3044 | AL6: (Week 3 - 2025) | AN6: 3rd | AO6: Conklin, Don | AP6: 3 | AQ6: 2021 | AS6: 3rd | AT6: Seamands, Byron | AU6: =VLOOKUP(AT6,'Weekly Wins'!$B$3:$C$1002,2, FALSE) -> 10.658333 | AW6: Folmar, James | AX6: =AY6/BA6 -> 0.70588235 | AY6: 24 | AZ6: / | BA6: 34 | BB6: 2019
B7: - | C7: FPL College | D7: =VLOOKUP(C7,College!$B$5:$E$124,2, FALSE) -> 1696 | F7: 4th | G7: Olmos, Donny | H7: =VLOOKUP(G7,College!$B$5:$E$124,4, FALSE) -> 0.50583333 | J7: 4th | K7: Folmar, James | L7: 0.555 | M7: 166.5 | N7: / | O7: 300 | P7: 2019 | R7: 4th-T | S7: Harper, Kenneth | T7: 0.5037037 | U7: 136 | V7: / | W7: 270 | X7: 2024 | Z7: 1st-T | AA7: Meyer, Dave | AB7: 3 | AC7: (2021-2023) | AD7: No | AF7: 4th | AG7: Curran, Kevin | AH7: =AI7/AK7 -> 0.49281515 | AI7: 1509 | AJ7: / | AK7: 3062 | AL7: (Week 4 - 2025) | AN7: 4th | AO7: Clarke, Benjamin | AP7: 2.8333333 | AQ7: 2018 | AS7: 4th | AT7: Meyer, Dave | AU7: =VLOOKUP(AT7,'Weekly Wins'!$B$3:$C$1002,2, FALSE) -> 8.4345238 | AW7: Bradley, Ken | AX7: =AY7/BA7 -> 0.703125 | AY7: 22.5 | AZ7: / | BA7: 32 | BB7: 2023
B8: 4th | C8: Seamands, Jorden | D8: =VLOOKUP(C8,College!$B$5:$E$124,2, FALSE) -> 1694.5 | F8: 5th | G8: Williams, Reilee | H8: =VLOOKUP(G8,College!$B$5:$E$124,4, FALSE) -> 0.50516129 | J8: 5th | K8: Fortner, Mara | L8: 0.55136986 | M8: 161 | N8: / | O8: 292 | P8: 2020 | R8: 4th-T | S8: Purschwitz, Dan | T8: 0.5037037 | U8: 136 | V8: / | W8: 270 | X8: 2024 | Z8: 1st-T | AA8: Curran, Taylor | AB8: 3 | AC8: (2016-2017; 2019) | AD8: No | AG8: FPL College | AH8: =AI8/AK8 -> 0.49134553 | AI8: 1504.5 | AJ8: / | AK8: 3062 | AL8: (Week 4 - 2025) | AN8: 5th-T | AO8: Fortner, Mara | AP8: 2.5 | AQ8: 2020 | AS8: 5th | AT8: Curran, Kevin | AU8: =VLOOKUP(AT8,'Weekly Wins'!$B$3:$C$1002,2, FALSE) -> 8.2 | AW8: Seamands, Nathan | AX8: =AY8/BA8 -> 0.68571429 | AY8: 24 | AZ8: / | BA8: 35 | BB8: 2025
B9: 5th | C9: Fortner, Mara | D9: =VLOOKUP(C9,College!$B$5:$E$124,2, FALSE) -> 1688.5 | F9: 6th | G9: Vance, Jeremy | H9: =VLOOKUP(G9,College!$B$5:$E$124,4, FALSE) -> 0.50277228 | J9: 6th | K9: Greenwood, Douglas | L9: 0.55034722 | M9: 158.5 | N9: / | O9: 288 | P9: 2021 | R9: 6th | S9: Meyer, Dave | T9: 0.50198413 | U9: 126.5 | V9: / | W9: 252 | X9: 2017 | Z9: 1st-T | AA9: Scoville, Jordan | AB9: 3 | AC9: (2017-2019) | AD9: No | AF9: 5th | AG9: Seamands, Jorden | AH9: =AI9/AK9 -> 0.49118223 | AI9: 1504 | AJ9: / | AK9: 3062 | AL9: (Week 4 - 2025) | AN9: 5th-T | AO9: Meyer, Pat | AP9: 2.5 | AQ9: 2018 | AS9: 6th | AT9: Alsobrook, Luke | AU9: =VLOOKUP(AT9,'Weekly Wins'!$B$3:$C$1002,2, FALSE) -> 7.75 | AW9: Vance, Jeremy | AX9: =AY9/BA9 -> 0.671875 | AY9: 21.5 | AZ9: / | BA9: 32 | BB9: 2023
B10: 6th | C10: Meyer, Pat | D10: =VLOOKUP(C10,College!$B$5:$E$124,2, FALSE) -> 1687.5 | F10: 7th | G10: Seamands, Natalie | H10: =VLOOKUP(G10,College!$B$5:$E$124,4, FALSE) -> 0.50207254 | J10: 7th | K10: Clarke, Benjamin | L10: 0.55 | M10: 159.5 | N10: / | O10: 290 | P10: 2023 | R10: 7th | S10: Folmar, James | T10: 0.48809524 | U10: 102.5 | V10: / | W10: 210 | X10: 2017 | Z10: 1st-T | AA10: Miller, Chris | AB10: 3 | AC10: (2015-2017) | AD10: No | AF10: 6th | AG10: Baze, Drew | AH10: =AI10/AK10 -> 0.49004894 | AI10: 1502 | AJ10: / | AK10: 3065 | AL10: (Week 7 - 2026) | AN10: 5th-T | AO10: Seamands, Jorden | AP10: 2.5 | AQ10: 2018 | AS10: 7th | AT10: Seamands, Jorden | AU10: =VLOOKUP(AT10,'Weekly Wins'!$B$3:$C$1002,2, FALSE) -> 7.0428571 | AW10: Baze, Drew | AX10: =AY10/BA10 -> 0.66666667 | AY10: 20 | AZ10: / | BA10: 30 | BB10: 2016
B11: 7th | C11: Miller, Chris | D11: =VLOOKUP(C11,College!$B$5:$E$124,2, FALSE) -> 1668.5 | F11: 8th | G11: Honeycutt, Terry | H11: =VLOOKUP(G11,College!$B$5:$E$124,4, FALSE) -> 0.50150038 | J11: 8th | K11: Meyer, Austen | L11: 0.54452055 | M11: 159 | N11: / | O11: 292 | P11: 2020 | R11: 8th | S11: Sloan, Kenneth | T11: 0.47985348 | U11: 131 | V11: / | W11: 273 | X11: 2022 | Z11: 8th-T | AA11: Bradley, Ken | AB11: 2 | AC11: (2023-2024) | AD11: No | AF11: 7th | AG11: Fortner, Mara | AH11: =AI11/AK11 -> 0.48896104 | AI11: 1506 | AJ11: / | AK11: 3080 | AL11: (Week 5 - 2025) | AN11: 5th-T | AO11: Scoville, Jordan | AP11: 2.5 | AQ11: 2017 | AS11: 8th | AT11: Scoville, Jordan | AU11: =VLOOKUP(AT11,'Weekly Wins'!$B$3:$C$1002,2, FALSE) -> 6.6166667 | AW11: Alvarez, Justin | AX11: =AY11/BA11 -> 0.66176471 | AY11: 22.5 | AZ11: / | BA11: 34 | BB11: 2019
B12: 8th | C12: Seamands, Byron | D12: =VLOOKUP(C12,College!$B$5:$E$124,2, FALSE) -> 1625.5 | F12: 9th | G12: Curran, Taylor | H12: =VLOOKUP(G12,College!$B$5:$E$124,4, FALSE) -> 0.50106572 | J12: 9th | K12: Seamands, Byron | L12: 0.54109589 | M12: 158 | N12: / | O12: 292 | P12: 2020 | R12: 9th | S12: Easley, Jordan | T12: 0.47122302 | U12: 65.5 | V12: / | W12: 139 | X12: 2025 | Z12: 8th-T | AA12: Fortner, Glenn | AB12: 2 | AC12: (2023-2024) | AD12: Yes | AF12: 8th | AG12: Meyer, Pat | AH12: =AI12/AK12 -> 0.48831169 | AI12: 1504 | AJ12: / | AK12: 3080 | AL12: (Week 5 - 2025) | AN12: 9th-T | AO12: Conklin, Don | AP12: 2.3333333 | AQ12: 2023 | AS12: 9th | AT12: Clarke, Benjamin | AU12: =VLOOKUP(AT12,'Weekly Wins'!$B$3:$C$1002,2, FALSE) -> 6.5666667 | AW12: Hamilton, Hunter | AX12: =AY12/BA12 -> 0.65625 | AY12: 21 | AZ12: / | BA12: 32 | BB12: 2023
B13: 9th | C13: Baze, Drew | D13: =VLOOKUP(C13,College!$B$5:$E$124,2, FALSE) -> 1525 | F13: 10th | G13: Meyer, Dave | H13: =VLOOKUP(G13,College!$B$5:$E$124,4, FALSE) -> 0.50090025 | J13: 10th | K13: Williams, Reilee | L13: 0.54035088 | M13: 154 | N13: / | O13: 285 | P13: 2025 | R13: 10th | S13: Kraus, Will | T13: 0.4280303 | U13: 113 | V13: / | W13: 264 | X13: 2024 | Z13: 8th-T | AA13: Harper, Kenneth | AB13: 2 | AC13: (2023-2024) | AD13: No | AF13: 9th | AG13: Miller, Chris | AH13: =AI13/AK13 -> 0.4854745 | AI13: 1504 | AJ13: / | AK13: 3098 | AL13: (Week 6 - 2025) | AN13: 9th-T | AO13: Meyer, Pat | AP13: 2.3333333 | AQ13: 2020 | AS13: 10th | AT13: Miller, Chris | AU13: =VLOOKUP(AT13,'Weekly Wins'!$B$3:$C$1002,2, FALSE) -> 6.1666667 | AW13: Meyer, Pat | AX13: =AY13/BA13 -> 0.65625 | AY13: 21 | AZ13: / | BA13: 32 | BB13: 2021
B14: 10th | C14: Fortner, Jason | D14: =VLOOKUP(C14,College!$B$5:$E$124,2, FALSE) -> 1505 | F14: 11th | G14: Rapisand, Ryan | H14: =VLOOKUP(G14,College!$B$5:$E$124,4, FALSE) -> 0.49857143 | J14: 11th | K14: Seamands, Jorden | L14: 0.53993056 | M14: 155.5 | N14: / | O14: 288 | P14: 2021 | S14: Mackey, Doyle | T14: 0.41111111 | U14: 37 | W14: 90 | X14: 2017 | Z14: 8th-T | AA14: Roberts, Jeff | AB14: 2 | AC14: (2023-2024) | AD14: No | AF14: 10th | AG14: Fortner, Jason | AH14: =AI14/AK14 -> 0.48470209 | AI14: 1505 | AJ14: / | AK14: 3105 | AL14: (Week 9 - 2026) | AN14: 11th | AO14: Curran, Kevin | AP14: 2.25 | AQ14: 2016 | AS14: 11th | AT14: Meyer, Austen | AU14: =VLOOKUP(AT14,'Weekly Wins'!$B$3:$C$1002,2, FALSE) -> 5.8333333 | AW14: Baze, Drew | AX14: =AY14/BA14 -> 0.64705882 | AY14: 22 | AZ14: / | BA14: 34 | BB14: 2020
B15: 11th | C15: Curran, Taylor | D15: =VLOOKUP(C15,College!$B$5:$E$124,2, FALSE) -> 1410.5 | F15: 12th | G15: Roberts, Jeff | H15: =VLOOKUP(G15,College!$B$5:$E$124,4, FALSE) -> 0.49667149 | J15: 12th-T | K15: Baze, Drew | L15: 0.53965517 | M15: 156.5 | N15: / | O15: 290 | P15: 2023 | Z15: 8th-T | AA15: Seamands, Byron | AB15: 2 | AC15: (2023-2024) | AD15: No | AG15: Curran, Taylor | AH15: =AI15/AK15 -> 0.50106572 | AI15: =VLOOKUP(AG15,College!$B$2:$H$1007,2, FALSE) -> 1410.5 | AJ15: / | AK15: =VLOOKUP(AG15,College!$B$2:$H$1007,3, FALSE) -> 2815 | AL15: (Week x - 2026) | AN15: 12th | AO15: Seamands, Byron | AP15: 2.125 | AQ15: 2019 | AS15: 12th | AT15: Easley, Jordan | AU15: =VLOOKUP(AT15,'Weekly Wins'!$B$3:$C$1002,2, FALSE) -> 5.7678571 | AW15: Curran, Taylor | AX15: =AY15/BA15 -> 0.64705882 | AY15: 22 | AZ15: / | BA15: 34 | BB15: 2019
B16: 12th | C16: Meyer, Dave | D16: =VLOOKUP(C16,College!$B$5:$E$124,2, FALSE) -> 1391 | F16: 13th | G16: Seamands, Byron | H16: =VLOOKUP(G16,College!$B$5:$E$124,4, FALSE) -> 0.49633588 | J16: 12th-T | K16: Clarke, Benjamin | L16: 0.53965517 | M16: 156.5 | N16: / | O16: 290 | P16: 2022 | Z16: 8th-T | AA16: Seamands, Natalie | AB16: 2 | AC16: (2023-2024) | AD16: No | AN16: 13th-T | AO16: Seamands, Byron | AP16: 2 | AQ16: 2024 | AS16: 13th | AT16: Conklin, Don | AU16: =VLOOKUP(AT16,'Weekly Wins'!$B$3:$C$1002,2, FALSE) -> 5.6666667 | AW16: Honeycutt, Terry | AX16: =AY16/BA16 -> 0.640625 | AY16: 20.5 | AZ16: / | BA16: 32 | BB16: 2021
B17: 13th | C17: Scoville, Jordan | D17: =VLOOKUP(C17,College!$B$5:$E$124,2, FALSE) -> 1383 | F17: 14th | G17: Bradley, Ken | H17: =VLOOKUP(G17,College!$B$5:$E$124,4, FALSE) -> 0.49623734 | J17: 14th | K17: Roberts, Jeff | L17: 0.53833333 | M17: 161.5 | N17: / | O17: 300 | P17: 2019 | Z17: 8th-T | AA17: Scoville, Jordan | AB17: 2 | AC17: (2023-2024) | AD17: No | AG17: 1000+ All-Time Correct | AH17: % | AN17: 13th-T | AO17: Meyer, Pat | AP17: 2 | AQ17: 2023 | AS17: 14th | AT17: Fortner, Glenn | AU17: =VLOOKUP(AT17,'Weekly Wins'!$B$3:$C$1002,2, FALSE) -> 4.95 | AW17: Roberts, Jeff | AX17: =AY17/BA17 -> 0.63235294 | AY17: 21.5 | AZ17: / | BA17: 34 | BB17: 2019
B18: 14th | C18: Folmar, James | D18: =VLOOKUP(C18,College!$B$5:$E$124,2, FALSE) -> 1314 | F18: 15th | G18: Curran, Kevin | H18: =VLOOKUP(G18,College!$B$5:$E$124,4, FALSE) -> 0.49536903 | J18: 15th | K18: Fortner, Mara | L18: 0.53684211 | M18: 153 | N18: / | O18: 285 | P18: 2025 | Z18: 8th-T | AA18: Smith, Shawn | AB18: 2 | AC18: (2023-2024) | AD18: No | AF18: 1st | AG18: Meyer, Dave | AH18: 0.51280738 | AI18: 1001 | AJ18: / | AK18: 1952 | AL18: (Week 12 - 2023) | AN18: 13th-T | AO18: Easley, Jordan | AP18: 2 | AQ18: 2021 | AS18: 15th | AT18: Curran, Taylor | AU18: =VLOOKUP(AT18,'Weekly Wins'!$B$3:$C$1002,2, FALSE) -> 4.1761905 | AW18: Harper, Kenneth | AX18: =AY18/BA18 -> 0.625 | AY18: 20 | AZ18: / | BA18: 32 | BB18: 2023
B19: 15th | C19: Fortner, Glenn | D19: =VLOOKUP(C19,College!$B$5:$E$124,2, FALSE) -> 1303 | F19: 16th | G19: Conklin, Don | H19: =VLOOKUP(G19,College!$B$5:$E$124,4, FALSE) -> 0.49509483 | J19: 16th-T | K19: Greenwood, Douglas | L19: 0.5362069 | M19: 155.5 | N19: / | O19: 290 | P19: 2023 | Z19: 8th-T | AA19: Honeycutt, Terry | AB19: 2 | AC19: (2021-2022) | AD19: No | AF19: 2nd | AG19: Curran, Taylor | AH19: 0.51040609 | AI19: 1005.5 | AJ19: / | AK19: 1970 | AL19: (Week 11 - 2023) | AN19: 13th-T | AO19: Seamands, Byron | AP19: 2 | AQ19: 2020 | AS19: 16th | AT19: Folmar, James | AU19: =VLOOKUP(AT19,'Weekly Wins'!$B$3:$C$1002,2, FALSE) -> 4.1666667 | AW19: Curran, Taylor | AX19: =AY19/BA19 -> 0.625 | AY19: 20 | AZ19: / | BA19: 32 | BB19: 2023
B20: 16th | C20: Meyer, Austen | D20: =VLOOKUP(C20,College!$B$5:$E$124,2, FALSE) -> 1276 | F20: 17th | G20: Clarke, Benjamin | H20: =VLOOKUP(G20,College!$B$5:$E$124,4, FALSE) -> 0.49485149 | J20: 16th-T | K20: Harper, Kenneth | L20: 0.5362069 | M20: 155.5 | N20: / | O20: 290 | P20: 2023 | Z20: 8th-T | AA20: Seamands, Jorden | AB20: 2 | AC20: (2020-2021) | AD20: No | AF20: 3rd | AG20: Bradley, Ken | AH20: 0.49950298 | AI20: 1005 | AJ20: / | AK20: 2012 | AL20: (Week 10 - 2021) | AN20: 13th-T | AO20: Meyer, Dave | AP20: 2 | AQ20: 2018 | AS20: 17th | AT20: Howard, Bill | AU20: =VLOOKUP(AT20,'Weekly Wins'!$B$3:$C$1002,2, FALSE) -> 3.95 | AW20: Curran, Taylor | AX20: =AY20/BA20 -> 0.625 | AY20: 20 | AZ20: / | BA20: 32 | BB20: 2022
B21: 17th | C21: Vance, Jeremy | D21: =VLOOKUP(C21,College!$B$5:$E$124,2, FALSE) -> 1269.5 | F21: 18th | G21: Zorn, Chad | H21: =VLOOKUP(G21,College!$B$5:$E$124,4, FALSE) -> 0.49482759 | J21: 18th | K21: Baze, Drew | L21: 0.535 | M21: 160.5 | N21: / | O21: 300 | P21: 2019 | Z21: 8th-T | AA21: Folmar, James | AB21: 2 | AC21: (2019-2020) | AD21: No | AF21: 4th | AG21: Vance, Jeremy | AH21: 0.49901478 | AI21: 1013 | AJ21: / | AK21: 2030 | AL21: (Week 14 - 2024) | AN21: 13th-T | AO21: Alsobrook, Luke | AP21: 2 | AQ21: 2017 | AS21: 18th | AT21: Greenwood, Nathan | AU21: =VLOOKUP(AT21,'Weekly Wins'!$B$3:$C$1002,2, FALSE) -> 3.8095238 | AW21: Baze, Drew | AX21: =AY21/BA21 -> 0.625 | AY21: 20 | AZ21: / | BA21: 32 | BB21: 2022
B22: 18th | C22: Clarke, Benjamin | D22: =VLOOKUP(C22,College!$B$5:$E$124,2, FALSE) -> 1249.5 | F22: 19th | G22: Fortner, Glenn | H22: =VLOOKUP(G22,College!$B$5:$E$124,4, FALSE) -> 0.49356061 | J22: 19th | K22: Meyer, Dave | L22: 0.53298611 | M22: 153.5 | N22: / | O22: 288 | P22: 2021 | Z22: 8th-T | AA22: Seamands, Byron | AB22: 2 | AC22: (2019-2020) | AD22: No | AF22: 5th | AG22: Clarke, Benjamin | AH22: 0.49850746 | AI22: 1002 | AJ22: / | AK22: 2010 | AL22: (Week 13 - 2024) | AN22: 13th-T | AO22: Howard, Bill | AP22: 2 | AQ22: 2015 | AS22: 19th | AT22: Bradley, Ken | AU22: =VLOOKUP(AT22,'Weekly Wins'!$B$3:$C$1002,2, FALSE) -> 3.6845238 | AW22: Curran, Kevin | AX22: =AY22/BA22 -> 0.61764706 | AY22: 21 | AZ22: / | BA22: 34 | BB22: 2020
B23: 19th | C23: Greenwood, Douglas | D23: =VLOOKUP(C23,College!$B$5:$E$124,2, FALSE) -> 1225.5 | F23: 20th | G23: Smith, Shawn | H23: =VLOOKUP(G23,College!$B$5:$E$124,4, FALSE) -> 0.49330144 | J23: 20th-T | K23: Bradley, Ken | L23: 0.53285714 | M23: 186.5 | N23: / | O23: 350 | P23: 2015 | Z23: 8th-T | AA23: Vance, Jeremy | AB23: 2 | AC23: (2019-2020) | AD23: No | AF23: 6th | AG23: Roberts, Jeff | AH23: 0.49679961 | AI23: 1009 | AJ23: / | AK23: 2031 | AL23: (Week 11 - 2021) | AN23: 13th-T | AO23: Meyer, Pat | AP23: 2 | AQ23: 2015 | AS23: 20th | AT23: Roberts, Jeff | AU23: =VLOOKUP(AT23,'Weekly Wins'!$B$3:$C$1002,2, FALSE) -> 3.575 | AW23: Baze, Drew | AX23: =AY23/BA23 -> 0.61764706 | AY23: 21 | AZ23: / | BA23: 34 | BB23: 2019
B24: 20th | C24: Easley, Jordan | D24: =VLOOKUP(C24,College!$B$5:$E$124,2, FALSE) -> 1185.5 | F24: 21st | G24: Pearce, Andrew | H24: =VLOOKUP(G24,College!$B$5:$E$124,4, FALSE) -> 0.49137931 | J24: 20th-T | K24: Miller, Chris | L24: 0.53285714 | M24: 186.5 | N24: / | O24: 350 | P24: 2015 | Z24: 8th-T | AA24: Seamands, Jorden | AB24: 2 | AC24: (2017-2018) | AD24: No | AF24: 7th-T | AG24: Fortner, Mara | AH24: 0.49507632 | AI24: 1005.5 | AJ24: / | AK24: 2031 | AL24: (Week 11 - 2021) | AN24: 13th-T | AO24: Seamands, Byron | AP24: 2 | AQ24: 2015 | AS24: 21st | AT24: Vance, Jeremy | AU24: =VLOOKUP(AT24,'Weekly Wins'!$B$3:$C$1002,2, FALSE) -> 2.8428571 | AW24: Curran, Kevin | AX24: =AY24/BA24 -> 0.61764706 | AY24: 21 | AZ24: / | BA24: 34 | BB24: 2019
B25: 21st | C25: Alsobrook, Luke | D25: =VLOOKUP(C25,College!$B$5:$E$124,2, FALSE) -> 1118.5 | F25: 22nd | G25: Scoville, Jordan | H25: =VLOOKUP(G25,College!$B$5:$E$124,4, FALSE) -> 0.49129663 | J25: 22nd | K25: Curran, Taylor | L25: 0.53275862 | M25: 154.5 | N25: / | O25: 290 | P25: 2023 | Z25: 8th-T | AA25: Fortner, Mara | AB25: 2 | AC25: (2015-2016) | AD25: No | AF25: 7th-T | AG25: Seamands, Jorden | AH25: 0.49507632 | AI25: 1005.5 | AJ25: / | AK25: 2031 | AL25: (Week 11 - 2021) | AN25: 22nd | AO25: Fortner, Mara | AP25: 1.8333333 | AQ25: 2016 | AS25: 22nd-T | AT25: Curran, Haley | AU25: =VLOOKUP(AT25,'Weekly Wins'!$B$3:$C$1002,2, FALSE) -> 2.5 | AW25: Meyer, Pat | AX25: =AY25/BA25 -> 0.609375 | AY25: 19.5 | AZ25: / | BA25: 32 | BB25: 2023
B26: 22nd | C26: Manuel, Greg | D26: =VLOOKUP(C26,College!$B$5:$E$124,2, FALSE) -> 857.5 | F26: 23rd | G26: Baze, Drew | H26: =VLOOKUP(G26,College!$B$5:$E$124,4, FALSE) -> 0.49114332 | J26: 23rd | K26: Smith, Brad | L26: 0.53225806 | M26: 165 | N26: / | O26: 310 | P26: 2024 | Z26: 8th-T | AA26: Meyer, Pat | AB26: 2 | AC26: (2015-2016) | AD26: No | AF26: 9th | AG26: Seamands, Byron | AH26: 0.49458395 | AI26: 1004.5 | AJ26: / | AK26: 2031 | AL26: (Week 11 - 2021) | AN26: 23rd | AO26: Fortner, Mara | AP26: 1.75 | AQ26: 2019 | AS26: 22nd-T | AT26: Greenwood, Douglas | AU26: =VLOOKUP(AT26,'Weekly Wins'!$B$3:$C$1002,2, FALSE) -> 2.5 | AW26: Curran, Kevin | AX26: =AY26/BA26 -> 0.609375 | AY26: 19.5 | AZ26: / | BA26: 32 | BB26: 2022
B27: 23rd | C27: Conklin, Don | D27: =VLOOKUP(C27,College!$B$5:$E$124,2, FALSE) -> 757 | F27: - | G27: FPL College | H27: =VLOOKUP(G27,College!$B$5:$E$124,4, FALSE) -> 0.49088278 | J27: 24th | K27: Vance, Jeremy | L27: 0.53166667 | M27: 159.5 | N27: / | O27: 300 | P27: 2019 | AF27: 10th | AG27: Greenwood, Douglas | AH27: 0.49458128 | AI27: 1004 | AJ27: / | AK27: 2030 | AL27: (Week 14 - 2024) | AN27: 24th | AO27: Seamands, Nathan | AP27: 1.6666667 | AQ27: 2025 | AS27: 22nd-T | AT27: Olmos, Donny | AU27: =VLOOKUP(AT27,'Weekly Wins'!$B$3:$C$1002,2, FALSE) -> 2.5 | AW27: Seamands, Jorden | AX27: =AY27/BA27 -> 0.609375 | AY27: 19.5 | AZ27: / | BA27: 32 | BB27: 2022
B28: 24th | C28: Mackey, Doyle | D28: =VLOOKUP(C28,College!$B$5:$E$124,2, FALSE) -> 726 | F28: 24th | G28: Seamands, Jorden | H28: =VLOOKUP(G28,College!$B$5:$E$124,4, FALSE) -> 0.49044863 | J28: 25th-T | K28: Curran, Taylor | L28: 0.52951389 | M28: 152.5 | N28: / | O28: 288 | P28: 2021 | AA28: Williams, Reilee | AC28: 2025 | AD28: Yes | AF28: 11th | AG28: Alsobrook, Luke | AH28: =AI28/AK28 -> 0.49360865 | AI28: 1004 | AJ28: / | AK28: 2034 | AL28: (Week 12 - 2025) | AN28: 25th-T | AO28: Greenwood, Nathan | AP28: 1.5 | AQ28: 2025 | AS28: 22nd-T | AT28: Young, Michael | AU28: =VLOOKUP(AT28,'Weekly Wins'!$B$3:$C$1002,2, FALSE) -> 2.5 | AW28: Miller, Chris | AX28: =AY28/BA28 -> 0.609375 | AY28: 19.5 | AZ28: / | BA28: 32 | BB28: 2017
